BEGIN:VCALENDAR
VERSION:2.0
PRODID:-//Varhaug IL - ECPv6.15.20//NONSGML v1.0//EN
CALSCALE:GREGORIAN
METHOD:PUBLISH
X-WR-CALNAME:Varhaug IL
X-ORIGINAL-URL:https://www.vil.no
X-WR-CALDESC:Arrangement for Varhaug IL
REFRESH-INTERVAL;VALUE=DURATION:PT1H
X-Robots-Tag:noindex
X-PUBLISHED-TTL:PT1H
BEGIN:VTIMEZONE
TZID:UTC
BEGIN:STANDARD
TZOFFSETFROM:+0000
TZOFFSETTO:+0000
TZNAME:UTC
DTSTART:20250101T000000
END:STANDARD
END:VTIMEZONE
BEGIN:VEVENT
DTSTART;TZID=UTC:20260430T190000
DTEND;TZID=UTC:20260430T203000
DTSTAMP:20260425T154120
CREATED:20250924T080934Z
LAST-MODIFIED:20250924T080934Z
UID:10018528-1777575600-1777581000@www.vil.no
SUMMARY:Håndball Dame A
DESCRIPTION:
URL:https://www.vil.no/aktivitet/handball-dame-a-3/2026-04-30/
LOCATION:Varhaughallen\, Opstadvegen 583\, Varhaug\, 4360\, Norge
CATEGORIES:Manuelle bookinger
END:VEVENT
BEGIN:VEVENT
DTSTART;TZID=UTC:20260507T190000
DTEND;TZID=UTC:20260507T203000
DTSTAMP:20260425T154120
CREATED:20250924T080934Z
LAST-MODIFIED:20250924T080934Z
UID:10018529-1778180400-1778185800@www.vil.no
SUMMARY:Håndball Dame A
DESCRIPTION:
URL:https://www.vil.no/aktivitet/handball-dame-a-3/2026-05-07/
LOCATION:Varhaughallen\, Opstadvegen 583\, Varhaug\, 4360\, Norge
CATEGORIES:Manuelle bookinger
END:VEVENT
BEGIN:VEVENT
DTSTART;TZID=UTC:20260514T190000
DTEND;TZID=UTC:20260514T203000
DTSTAMP:20260425T154120
CREATED:20250924T080934Z
LAST-MODIFIED:20250924T080934Z
UID:10018530-1778785200-1778790600@www.vil.no
SUMMARY:Håndball Dame A
DESCRIPTION:
URL:https://www.vil.no/aktivitet/handball-dame-a-3/2026-05-14/
LOCATION:Varhaughallen\, Opstadvegen 583\, Varhaug\, 4360\, Norge
CATEGORIES:Manuelle bookinger
END:VEVENT
BEGIN:VEVENT
DTSTART;TZID=UTC:20260521T190000
DTEND;TZID=UTC:20260521T203000
DTSTAMP:20260425T154120
CREATED:20250924T080934Z
LAST-MODIFIED:20250924T080934Z
UID:10018531-1779390000-1779395400@www.vil.no
SUMMARY:Håndball Dame A
DESCRIPTION:
URL:https://www.vil.no/aktivitet/handball-dame-a-3/2026-05-21/
LOCATION:Varhaughallen\, Opstadvegen 583\, Varhaug\, 4360\, Norge
CATEGORIES:Manuelle bookinger
END:VEVENT
BEGIN:VEVENT
DTSTART;TZID=UTC:20260528T190000
DTEND;TZID=UTC:20260528T203000
DTSTAMP:20260425T154120
CREATED:20250924T080934Z
LAST-MODIFIED:20250924T080934Z
UID:10018532-1779994800-1780000200@www.vil.no
SUMMARY:Håndball Dame A
DESCRIPTION:
URL:https://www.vil.no/aktivitet/handball-dame-a-3/2026-05-28/
LOCATION:Varhaughallen\, Opstadvegen 583\, Varhaug\, 4360\, Norge
CATEGORIES:Manuelle bookinger
END:VEVENT
BEGIN:VEVENT
DTSTART;TZID=UTC:20260604T190000
DTEND;TZID=UTC:20260604T203000
DTSTAMP:20260425T154120
CREATED:20250924T080934Z
LAST-MODIFIED:20250924T080934Z
UID:10018533-1780599600-1780605000@www.vil.no
SUMMARY:Håndball Dame A
DESCRIPTION:
URL:https://www.vil.no/aktivitet/handball-dame-a-3/2026-06-04/
LOCATION:Varhaughallen\, Opstadvegen 583\, Varhaug\, 4360\, Norge
CATEGORIES:Manuelle bookinger
END:VEVENT
BEGIN:VEVENT
DTSTART;TZID=UTC:20260611T190000
DTEND;TZID=UTC:20260611T203000
DTSTAMP:20260425T154120
CREATED:20250924T080934Z
LAST-MODIFIED:20250924T080934Z
UID:10018534-1781204400-1781209800@www.vil.no
SUMMARY:Håndball Dame A
DESCRIPTION:
URL:https://www.vil.no/aktivitet/handball-dame-a-3/2026-06-11/
LOCATION:Varhaughallen\, Opstadvegen 583\, Varhaug\, 4360\, Norge
CATEGORIES:Manuelle bookinger
END:VEVENT
BEGIN:VEVENT
DTSTART;TZID=UTC:20260618T190000
DTEND;TZID=UTC:20260618T203000
DTSTAMP:20260425T154120
CREATED:20250924T080934Z
LAST-MODIFIED:20250924T080934Z
UID:10018535-1781809200-1781814600@www.vil.no
SUMMARY:Håndball Dame A
DESCRIPTION:
URL:https://www.vil.no/aktivitet/handball-dame-a-3/2026-06-18/
LOCATION:Varhaughallen\, Opstadvegen 583\, Varhaug\, 4360\, Norge
CATEGORIES:Manuelle bookinger
END:VEVENT
BEGIN:VEVENT
DTSTART;TZID=UTC:20260625T190000
DTEND;TZID=UTC:20260625T203000
DTSTAMP:20260425T154120
CREATED:20250924T080934Z
LAST-MODIFIED:20250924T080934Z
UID:10018536-1782414000-1782419400@www.vil.no
SUMMARY:Håndball Dame A
DESCRIPTION:
URL:https://www.vil.no/aktivitet/handball-dame-a-3/2026-06-25/
LOCATION:Varhaughallen\, Opstadvegen 583\, Varhaug\, 4360\, Norge
CATEGORIES:Manuelle bookinger
END:VEVENT
END:VCALENDAR