BEGIN:VCALENDAR
VERSION:2.0
PRODID:-//Varhaug IL - ECPv6.15.20//NONSGML v1.0//EN
CALSCALE:GREGORIAN
METHOD:PUBLISH
X-WR-CALNAME:Varhaug IL
X-ORIGINAL-URL:https://www.vil.no
X-WR-CALDESC:Arrangement for Varhaug IL
REFRESH-INTERVAL;VALUE=DURATION:PT1H
X-Robots-Tag:noindex
X-PUBLISHED-TTL:PT1H
BEGIN:VTIMEZONE
TZID:UTC
BEGIN:STANDARD
TZOFFSETFROM:+0000
TZOFFSETTO:+0000
TZNAME:UTC
DTSTART:20250101T000000
END:STANDARD
END:VTIMEZONE
BEGIN:VEVENT
DTSTART;TZID=UTC:20260430T180000
DTEND;TZID=UTC:20260430T190000
DTSTAMP:20260425T154121
CREATED:20250924T080850Z
LAST-MODIFIED:20250924T080850Z
UID:10018488-1777572000-1777575600@www.vil.no
SUMMARY:Håndball G10
DESCRIPTION:
URL:https://www.vil.no/aktivitet/handball-g10-2/2026-04-30/
LOCATION:Varhaughallen\, Opstadvegen 583\, Varhaug\, 4360\, Norge
CATEGORIES:Manuelle bookinger
END:VEVENT
BEGIN:VEVENT
DTSTART;TZID=UTC:20260507T180000
DTEND;TZID=UTC:20260507T190000
DTSTAMP:20260425T154121
CREATED:20250924T080850Z
LAST-MODIFIED:20250924T080850Z
UID:10018489-1778176800-1778180400@www.vil.no
SUMMARY:Håndball G10
DESCRIPTION:
URL:https://www.vil.no/aktivitet/handball-g10-2/2026-05-07/
LOCATION:Varhaughallen\, Opstadvegen 583\, Varhaug\, 4360\, Norge
CATEGORIES:Manuelle bookinger
END:VEVENT
BEGIN:VEVENT
DTSTART;TZID=UTC:20260514T180000
DTEND;TZID=UTC:20260514T190000
DTSTAMP:20260425T154121
CREATED:20250924T080850Z
LAST-MODIFIED:20250924T080850Z
UID:10018490-1778781600-1778785200@www.vil.no
SUMMARY:Håndball G10
DESCRIPTION:
URL:https://www.vil.no/aktivitet/handball-g10-2/2026-05-14/
LOCATION:Varhaughallen\, Opstadvegen 583\, Varhaug\, 4360\, Norge
CATEGORIES:Manuelle bookinger
END:VEVENT
BEGIN:VEVENT
DTSTART;TZID=UTC:20260521T180000
DTEND;TZID=UTC:20260521T190000
DTSTAMP:20260425T154121
CREATED:20250924T080850Z
LAST-MODIFIED:20250924T080850Z
UID:10018491-1779386400-1779390000@www.vil.no
SUMMARY:Håndball G10
DESCRIPTION:
URL:https://www.vil.no/aktivitet/handball-g10-2/2026-05-21/
LOCATION:Varhaughallen\, Opstadvegen 583\, Varhaug\, 4360\, Norge
CATEGORIES:Manuelle bookinger
END:VEVENT
BEGIN:VEVENT
DTSTART;TZID=UTC:20260528T180000
DTEND;TZID=UTC:20260528T190000
DTSTAMP:20260425T154121
CREATED:20250924T080850Z
LAST-MODIFIED:20250924T080850Z
UID:10018492-1779991200-1779994800@www.vil.no
SUMMARY:Håndball G10
DESCRIPTION:
URL:https://www.vil.no/aktivitet/handball-g10-2/2026-05-28/
LOCATION:Varhaughallen\, Opstadvegen 583\, Varhaug\, 4360\, Norge
CATEGORIES:Manuelle bookinger
END:VEVENT
BEGIN:VEVENT
DTSTART;TZID=UTC:20260604T180000
DTEND;TZID=UTC:20260604T190000
DTSTAMP:20260425T154121
CREATED:20250924T080850Z
LAST-MODIFIED:20250924T080850Z
UID:10018493-1780596000-1780599600@www.vil.no
SUMMARY:Håndball G10
DESCRIPTION:
URL:https://www.vil.no/aktivitet/handball-g10-2/2026-06-04/
LOCATION:Varhaughallen\, Opstadvegen 583\, Varhaug\, 4360\, Norge
CATEGORIES:Manuelle bookinger
END:VEVENT
BEGIN:VEVENT
DTSTART;TZID=UTC:20260611T180000
DTEND;TZID=UTC:20260611T190000
DTSTAMP:20260425T154121
CREATED:20250924T080850Z
LAST-MODIFIED:20250924T080850Z
UID:10018494-1781200800-1781204400@www.vil.no
SUMMARY:Håndball G10
DESCRIPTION:
URL:https://www.vil.no/aktivitet/handball-g10-2/2026-06-11/
LOCATION:Varhaughallen\, Opstadvegen 583\, Varhaug\, 4360\, Norge
CATEGORIES:Manuelle bookinger
END:VEVENT
BEGIN:VEVENT
DTSTART;TZID=UTC:20260618T180000
DTEND;TZID=UTC:20260618T190000
DTSTAMP:20260425T154121
CREATED:20250924T080850Z
LAST-MODIFIED:20250924T080850Z
UID:10018495-1781805600-1781809200@www.vil.no
SUMMARY:Håndball G10
DESCRIPTION:
URL:https://www.vil.no/aktivitet/handball-g10-2/2026-06-18/
LOCATION:Varhaughallen\, Opstadvegen 583\, Varhaug\, 4360\, Norge
CATEGORIES:Manuelle bookinger
END:VEVENT
BEGIN:VEVENT
DTSTART;TZID=UTC:20260625T180000
DTEND;TZID=UTC:20260625T190000
DTSTAMP:20260425T154121
CREATED:20250924T080850Z
LAST-MODIFIED:20250924T080850Z
UID:10018496-1782410400-1782414000@www.vil.no
SUMMARY:Håndball G10
DESCRIPTION:
URL:https://www.vil.no/aktivitet/handball-g10-2/2026-06-25/
LOCATION:Varhaughallen\, Opstadvegen 583\, Varhaug\, 4360\, Norge
CATEGORIES:Manuelle bookinger
END:VEVENT
END:VCALENDAR