BEGIN:VCALENDAR
VERSION:2.0
PRODID:-//Varhaug IL - ECPv6.15.20//NONSGML v1.0//EN
CALSCALE:GREGORIAN
METHOD:PUBLISH
X-WR-CALNAME:Varhaug IL
X-ORIGINAL-URL:https://www.vil.no
X-WR-CALDESC:Arrangement for Varhaug IL
REFRESH-INTERVAL;VALUE=DURATION:PT1H
X-Robots-Tag:noindex
X-PUBLISHED-TTL:PT1H
BEGIN:VTIMEZONE
TZID:UTC
BEGIN:STANDARD
TZOFFSETFROM:+0000
TZOFFSETTO:+0000
TZNAME:UTC
DTSTART:20250101T000000
END:STANDARD
END:VTIMEZONE
BEGIN:VEVENT
DTSTART;TZID=UTC:20260430T173000
DTEND;TZID=UTC:20260430T183000
DTSTAMP:20260425T154120
CREATED:20250924T080758Z
LAST-MODIFIED:20250924T080758Z
UID:10018448-1777570200-1777573800@www.vil.no
SUMMARY:Håndball J11
DESCRIPTION:
URL:https://www.vil.no/aktivitet/handball-j11-2/2026-04-30/
LOCATION:Varhaughallen\, Opstadvegen 583\, Varhaug\, 4360\, Norge
CATEGORIES:Manuelle bookinger
END:VEVENT
BEGIN:VEVENT
DTSTART;TZID=UTC:20260507T173000
DTEND;TZID=UTC:20260507T183000
DTSTAMP:20260425T154120
CREATED:20250924T080758Z
LAST-MODIFIED:20250924T080758Z
UID:10018449-1778175000-1778178600@www.vil.no
SUMMARY:Håndball J11
DESCRIPTION:
URL:https://www.vil.no/aktivitet/handball-j11-2/2026-05-07/
LOCATION:Varhaughallen\, Opstadvegen 583\, Varhaug\, 4360\, Norge
CATEGORIES:Manuelle bookinger
END:VEVENT
BEGIN:VEVENT
DTSTART;TZID=UTC:20260514T173000
DTEND;TZID=UTC:20260514T183000
DTSTAMP:20260425T154120
CREATED:20250924T080758Z
LAST-MODIFIED:20250924T080758Z
UID:10018450-1778779800-1778783400@www.vil.no
SUMMARY:Håndball J11
DESCRIPTION:
URL:https://www.vil.no/aktivitet/handball-j11-2/2026-05-14/
LOCATION:Varhaughallen\, Opstadvegen 583\, Varhaug\, 4360\, Norge
CATEGORIES:Manuelle bookinger
END:VEVENT
BEGIN:VEVENT
DTSTART;TZID=UTC:20260521T173000
DTEND;TZID=UTC:20260521T183000
DTSTAMP:20260425T154120
CREATED:20250924T080758Z
LAST-MODIFIED:20250924T080758Z
UID:10018451-1779384600-1779388200@www.vil.no
SUMMARY:Håndball J11
DESCRIPTION:
URL:https://www.vil.no/aktivitet/handball-j11-2/2026-05-21/
LOCATION:Varhaughallen\, Opstadvegen 583\, Varhaug\, 4360\, Norge
CATEGORIES:Manuelle bookinger
END:VEVENT
BEGIN:VEVENT
DTSTART;TZID=UTC:20260528T173000
DTEND;TZID=UTC:20260528T183000
DTSTAMP:20260425T154120
CREATED:20250924T080758Z
LAST-MODIFIED:20250924T080758Z
UID:10018452-1779989400-1779993000@www.vil.no
SUMMARY:Håndball J11
DESCRIPTION:
URL:https://www.vil.no/aktivitet/handball-j11-2/2026-05-28/
LOCATION:Varhaughallen\, Opstadvegen 583\, Varhaug\, 4360\, Norge
CATEGORIES:Manuelle bookinger
END:VEVENT
BEGIN:VEVENT
DTSTART;TZID=UTC:20260604T173000
DTEND;TZID=UTC:20260604T183000
DTSTAMP:20260425T154120
CREATED:20250924T080758Z
LAST-MODIFIED:20250924T080758Z
UID:10018453-1780594200-1780597800@www.vil.no
SUMMARY:Håndball J11
DESCRIPTION:
URL:https://www.vil.no/aktivitet/handball-j11-2/2026-06-04/
LOCATION:Varhaughallen\, Opstadvegen 583\, Varhaug\, 4360\, Norge
CATEGORIES:Manuelle bookinger
END:VEVENT
BEGIN:VEVENT
DTSTART;TZID=UTC:20260611T173000
DTEND;TZID=UTC:20260611T183000
DTSTAMP:20260425T154120
CREATED:20250924T080758Z
LAST-MODIFIED:20250924T080758Z
UID:10018454-1781199000-1781202600@www.vil.no
SUMMARY:Håndball J11
DESCRIPTION:
URL:https://www.vil.no/aktivitet/handball-j11-2/2026-06-11/
LOCATION:Varhaughallen\, Opstadvegen 583\, Varhaug\, 4360\, Norge
CATEGORIES:Manuelle bookinger
END:VEVENT
BEGIN:VEVENT
DTSTART;TZID=UTC:20260618T173000
DTEND;TZID=UTC:20260618T183000
DTSTAMP:20260425T154120
CREATED:20250924T080758Z
LAST-MODIFIED:20250924T080758Z
UID:10018455-1781803800-1781807400@www.vil.no
SUMMARY:Håndball J11
DESCRIPTION:
URL:https://www.vil.no/aktivitet/handball-j11-2/2026-06-18/
LOCATION:Varhaughallen\, Opstadvegen 583\, Varhaug\, 4360\, Norge
CATEGORIES:Manuelle bookinger
END:VEVENT
BEGIN:VEVENT
DTSTART;TZID=UTC:20260625T173000
DTEND;TZID=UTC:20260625T183000
DTSTAMP:20260425T154120
CREATED:20250924T080758Z
LAST-MODIFIED:20250924T080758Z
UID:10018456-1782408600-1782412200@www.vil.no
SUMMARY:Håndball J11
DESCRIPTION:
URL:https://www.vil.no/aktivitet/handball-j11-2/2026-06-25/
LOCATION:Varhaughallen\, Opstadvegen 583\, Varhaug\, 4360\, Norge
CATEGORIES:Manuelle bookinger
END:VEVENT
END:VCALENDAR