BEGIN:VCALENDAR
VERSION:2.0
PRODID:-//Varhaug IL - ECPv6.15.20//NONSGML v1.0//EN
CALSCALE:GREGORIAN
METHOD:PUBLISH
X-WR-CALNAME:Varhaug IL
X-ORIGINAL-URL:https://www.vil.no
X-WR-CALDESC:Arrangement for Varhaug IL
REFRESH-INTERVAL;VALUE=DURATION:PT1H
X-Robots-Tag:noindex
X-PUBLISHED-TTL:PT1H
BEGIN:VTIMEZONE
TZID:UTC
BEGIN:STANDARD
TZOFFSETFROM:+0000
TZOFFSETTO:+0000
TZNAME:UTC
DTSTART:20250101T000000
END:STANDARD
END:VTIMEZONE
BEGIN:VEVENT
DTSTART;TZID=UTC:20260427T170000
DTEND;TZID=UTC:20260427T180000
DTSTAMP:20260425T135846
CREATED:20250924T074728Z
LAST-MODIFIED:20250924T074728Z
UID:10017929-1777309200-1777312800@www.vil.no
SUMMARY:Håndball J13/14
DESCRIPTION:
URL:https://www.vil.no/aktivitet/handball-j13-14-2/2026-04-27/
LOCATION:Varhaughallen\, Opstadvegen 583\, Varhaug\, 4360\, Norge
CATEGORIES:Manuelle bookinger
END:VEVENT
BEGIN:VEVENT
DTSTART;TZID=UTC:20260504T170000
DTEND;TZID=UTC:20260504T180000
DTSTAMP:20260425T135846
CREATED:20250924T074728Z
LAST-MODIFIED:20250924T074728Z
UID:10017930-1777914000-1777917600@www.vil.no
SUMMARY:Håndball J13/14
DESCRIPTION:
URL:https://www.vil.no/aktivitet/handball-j13-14-2/2026-05-04/
LOCATION:Varhaughallen\, Opstadvegen 583\, Varhaug\, 4360\, Norge
CATEGORIES:Manuelle bookinger
END:VEVENT
BEGIN:VEVENT
DTSTART;TZID=UTC:20260511T170000
DTEND;TZID=UTC:20260511T180000
DTSTAMP:20260425T135846
CREATED:20250924T074728Z
LAST-MODIFIED:20250924T074728Z
UID:10017931-1778518800-1778522400@www.vil.no
SUMMARY:Håndball J13/14
DESCRIPTION:
URL:https://www.vil.no/aktivitet/handball-j13-14-2/2026-05-11/
LOCATION:Varhaughallen\, Opstadvegen 583\, Varhaug\, 4360\, Norge
CATEGORIES:Manuelle bookinger
END:VEVENT
BEGIN:VEVENT
DTSTART;TZID=UTC:20260518T170000
DTEND;TZID=UTC:20260518T180000
DTSTAMP:20260425T135846
CREATED:20250924T074728Z
LAST-MODIFIED:20250924T074728Z
UID:10017932-1779123600-1779127200@www.vil.no
SUMMARY:Håndball J13/14
DESCRIPTION:
URL:https://www.vil.no/aktivitet/handball-j13-14-2/2026-05-18/
LOCATION:Varhaughallen\, Opstadvegen 583\, Varhaug\, 4360\, Norge
CATEGORIES:Manuelle bookinger
END:VEVENT
BEGIN:VEVENT
DTSTART;TZID=UTC:20260525T170000
DTEND;TZID=UTC:20260525T180000
DTSTAMP:20260425T135846
CREATED:20250924T074728Z
LAST-MODIFIED:20250924T074728Z
UID:10017933-1779728400-1779732000@www.vil.no
SUMMARY:Håndball J13/14
DESCRIPTION:
URL:https://www.vil.no/aktivitet/handball-j13-14-2/2026-05-25/
LOCATION:Varhaughallen\, Opstadvegen 583\, Varhaug\, 4360\, Norge
CATEGORIES:Manuelle bookinger
END:VEVENT
BEGIN:VEVENT
DTSTART;TZID=UTC:20260601T170000
DTEND;TZID=UTC:20260601T180000
DTSTAMP:20260425T135846
CREATED:20250924T074728Z
LAST-MODIFIED:20250924T074728Z
UID:10017934-1780333200-1780336800@www.vil.no
SUMMARY:Håndball J13/14
DESCRIPTION:
URL:https://www.vil.no/aktivitet/handball-j13-14-2/2026-06-01/
LOCATION:Varhaughallen\, Opstadvegen 583\, Varhaug\, 4360\, Norge
CATEGORIES:Manuelle bookinger
END:VEVENT
BEGIN:VEVENT
DTSTART;TZID=UTC:20260608T170000
DTEND;TZID=UTC:20260608T180000
DTSTAMP:20260425T135846
CREATED:20250924T074728Z
LAST-MODIFIED:20250924T074728Z
UID:10017935-1780938000-1780941600@www.vil.no
SUMMARY:Håndball J13/14
DESCRIPTION:
URL:https://www.vil.no/aktivitet/handball-j13-14-2/2026-06-08/
LOCATION:Varhaughallen\, Opstadvegen 583\, Varhaug\, 4360\, Norge
CATEGORIES:Manuelle bookinger
END:VEVENT
BEGIN:VEVENT
DTSTART;TZID=UTC:20260615T170000
DTEND;TZID=UTC:20260615T180000
DTSTAMP:20260425T135846
CREATED:20250924T074728Z
LAST-MODIFIED:20250924T074728Z
UID:10017936-1781542800-1781546400@www.vil.no
SUMMARY:Håndball J13/14
DESCRIPTION:
URL:https://www.vil.no/aktivitet/handball-j13-14-2/2026-06-15/
LOCATION:Varhaughallen\, Opstadvegen 583\, Varhaug\, 4360\, Norge
CATEGORIES:Manuelle bookinger
END:VEVENT
BEGIN:VEVENT
DTSTART;TZID=UTC:20260622T170000
DTEND;TZID=UTC:20260622T180000
DTSTAMP:20260425T135846
CREATED:20250924T074728Z
LAST-MODIFIED:20250924T074728Z
UID:10017937-1782147600-1782151200@www.vil.no
SUMMARY:Håndball J13/14
DESCRIPTION:
URL:https://www.vil.no/aktivitet/handball-j13-14-2/2026-06-22/
LOCATION:Varhaughallen\, Opstadvegen 583\, Varhaug\, 4360\, Norge
CATEGORIES:Manuelle bookinger
END:VEVENT
BEGIN:VEVENT
DTSTART;TZID=UTC:20260629T170000
DTEND;TZID=UTC:20260629T180000
DTSTAMP:20260425T135846
CREATED:20250924T074728Z
LAST-MODIFIED:20250924T074728Z
UID:10017938-1782752400-1782756000@www.vil.no
SUMMARY:Håndball J13/14
DESCRIPTION:
URL:https://www.vil.no/aktivitet/handball-j13-14-2/2026-06-29/
LOCATION:Varhaughallen\, Opstadvegen 583\, Varhaug\, 4360\, Norge
CATEGORIES:Manuelle bookinger
END:VEVENT
END:VCALENDAR