BEGIN:VCALENDAR
VERSION:2.0
PRODID:-//Varhaug IL - ECPv6.15.20//NONSGML v1.0//EN
CALSCALE:GREGORIAN
METHOD:PUBLISH
X-WR-CALNAME:Varhaug IL
X-ORIGINAL-URL:https://www.vil.no
X-WR-CALDESC:Arrangement for Varhaug IL
REFRESH-INTERVAL;VALUE=DURATION:PT1H
X-Robots-Tag:noindex
X-PUBLISHED-TTL:PT1H
BEGIN:VTIMEZONE
TZID:UTC
BEGIN:STANDARD
TZOFFSETFROM:+0000
TZOFFSETTO:+0000
TZNAME:UTC
DTSTART:20250101T000000
END:STANDARD
END:VTIMEZONE
BEGIN:VEVENT
DTSTART;TZID=UTC:20260429T173000
DTEND;TZID=UTC:20260429T190000
DTSTAMP:20260425T154120
CREATED:20250924T074030Z
LAST-MODIFIED:20250924T074030Z
UID:10017650-1777483800-1777489200@www.vil.no
SUMMARY:Håndball J14
DESCRIPTION:
URL:https://www.vil.no/aktivitet/handball-j14-2/2026-04-29/
LOCATION:Jæren Sparebank Arena\, Norge
CATEGORIES:Manuelle bookinger
END:VEVENT
BEGIN:VEVENT
DTSTART;TZID=UTC:20260506T173000
DTEND;TZID=UTC:20260506T190000
DTSTAMP:20260425T154120
CREATED:20250924T074030Z
LAST-MODIFIED:20250924T074030Z
UID:10017651-1778088600-1778094000@www.vil.no
SUMMARY:Håndball J14
DESCRIPTION:
URL:https://www.vil.no/aktivitet/handball-j14-2/2026-05-06/
LOCATION:Jæren Sparebank Arena\, Norge
CATEGORIES:Manuelle bookinger
END:VEVENT
BEGIN:VEVENT
DTSTART;TZID=UTC:20260513T173000
DTEND;TZID=UTC:20260513T190000
DTSTAMP:20260425T154120
CREATED:20250924T074030Z
LAST-MODIFIED:20250924T074030Z
UID:10017652-1778693400-1778698800@www.vil.no
SUMMARY:Håndball J14
DESCRIPTION:
URL:https://www.vil.no/aktivitet/handball-j14-2/2026-05-13/
LOCATION:Jæren Sparebank Arena\, Norge
CATEGORIES:Manuelle bookinger
END:VEVENT
BEGIN:VEVENT
DTSTART;TZID=UTC:20260520T173000
DTEND;TZID=UTC:20260520T190000
DTSTAMP:20260425T154120
CREATED:20250924T074030Z
LAST-MODIFIED:20250924T074030Z
UID:10017653-1779298200-1779303600@www.vil.no
SUMMARY:Håndball J14
DESCRIPTION:
URL:https://www.vil.no/aktivitet/handball-j14-2/2026-05-20/
LOCATION:Jæren Sparebank Arena\, Norge
CATEGORIES:Manuelle bookinger
END:VEVENT
BEGIN:VEVENT
DTSTART;TZID=UTC:20260527T173000
DTEND;TZID=UTC:20260527T190000
DTSTAMP:20260425T154120
CREATED:20250924T074030Z
LAST-MODIFIED:20250924T074030Z
UID:10017654-1779903000-1779908400@www.vil.no
SUMMARY:Håndball J14
DESCRIPTION:
URL:https://www.vil.no/aktivitet/handball-j14-2/2026-05-27/
LOCATION:Jæren Sparebank Arena\, Norge
CATEGORIES:Manuelle bookinger
END:VEVENT
BEGIN:VEVENT
DTSTART;TZID=UTC:20260603T173000
DTEND;TZID=UTC:20260603T190000
DTSTAMP:20260425T154120
CREATED:20250924T074030Z
LAST-MODIFIED:20250924T074030Z
UID:10017655-1780507800-1780513200@www.vil.no
SUMMARY:Håndball J14
DESCRIPTION:
URL:https://www.vil.no/aktivitet/handball-j14-2/2026-06-03/
LOCATION:Jæren Sparebank Arena\, Norge
CATEGORIES:Manuelle bookinger
END:VEVENT
BEGIN:VEVENT
DTSTART;TZID=UTC:20260610T173000
DTEND;TZID=UTC:20260610T190000
DTSTAMP:20260425T154120
CREATED:20250924T074030Z
LAST-MODIFIED:20250924T074030Z
UID:10017656-1781112600-1781118000@www.vil.no
SUMMARY:Håndball J14
DESCRIPTION:
URL:https://www.vil.no/aktivitet/handball-j14-2/2026-06-10/
LOCATION:Jæren Sparebank Arena\, Norge
CATEGORIES:Manuelle bookinger
END:VEVENT
BEGIN:VEVENT
DTSTART;TZID=UTC:20260617T173000
DTEND;TZID=UTC:20260617T190000
DTSTAMP:20260425T154120
CREATED:20250924T074030Z
LAST-MODIFIED:20250924T074030Z
UID:10017657-1781717400-1781722800@www.vil.no
SUMMARY:Håndball J14
DESCRIPTION:
URL:https://www.vil.no/aktivitet/handball-j14-2/2026-06-17/
LOCATION:Jæren Sparebank Arena\, Norge
CATEGORIES:Manuelle bookinger
END:VEVENT
BEGIN:VEVENT
DTSTART;TZID=UTC:20260624T173000
DTEND;TZID=UTC:20260624T190000
DTSTAMP:20260425T154120
CREATED:20250924T074030Z
LAST-MODIFIED:20250924T074030Z
UID:10017658-1782322200-1782327600@www.vil.no
SUMMARY:Håndball J14
DESCRIPTION:
URL:https://www.vil.no/aktivitet/handball-j14-2/2026-06-24/
LOCATION:Jæren Sparebank Arena\, Norge
CATEGORIES:Manuelle bookinger
END:VEVENT
END:VCALENDAR