BEGIN:VCALENDAR
VERSION:2.0
PRODID:-//Varhaug IL - ECPv6.15.20//NONSGML v1.0//EN
CALSCALE:GREGORIAN
METHOD:PUBLISH
X-WR-CALNAME:Varhaug IL
X-ORIGINAL-URL:https://www.vil.no
X-WR-CALDESC:Arrangement for Varhaug IL
REFRESH-INTERVAL;VALUE=DURATION:PT1H
X-Robots-Tag:noindex
X-PUBLISHED-TTL:PT1H
BEGIN:VTIMEZONE
TZID:UTC
BEGIN:STANDARD
TZOFFSETFROM:+0000
TZOFFSETTO:+0000
TZNAME:UTC
DTSTART:20250101T000000
END:STANDARD
END:VTIMEZONE
BEGIN:VEVENT
DTSTART;TZID=UTC:20260430T193000
DTEND;TZID=UTC:20260430T210000
DTSTAMP:20260425T154120
CREATED:20250924T073525Z
LAST-MODIFIED:20250924T073525Z
UID:10017451-1777577400-1777582800@www.vil.no
SUMMARY:Håndball Herre A
DESCRIPTION:
URL:https://www.vil.no/aktivitet/handball-herre-a-3/2026-04-30/
LOCATION:Jæren Sparebank Arena\, Norge
CATEGORIES:Manuelle bookinger
END:VEVENT
BEGIN:VEVENT
DTSTART;TZID=UTC:20260507T193000
DTEND;TZID=UTC:20260507T210000
DTSTAMP:20260425T154120
CREATED:20250924T073525Z
LAST-MODIFIED:20250924T073525Z
UID:10017452-1778182200-1778187600@www.vil.no
SUMMARY:Håndball Herre A
DESCRIPTION:
URL:https://www.vil.no/aktivitet/handball-herre-a-3/2026-05-07/
LOCATION:Jæren Sparebank Arena\, Norge
CATEGORIES:Manuelle bookinger
END:VEVENT
BEGIN:VEVENT
DTSTART;TZID=UTC:20260514T193000
DTEND;TZID=UTC:20260514T210000
DTSTAMP:20260425T154120
CREATED:20250924T073525Z
LAST-MODIFIED:20250924T073525Z
UID:10017453-1778787000-1778792400@www.vil.no
SUMMARY:Håndball Herre A
DESCRIPTION:
URL:https://www.vil.no/aktivitet/handball-herre-a-3/2026-05-14/
LOCATION:Jæren Sparebank Arena\, Norge
CATEGORIES:Manuelle bookinger
END:VEVENT
BEGIN:VEVENT
DTSTART;TZID=UTC:20260521T193000
DTEND;TZID=UTC:20260521T210000
DTSTAMP:20260425T154120
CREATED:20250924T073525Z
LAST-MODIFIED:20250924T073525Z
UID:10017454-1779391800-1779397200@www.vil.no
SUMMARY:Håndball Herre A
DESCRIPTION:
URL:https://www.vil.no/aktivitet/handball-herre-a-3/2026-05-21/
LOCATION:Jæren Sparebank Arena\, Norge
CATEGORIES:Manuelle bookinger
END:VEVENT
BEGIN:VEVENT
DTSTART;TZID=UTC:20260528T193000
DTEND;TZID=UTC:20260528T210000
DTSTAMP:20260425T154120
CREATED:20250924T073525Z
LAST-MODIFIED:20250924T073525Z
UID:10017455-1779996600-1780002000@www.vil.no
SUMMARY:Håndball Herre A
DESCRIPTION:
URL:https://www.vil.no/aktivitet/handball-herre-a-3/2026-05-28/
LOCATION:Jæren Sparebank Arena\, Norge
CATEGORIES:Manuelle bookinger
END:VEVENT
BEGIN:VEVENT
DTSTART;TZID=UTC:20260604T193000
DTEND;TZID=UTC:20260604T210000
DTSTAMP:20260425T154120
CREATED:20250924T073525Z
LAST-MODIFIED:20250924T073525Z
UID:10017456-1780601400-1780606800@www.vil.no
SUMMARY:Håndball Herre A
DESCRIPTION:
URL:https://www.vil.no/aktivitet/handball-herre-a-3/2026-06-04/
LOCATION:Jæren Sparebank Arena\, Norge
CATEGORIES:Manuelle bookinger
END:VEVENT
BEGIN:VEVENT
DTSTART;TZID=UTC:20260611T193000
DTEND;TZID=UTC:20260611T210000
DTSTAMP:20260425T154120
CREATED:20250924T073525Z
LAST-MODIFIED:20250924T073525Z
UID:10017457-1781206200-1781211600@www.vil.no
SUMMARY:Håndball Herre A
DESCRIPTION:
URL:https://www.vil.no/aktivitet/handball-herre-a-3/2026-06-11/
LOCATION:Jæren Sparebank Arena\, Norge
CATEGORIES:Manuelle bookinger
END:VEVENT
BEGIN:VEVENT
DTSTART;TZID=UTC:20260618T193000
DTEND;TZID=UTC:20260618T210000
DTSTAMP:20260425T154120
CREATED:20250924T073525Z
LAST-MODIFIED:20250924T073525Z
UID:10017458-1781811000-1781816400@www.vil.no
SUMMARY:Håndball Herre A
DESCRIPTION:
URL:https://www.vil.no/aktivitet/handball-herre-a-3/2026-06-18/
LOCATION:Jæren Sparebank Arena\, Norge
CATEGORIES:Manuelle bookinger
END:VEVENT
BEGIN:VEVENT
DTSTART;TZID=UTC:20260625T193000
DTEND;TZID=UTC:20260625T210000
DTSTAMP:20260425T154120
CREATED:20250924T073525Z
LAST-MODIFIED:20250924T073525Z
UID:10017459-1782415800-1782421200@www.vil.no
SUMMARY:Håndball Herre A
DESCRIPTION:
URL:https://www.vil.no/aktivitet/handball-herre-a-3/2026-06-25/
LOCATION:Jæren Sparebank Arena\, Norge
CATEGORIES:Manuelle bookinger
END:VEVENT
END:VCALENDAR