BEGIN:VCALENDAR
VERSION:2.0
PRODID:-//Varhaug IL - ECPv6.15.20//NONSGML v1.0//EN
CALSCALE:GREGORIAN
METHOD:PUBLISH
X-WR-CALNAME:Varhaug IL
X-ORIGINAL-URL:https://www.vil.no
X-WR-CALDESC:Arrangement for Varhaug IL
REFRESH-INTERVAL;VALUE=DURATION:PT1H
X-Robots-Tag:noindex
X-PUBLISHED-TTL:PT1H
BEGIN:VTIMEZONE
TZID:UTC
BEGIN:STANDARD
TZOFFSETFROM:+0000
TZOFFSETTO:+0000
TZNAME:UTC
DTSTART:20250101T000000
END:STANDARD
END:VTIMEZONE
BEGIN:VEVENT
DTSTART;TZID=UTC:20260428T193000
DTEND;TZID=UTC:20260428T210000
DTSTAMP:20260425T135828
CREATED:20250924T073417Z
LAST-MODIFIED:20250924T073417Z
UID:10017411-1777404600-1777410000@www.vil.no
SUMMARY:Håndball Herre A
DESCRIPTION:
URL:https://www.vil.no/aktivitet/handball-herre-a-2/2026-04-28/
LOCATION:Jæren Sparebank Arena\, Norge
CATEGORIES:Manuelle bookinger
END:VEVENT
BEGIN:VEVENT
DTSTART;TZID=UTC:20260505T193000
DTEND;TZID=UTC:20260505T210000
DTSTAMP:20260425T135828
CREATED:20250924T073417Z
LAST-MODIFIED:20250924T073417Z
UID:10017412-1778009400-1778014800@www.vil.no
SUMMARY:Håndball Herre A
DESCRIPTION:
URL:https://www.vil.no/aktivitet/handball-herre-a-2/2026-05-05/
LOCATION:Jæren Sparebank Arena\, Norge
CATEGORIES:Manuelle bookinger
END:VEVENT
BEGIN:VEVENT
DTSTART;TZID=UTC:20260512T193000
DTEND;TZID=UTC:20260512T210000
DTSTAMP:20260425T135828
CREATED:20250924T073417Z
LAST-MODIFIED:20250924T073417Z
UID:10017413-1778614200-1778619600@www.vil.no
SUMMARY:Håndball Herre A
DESCRIPTION:
URL:https://www.vil.no/aktivitet/handball-herre-a-2/2026-05-12/
LOCATION:Jæren Sparebank Arena\, Norge
CATEGORIES:Manuelle bookinger
END:VEVENT
BEGIN:VEVENT
DTSTART;TZID=UTC:20260519T193000
DTEND;TZID=UTC:20260519T210000
DTSTAMP:20260425T135828
CREATED:20250924T073417Z
LAST-MODIFIED:20250924T073417Z
UID:10017414-1779219000-1779224400@www.vil.no
SUMMARY:Håndball Herre A
DESCRIPTION:
URL:https://www.vil.no/aktivitet/handball-herre-a-2/2026-05-19/
LOCATION:Jæren Sparebank Arena\, Norge
CATEGORIES:Manuelle bookinger
END:VEVENT
BEGIN:VEVENT
DTSTART;TZID=UTC:20260526T193000
DTEND;TZID=UTC:20260526T210000
DTSTAMP:20260425T135828
CREATED:20250924T073417Z
LAST-MODIFIED:20250924T073417Z
UID:10017415-1779823800-1779829200@www.vil.no
SUMMARY:Håndball Herre A
DESCRIPTION:
URL:https://www.vil.no/aktivitet/handball-herre-a-2/2026-05-26/
LOCATION:Jæren Sparebank Arena\, Norge
CATEGORIES:Manuelle bookinger
END:VEVENT
BEGIN:VEVENT
DTSTART;TZID=UTC:20260602T193000
DTEND;TZID=UTC:20260602T210000
DTSTAMP:20260425T135828
CREATED:20250924T073417Z
LAST-MODIFIED:20250924T073417Z
UID:10017416-1780428600-1780434000@www.vil.no
SUMMARY:Håndball Herre A
DESCRIPTION:
URL:https://www.vil.no/aktivitet/handball-herre-a-2/2026-06-02/
LOCATION:Jæren Sparebank Arena\, Norge
CATEGORIES:Manuelle bookinger
END:VEVENT
BEGIN:VEVENT
DTSTART;TZID=UTC:20260609T193000
DTEND;TZID=UTC:20260609T210000
DTSTAMP:20260425T135828
CREATED:20250924T073417Z
LAST-MODIFIED:20250924T073417Z
UID:10017417-1781033400-1781038800@www.vil.no
SUMMARY:Håndball Herre A
DESCRIPTION:
URL:https://www.vil.no/aktivitet/handball-herre-a-2/2026-06-09/
LOCATION:Jæren Sparebank Arena\, Norge
CATEGORIES:Manuelle bookinger
END:VEVENT
BEGIN:VEVENT
DTSTART;TZID=UTC:20260616T193000
DTEND;TZID=UTC:20260616T210000
DTSTAMP:20260425T135828
CREATED:20250924T073417Z
LAST-MODIFIED:20250924T073417Z
UID:10017418-1781638200-1781643600@www.vil.no
SUMMARY:Håndball Herre A
DESCRIPTION:
URL:https://www.vil.no/aktivitet/handball-herre-a-2/2026-06-16/
LOCATION:Jæren Sparebank Arena\, Norge
CATEGORIES:Manuelle bookinger
END:VEVENT
BEGIN:VEVENT
DTSTART;TZID=UTC:20260623T193000
DTEND;TZID=UTC:20260623T210000
DTSTAMP:20260425T135828
CREATED:20250924T073417Z
LAST-MODIFIED:20250924T073417Z
UID:10017419-1782243000-1782248400@www.vil.no
SUMMARY:Håndball Herre A
DESCRIPTION:
URL:https://www.vil.no/aktivitet/handball-herre-a-2/2026-06-23/
LOCATION:Jæren Sparebank Arena\, Norge
CATEGORIES:Manuelle bookinger
END:VEVENT
BEGIN:VEVENT
DTSTART;TZID=UTC:20260630T193000
DTEND;TZID=UTC:20260630T210000
DTSTAMP:20260425T135828
CREATED:20250924T073417Z
LAST-MODIFIED:20250924T073417Z
UID:10017420-1782847800-1782853200@www.vil.no
SUMMARY:Håndball Herre A
DESCRIPTION:
URL:https://www.vil.no/aktivitet/handball-herre-a-2/2026-06-30/
LOCATION:Jæren Sparebank Arena\, Norge
CATEGORIES:Manuelle bookinger
END:VEVENT
END:VCALENDAR