BEGIN:VCALENDAR
VERSION:2.0
PRODID:-//Varhaug IL - ECPv6.15.20//NONSGML v1.0//EN
CALSCALE:GREGORIAN
METHOD:PUBLISH
X-WR-CALNAME:Varhaug IL
X-ORIGINAL-URL:https://www.vil.no
X-WR-CALDESC:Arrangement for Varhaug IL
REFRESH-INTERVAL;VALUE=DURATION:PT1H
X-Robots-Tag:noindex
X-PUBLISHED-TTL:PT1H
BEGIN:VTIMEZONE
TZID:UTC
BEGIN:STANDARD
TZOFFSETFROM:+0000
TZOFFSETTO:+0000
TZNAME:UTC
DTSTART:20250101T000000
END:STANDARD
END:VTIMEZONE
BEGIN:VEVENT
DTSTART;TZID=UTC:20260427T173000
DTEND;TZID=UTC:20260427T183000
DTSTAMP:20260425T135847
CREATED:20250923T125927Z
LAST-MODIFIED:20250923T130248Z
UID:10017058-1777311000-1777314600@www.vil.no
SUMMARY:Håndball G/J6
DESCRIPTION:
URL:https://www.vil.no/aktivitet/handball-g-j-6/2026-04-27/
LOCATION:Jæren Sparebank Arena\, Norge
CATEGORIES:Manuelle bookinger
END:VEVENT
BEGIN:VEVENT
DTSTART;TZID=UTC:20260504T173000
DTEND;TZID=UTC:20260504T183000
DTSTAMP:20260425T135847
CREATED:20250923T125927Z
LAST-MODIFIED:20250923T130248Z
UID:10017059-1777915800-1777919400@www.vil.no
SUMMARY:Håndball G/J6
DESCRIPTION:
URL:https://www.vil.no/aktivitet/handball-g-j-6/2026-05-04/
LOCATION:Jæren Sparebank Arena\, Norge
CATEGORIES:Manuelle bookinger
END:VEVENT
BEGIN:VEVENT
DTSTART;TZID=UTC:20260511T173000
DTEND;TZID=UTC:20260511T183000
DTSTAMP:20260425T135847
CREATED:20250923T125927Z
LAST-MODIFIED:20250923T130248Z
UID:10017060-1778520600-1778524200@www.vil.no
SUMMARY:Håndball G/J6
DESCRIPTION:
URL:https://www.vil.no/aktivitet/handball-g-j-6/2026-05-11/
LOCATION:Jæren Sparebank Arena\, Norge
CATEGORIES:Manuelle bookinger
END:VEVENT
BEGIN:VEVENT
DTSTART;TZID=UTC:20260518T173000
DTEND;TZID=UTC:20260518T183000
DTSTAMP:20260425T135847
CREATED:20250923T125927Z
LAST-MODIFIED:20250923T130248Z
UID:10017061-1779125400-1779129000@www.vil.no
SUMMARY:Håndball G/J6
DESCRIPTION:
URL:https://www.vil.no/aktivitet/handball-g-j-6/2026-05-18/
LOCATION:Jæren Sparebank Arena\, Norge
CATEGORIES:Manuelle bookinger
END:VEVENT
BEGIN:VEVENT
DTSTART;TZID=UTC:20260525T173000
DTEND;TZID=UTC:20260525T183000
DTSTAMP:20260425T135847
CREATED:20250923T125927Z
LAST-MODIFIED:20250923T130248Z
UID:10017062-1779730200-1779733800@www.vil.no
SUMMARY:Håndball G/J6
DESCRIPTION:
URL:https://www.vil.no/aktivitet/handball-g-j-6/2026-05-25/
LOCATION:Jæren Sparebank Arena\, Norge
CATEGORIES:Manuelle bookinger
END:VEVENT
BEGIN:VEVENT
DTSTART;TZID=UTC:20260601T173000
DTEND;TZID=UTC:20260601T183000
DTSTAMP:20260425T135847
CREATED:20250923T125927Z
LAST-MODIFIED:20250923T130248Z
UID:10017063-1780335000-1780338600@www.vil.no
SUMMARY:Håndball G/J6
DESCRIPTION:
URL:https://www.vil.no/aktivitet/handball-g-j-6/2026-06-01/
LOCATION:Jæren Sparebank Arena\, Norge
CATEGORIES:Manuelle bookinger
END:VEVENT
BEGIN:VEVENT
DTSTART;TZID=UTC:20260608T173000
DTEND;TZID=UTC:20260608T183000
DTSTAMP:20260425T135847
CREATED:20250923T125927Z
LAST-MODIFIED:20250923T130248Z
UID:10017064-1780939800-1780943400@www.vil.no
SUMMARY:Håndball G/J6
DESCRIPTION:
URL:https://www.vil.no/aktivitet/handball-g-j-6/2026-06-08/
LOCATION:Jæren Sparebank Arena\, Norge
CATEGORIES:Manuelle bookinger
END:VEVENT
BEGIN:VEVENT
DTSTART;TZID=UTC:20260615T173000
DTEND;TZID=UTC:20260615T183000
DTSTAMP:20260425T135847
CREATED:20250923T125927Z
LAST-MODIFIED:20250923T130248Z
UID:10017065-1781544600-1781548200@www.vil.no
SUMMARY:Håndball G/J6
DESCRIPTION:
URL:https://www.vil.no/aktivitet/handball-g-j-6/2026-06-15/
LOCATION:Jæren Sparebank Arena\, Norge
CATEGORIES:Manuelle bookinger
END:VEVENT
BEGIN:VEVENT
DTSTART;TZID=UTC:20260622T173000
DTEND;TZID=UTC:20260622T183000
DTSTAMP:20260425T135847
CREATED:20250923T125927Z
LAST-MODIFIED:20250923T130248Z
UID:10017066-1782149400-1782153000@www.vil.no
SUMMARY:Håndball G/J6
DESCRIPTION:
URL:https://www.vil.no/aktivitet/handball-g-j-6/2026-06-22/
LOCATION:Jæren Sparebank Arena\, Norge
CATEGORIES:Manuelle bookinger
END:VEVENT
BEGIN:VEVENT
DTSTART;TZID=UTC:20260629T173000
DTEND;TZID=UTC:20260629T183000
DTSTAMP:20260425T135847
CREATED:20250923T125927Z
LAST-MODIFIED:20250923T130248Z
UID:10017067-1782754200-1782757800@www.vil.no
SUMMARY:Håndball G/J6
DESCRIPTION:
URL:https://www.vil.no/aktivitet/handball-g-j-6/2026-06-29/
LOCATION:Jæren Sparebank Arena\, Norge
CATEGORIES:Manuelle bookinger
END:VEVENT
END:VCALENDAR