BEGIN:VCALENDAR
VERSION:2.0
PRODID:-//Varhaug IL - ECPv6.15.20//NONSGML v1.0//EN
CALSCALE:GREGORIAN
METHOD:PUBLISH
X-ORIGINAL-URL:https://www.vil.no
X-WR-CALDESC:Arrangement for Varhaug IL
REFRESH-INTERVAL;VALUE=DURATION:PT1H
X-Robots-Tag:noindex
X-PUBLISHED-TTL:PT1H
BEGIN:VTIMEZONE
TZID:UTC
BEGIN:STANDARD
TZOFFSETFROM:+0000
TZOFFSETTO:+0000
TZNAME:UTC
DTSTART:20300101T000000
END:STANDARD
END:VTIMEZONE
BEGIN:VEVENT
DTSTART;TZID=UTC:20310407T100000
DTEND;TZID=UTC:20310407T150000
DTSTAMP:20260420T190037
CREATED:20250505T083050Z
LAST-MODIFIED:20250505T083329Z
UID:10020790-1933322400-1933340400@www.vil.no
SUMMARY:Kort og kaffi
DESCRIPTION:
URL:https://www.vil.no/aktivitet/kort-og-kaffi/2031-04-07/
LOCATION:Sosialt rom – JSA\, Norge
CATEGORIES:Manuelle bookinger
END:VEVENT
BEGIN:VEVENT
DTSTART;TZID=UTC:20310407T153000
DTEND;TZID=UTC:20310407T163000
DTSTAMP:20260420T190037
CREATED:20250618T074720Z
LAST-MODIFIED:20250618T074720Z
UID:10020792-1933342200-1933345800@www.vil.no
SUMMARY:Styrke & Puls
DESCRIPTION:
URL:https://www.vil.no/aktivitet/styrke-puls-2/2031-04-07/
LOCATION:Salen\, Norge
CATEGORIES:Manuelle bookinger
END:VEVENT
BEGIN:VEVENT
DTSTART;TZID=UTC:20310409T100000
DTEND;TZID=UTC:20310409T110000
DTSTAMP:20260420T190037
CREATED:20250618T074211Z
LAST-MODIFIED:20250618T074211Z
UID:10020800-1933495200-1933498800@www.vil.no
SUMMARY:Fullkroppsøkt
DESCRIPTION:
URL:https://www.vil.no/aktivitet/fullkroppsokt/2031-04-09/
LOCATION:Salen\, Norge
CATEGORIES:Manuelle bookinger
END:VEVENT
BEGIN:VEVENT
DTSTART;TZID=UTC:20310409T153000
DTEND;TZID=UTC:20310409T163000
DTSTAMP:20260420T190037
CREATED:20250618T074424Z
LAST-MODIFIED:20250618T074424Z
UID:10020801-1933515000-1933518600@www.vil.no
SUMMARY:Styrke & Puls
DESCRIPTION:
URL:https://www.vil.no/aktivitet/styrke-puls/2031-04-09/
LOCATION:Salen\, Norge
CATEGORIES:Manuelle bookinger
END:VEVENT
BEGIN:VEVENT
DTSTART;TZID=UTC:20310409T183000
DTEND;TZID=UTC:20310409T194500
DTSTAMP:20260420T190037
CREATED:20250618T074520Z
LAST-MODIFIED:20250618T074520Z
UID:10020807-1933525800-1933530300@www.vil.no
SUMMARY:Kettlebells
DESCRIPTION:
URL:https://www.vil.no/aktivitet/kettlebells/2031-04-09/
LOCATION:Salen\, Norge
CATEGORIES:Manuelle bookinger
END:VEVENT
BEGIN:VEVENT
DTSTART;TZID=UTC:20310410T100000
DTEND;TZID=UTC:20310410T104500
DTSTAMP:20260420T190037
CREATED:20250618T074617Z
LAST-MODIFIED:20250618T074617Z
UID:10020808-1933581600-1933584300@www.vil.no
SUMMARY:Basisball
DESCRIPTION:
URL:https://www.vil.no/aktivitet/basisball/2031-04-10/
LOCATION:Salen\, Norge
CATEGORIES:Manuelle bookinger
END:VEVENT
BEGIN:VEVENT
DTSTART;TZID=UTC:20310411T170000
DTEND;TZID=UTC:20310411T183000
DTSTAMP:20260420T190037
CREATED:20240923T105806Z
LAST-MODIFIED:20240923T105806Z
UID:10020812-1933693200-1933698600@www.vil.no
SUMMARY:J15 trening
DESCRIPTION:
URL:https://www.vil.no/aktivitet/j15-trening/2031-04-11/
LOCATION:Jæren Sparebank Arena\, Norge
CATEGORIES:Manuelle bookinger
END:VEVENT
END:VCALENDAR