BEGIN:VCALENDAR
VERSION:2.0
PRODID:-//Varhaug IL - ECPv6.15.20//NONSGML v1.0//EN
CALSCALE:GREGORIAN
METHOD:PUBLISH
X-ORIGINAL-URL:https://www.vil.no
X-WR-CALDESC:Arrangement for Varhaug IL
REFRESH-INTERVAL;VALUE=DURATION:PT1H
X-Robots-Tag:noindex
X-PUBLISHED-TTL:PT1H
BEGIN:VTIMEZONE
TZID:UTC
BEGIN:STANDARD
TZOFFSETFROM:+0000
TZOFFSETTO:+0000
TZNAME:UTC
DTSTART:20290101T000000
END:STANDARD
END:VTIMEZONE
BEGIN:VEVENT
DTSTART;TZID=UTC:20301209T100000
DTEND;TZID=UTC:20301209T150000
DTSTAMP:20260420T114803
CREATED:20250505T083050Z
LAST-MODIFIED:20250505T083329Z
UID:10019601-1923040800-1923058800@www.vil.no
SUMMARY:Kort og kaffi
DESCRIPTION:
URL:https://www.vil.no/aktivitet/kort-og-kaffi/2030-12-09/
LOCATION:Sosialt rom – JSA\, Norge
CATEGORIES:Manuelle bookinger
END:VEVENT
BEGIN:VEVENT
DTSTART;TZID=UTC:20301209T100000
DTEND;TZID=UTC:20301209T150000
DTSTAMP:20260420T114803
CREATED:20260217T091903Z
LAST-MODIFIED:20260217T091903Z
UID:10019884-1923040800-1923058800@www.vil.no
SUMMARY:Kort og kaffi
DESCRIPTION:
URL:https://www.vil.no/aktivitet/kort-og-kaffi-2/2030-12-09/
LOCATION:Sosialt rom – JSA\, Norge
CATEGORIES:Manuelle bookinger
END:VEVENT
BEGIN:VEVENT
DTSTART;TZID=UTC:20301209T153000
DTEND;TZID=UTC:20301209T163000
DTSTAMP:20260420T114803
CREATED:20250618T074720Z
LAST-MODIFIED:20250618T074720Z
UID:10020721-1923060600-1923064200@www.vil.no
SUMMARY:Styrke & Puls
DESCRIPTION:
URL:https://www.vil.no/aktivitet/styrke-puls-2/2030-12-09/
LOCATION:Salen\, Norge
CATEGORIES:Manuelle bookinger
END:VEVENT
BEGIN:VEVENT
DTSTART;TZID=UTC:20301211T100000
DTEND;TZID=UTC:20301211T110000
DTSTAMP:20260420T114803
CREATED:20250618T074211Z
LAST-MODIFIED:20250618T074211Z
UID:10020276-1923213600-1923217200@www.vil.no
SUMMARY:Fullkroppsøkt
DESCRIPTION:
URL:https://www.vil.no/aktivitet/fullkroppsokt/2030-12-11/
LOCATION:Salen\, Norge
CATEGORIES:Manuelle bookinger
END:VEVENT
BEGIN:VEVENT
DTSTART;TZID=UTC:20301211T153000
DTEND;TZID=UTC:20301211T163000
DTSTAMP:20260420T114803
CREATED:20250618T074424Z
LAST-MODIFIED:20250618T074424Z
UID:10020576-1923233400-1923237000@www.vil.no
SUMMARY:Styrke & Puls
DESCRIPTION:
URL:https://www.vil.no/aktivitet/styrke-puls/2030-12-11/
LOCATION:Salen\, Norge
CATEGORIES:Manuelle bookinger
END:VEVENT
BEGIN:VEVENT
DTSTART;TZID=UTC:20301211T180000
DTEND;TZID=UTC:20301211T183000
DTSTAMP:20260420T114803
CREATED:20260319T075532Z
LAST-MODIFIED:20260319T075532Z
UID:10020536-1923242400-1923244200@www.vil.no
SUMMARY:E-sport
DESCRIPTION:
URL:https://www.vil.no/aktivitet/e-sport-2/2030-12-11/
LOCATION:Salen\, Norge
CATEGORIES:Manuelle bookinger
END:VEVENT
BEGIN:VEVENT
DTSTART;TZID=UTC:20301211T183000
DTEND;TZID=UTC:20301211T194500
DTSTAMP:20260420T114803
CREATED:20250618T074520Z
LAST-MODIFIED:20250618T074520Z
UID:10020616-1923244200-1923248700@www.vil.no
SUMMARY:Kettlebells
DESCRIPTION:
URL:https://www.vil.no/aktivitet/kettlebells/2030-12-11/
LOCATION:Salen\, Norge
CATEGORIES:Manuelle bookinger
END:VEVENT
BEGIN:VEVENT
DTSTART;TZID=UTC:20301212T100000
DTEND;TZID=UTC:20301212T104500
DTSTAMP:20260420T114803
CREATED:20250618T074617Z
LAST-MODIFIED:20250618T074617Z
UID:10020656-1923300000-1923302700@www.vil.no
SUMMARY:Basisball
DESCRIPTION:
URL:https://www.vil.no/aktivitet/basisball/2030-12-12/
LOCATION:Salen\, Norge
CATEGORIES:Manuelle bookinger
END:VEVENT
BEGIN:VEVENT
DTSTART;TZID=UTC:20301212T173000
DTEND;TZID=UTC:20301212T190000
DTSTAMP:20260420T114803
CREATED:20260303T102557Z
LAST-MODIFIED:20260303T102557Z
UID:10020179-1923327000-1923332400@www.vil.no
SUMMARY:Bordtennis
DESCRIPTION:
URL:https://www.vil.no/aktivitet/bordtennis/2030-12-12/
LOCATION:Salen\, Norge
CATEGORIES:Manuelle bookinger
END:VEVENT
BEGIN:VEVENT
DTSTART;TZID=UTC:20301213T170000
DTEND;TZID=UTC:20301213T183000
DTSTAMP:20260420T114803
CREATED:20240923T105806Z
LAST-MODIFIED:20240923T105806Z
UID:10019139-1923411600-1923417000@www.vil.no
SUMMARY:J15 trening
DESCRIPTION:
URL:https://www.vil.no/aktivitet/j15-trening/2030-12-13/
LOCATION:Jæren Sparebank Arena\, Norge
CATEGORIES:Manuelle bookinger
END:VEVENT
END:VCALENDAR