BEGIN:VCALENDAR
VERSION:2.0
PRODID:-//Varhaug IL - ECPv6.15.20//NONSGML v1.0//EN
CALSCALE:GREGORIAN
METHOD:PUBLISH
X-ORIGINAL-URL:https://www.vil.no
X-WR-CALDESC:Arrangement for Varhaug IL
REFRESH-INTERVAL;VALUE=DURATION:PT1H
X-Robots-Tag:noindex
X-PUBLISHED-TTL:PT1H
BEGIN:VTIMEZONE
TZID:UTC
BEGIN:STANDARD
TZOFFSETFROM:+0000
TZOFFSETTO:+0000
TZNAME:UTC
DTSTART:20290101T000000
END:STANDARD
END:VTIMEZONE
BEGIN:VEVENT
DTSTART;TZID=UTC:20301125T100000
DTEND;TZID=UTC:20301125T150000
DTSTAMP:20260420T095723
CREATED:20250505T083050Z
LAST-MODIFIED:20250505T083329Z
UID:10019599-1921831200-1921849200@www.vil.no
SUMMARY:Kort og kaffi
DESCRIPTION:
URL:https://www.vil.no/aktivitet/kort-og-kaffi/2030-11-25/
LOCATION:Sosialt rom – JSA\, Norge
CATEGORIES:Manuelle bookinger
END:VEVENT
BEGIN:VEVENT
DTSTART;TZID=UTC:20301125T100000
DTEND;TZID=UTC:20301125T150000
DTSTAMP:20260420T095723
CREATED:20260217T091903Z
LAST-MODIFIED:20260217T091903Z
UID:10019882-1921831200-1921849200@www.vil.no
SUMMARY:Kort og kaffi
DESCRIPTION:
URL:https://www.vil.no/aktivitet/kort-og-kaffi-2/2030-11-25/
LOCATION:Sosialt rom – JSA\, Norge
CATEGORIES:Manuelle bookinger
END:VEVENT
BEGIN:VEVENT
DTSTART;TZID=UTC:20301125T153000
DTEND;TZID=UTC:20301125T163000
DTSTAMP:20260420T095723
CREATED:20250618T074720Z
LAST-MODIFIED:20250618T074720Z
UID:10020719-1921851000-1921854600@www.vil.no
SUMMARY:Styrke & Puls
DESCRIPTION:
URL:https://www.vil.no/aktivitet/styrke-puls-2/2030-11-25/
LOCATION:Salen\, Norge
CATEGORIES:Manuelle bookinger
END:VEVENT
BEGIN:VEVENT
DTSTART;TZID=UTC:20301127T100000
DTEND;TZID=UTC:20301127T110000
DTSTAMP:20260420T095723
CREATED:20250618T074211Z
LAST-MODIFIED:20250618T074211Z
UID:10020274-1922004000-1922007600@www.vil.no
SUMMARY:Fullkroppsøkt
DESCRIPTION:
URL:https://www.vil.no/aktivitet/fullkroppsokt/2030-11-27/
LOCATION:Salen\, Norge
CATEGORIES:Manuelle bookinger
END:VEVENT
BEGIN:VEVENT
DTSTART;TZID=UTC:20301127T153000
DTEND;TZID=UTC:20301127T163000
DTSTAMP:20260420T095723
CREATED:20250618T074424Z
LAST-MODIFIED:20250618T074424Z
UID:10020574-1922023800-1922027400@www.vil.no
SUMMARY:Styrke & Puls
DESCRIPTION:
URL:https://www.vil.no/aktivitet/styrke-puls/2030-11-27/
LOCATION:Salen\, Norge
CATEGORIES:Manuelle bookinger
END:VEVENT
BEGIN:VEVENT
DTSTART;TZID=UTC:20301127T180000
DTEND;TZID=UTC:20301127T183000
DTSTAMP:20260420T095723
CREATED:20260319T075532Z
LAST-MODIFIED:20260319T075532Z
UID:10020534-1922032800-1922034600@www.vil.no
SUMMARY:E-sport
DESCRIPTION:
URL:https://www.vil.no/aktivitet/e-sport-2/2030-11-27/
LOCATION:Salen\, Norge
CATEGORIES:Manuelle bookinger
END:VEVENT
BEGIN:VEVENT
DTSTART;TZID=UTC:20301127T183000
DTEND;TZID=UTC:20301127T194500
DTSTAMP:20260420T095724
CREATED:20250618T074520Z
LAST-MODIFIED:20250618T074520Z
UID:10020614-1922034600-1922039100@www.vil.no
SUMMARY:Kettlebells
DESCRIPTION:
URL:https://www.vil.no/aktivitet/kettlebells/2030-11-27/
LOCATION:Salen\, Norge
CATEGORIES:Manuelle bookinger
END:VEVENT
BEGIN:VEVENT
DTSTART;TZID=UTC:20301128T100000
DTEND;TZID=UTC:20301128T104500
DTSTAMP:20260420T095724
CREATED:20250618T074617Z
LAST-MODIFIED:20250618T074617Z
UID:10020654-1922090400-1922093100@www.vil.no
SUMMARY:Basisball
DESCRIPTION:
URL:https://www.vil.no/aktivitet/basisball/2030-11-28/
LOCATION:Salen\, Norge
CATEGORIES:Manuelle bookinger
END:VEVENT
BEGIN:VEVENT
DTSTART;TZID=UTC:20301128T173000
DTEND;TZID=UTC:20301128T190000
DTSTAMP:20260420T095724
CREATED:20260303T102557Z
LAST-MODIFIED:20260303T102557Z
UID:10020177-1922117400-1922122800@www.vil.no
SUMMARY:Bordtennis
DESCRIPTION:
URL:https://www.vil.no/aktivitet/bordtennis/2030-11-28/
LOCATION:Salen\, Norge
CATEGORIES:Manuelle bookinger
END:VEVENT
BEGIN:VEVENT
DTSTART;TZID=UTC:20301129T170000
DTEND;TZID=UTC:20301129T183000
DTSTAMP:20260420T095724
CREATED:20240923T105806Z
LAST-MODIFIED:20240923T105806Z
UID:10019009-1922202000-1922207400@www.vil.no
SUMMARY:J15 trening
DESCRIPTION:
URL:https://www.vil.no/aktivitet/j15-trening/2030-11-29/
LOCATION:Jæren Sparebank Arena\, Norge
CATEGORIES:Manuelle bookinger
END:VEVENT
END:VCALENDAR