BEGIN:VCALENDAR
VERSION:2.0
PRODID:-//Varhaug IL - ECPv6.15.20//NONSGML v1.0//EN
CALSCALE:GREGORIAN
METHOD:PUBLISH
X-WR-CALNAME:Varhaug IL
X-ORIGINAL-URL:https://www.vil.no
X-WR-CALDESC:Arrangement for Varhaug IL
REFRESH-INTERVAL;VALUE=DURATION:PT1H
X-Robots-Tag:noindex
X-PUBLISHED-TTL:PT1H
BEGIN:VTIMEZONE
TZID:UTC
BEGIN:STANDARD
TZOFFSETFROM:+0000
TZOFFSETTO:+0000
TZNAME:UTC
DTSTART:20290101T000000
END:STANDARD
END:VTIMEZONE
BEGIN:VEVENT
DTSTART;TZID=UTC:20301021T100000
DTEND;TZID=UTC:20301021T150000
DTSTAMP:20260420T095231
CREATED:20250505T083050Z
LAST-MODIFIED:20250505T083329Z
UID:10019594-1918807200-1918825200@www.vil.no
SUMMARY:Kort og kaffi
DESCRIPTION:
URL:https://www.vil.no/aktivitet/kort-og-kaffi/2030-10-21/
LOCATION:Sosialt rom – JSA\, Norge
CATEGORIES:Manuelle bookinger
END:VEVENT
BEGIN:VEVENT
DTSTART;TZID=UTC:20301021T100000
DTEND;TZID=UTC:20301021T150000
DTSTAMP:20260420T095231
CREATED:20260217T091903Z
LAST-MODIFIED:20260217T091903Z
UID:10019877-1918807200-1918825200@www.vil.no
SUMMARY:Kort og kaffi
DESCRIPTION:
URL:https://www.vil.no/aktivitet/kort-og-kaffi-2/2030-10-21/
LOCATION:Sosialt rom – JSA\, Norge
CATEGORIES:Manuelle bookinger
END:VEVENT
BEGIN:VEVENT
DTSTART;TZID=UTC:20301021T153000
DTEND;TZID=UTC:20301021T163000
DTSTAMP:20260420T095231
CREATED:20250618T074720Z
LAST-MODIFIED:20250618T074720Z
UID:10020714-1918827000-1918830600@www.vil.no
SUMMARY:Styrke & Puls
DESCRIPTION:
URL:https://www.vil.no/aktivitet/styrke-puls-2/2030-10-21/
LOCATION:Salen\, Norge
CATEGORIES:Manuelle bookinger
END:VEVENT
BEGIN:VEVENT
DTSTART;TZID=UTC:20301023T100000
DTEND;TZID=UTC:20301023T110000
DTSTAMP:20260420T095231
CREATED:20250618T074211Z
LAST-MODIFIED:20250618T074211Z
UID:10020269-1918980000-1918983600@www.vil.no
SUMMARY:Fullkroppsøkt
DESCRIPTION:
URL:https://www.vil.no/aktivitet/fullkroppsokt/2030-10-23/
LOCATION:Salen\, Norge
CATEGORIES:Manuelle bookinger
END:VEVENT
BEGIN:VEVENT
DTSTART;TZID=UTC:20301023T153000
DTEND;TZID=UTC:20301023T163000
DTSTAMP:20260420T095231
CREATED:20250618T074424Z
LAST-MODIFIED:20250618T074424Z
UID:10020569-1918999800-1919003400@www.vil.no
SUMMARY:Styrke & Puls
DESCRIPTION:
URL:https://www.vil.no/aktivitet/styrke-puls/2030-10-23/
LOCATION:Salen\, Norge
CATEGORIES:Manuelle bookinger
END:VEVENT
BEGIN:VEVENT
DTSTART;TZID=UTC:20301023T180000
DTEND;TZID=UTC:20301023T183000
DTSTAMP:20260420T095231
CREATED:20260319T075532Z
LAST-MODIFIED:20260319T075532Z
UID:10020529-1919008800-1919010600@www.vil.no
SUMMARY:E-sport
DESCRIPTION:
URL:https://www.vil.no/aktivitet/e-sport-2/2030-10-23/
LOCATION:Salen\, Norge
CATEGORIES:Manuelle bookinger
END:VEVENT
BEGIN:VEVENT
DTSTART;TZID=UTC:20301023T183000
DTEND;TZID=UTC:20301023T194500
DTSTAMP:20260420T095231
CREATED:20250618T074520Z
LAST-MODIFIED:20250618T074520Z
UID:10020609-1919010600-1919015100@www.vil.no
SUMMARY:Kettlebells
DESCRIPTION:
URL:https://www.vil.no/aktivitet/kettlebells/2030-10-23/
LOCATION:Salen\, Norge
CATEGORIES:Manuelle bookinger
END:VEVENT
BEGIN:VEVENT
DTSTART;TZID=UTC:20301024T100000
DTEND;TZID=UTC:20301024T104500
DTSTAMP:20260420T095231
CREATED:20250618T074617Z
LAST-MODIFIED:20250618T074617Z
UID:10020649-1919066400-1919069100@www.vil.no
SUMMARY:Basisball
DESCRIPTION:
URL:https://www.vil.no/aktivitet/basisball/2030-10-24/
LOCATION:Salen\, Norge
CATEGORIES:Manuelle bookinger
END:VEVENT
BEGIN:VEVENT
DTSTART;TZID=UTC:20301024T173000
DTEND;TZID=UTC:20301024T190000
DTSTAMP:20260420T095231
CREATED:20260303T102557Z
LAST-MODIFIED:20260303T102557Z
UID:10020172-1919093400-1919098800@www.vil.no
SUMMARY:Bordtennis
DESCRIPTION:
URL:https://www.vil.no/aktivitet/bordtennis/2030-10-24/
LOCATION:Salen\, Norge
CATEGORIES:Manuelle bookinger
END:VEVENT
BEGIN:VEVENT
DTSTART;TZID=UTC:20301025T170000
DTEND;TZID=UTC:20301025T183000
DTSTAMP:20260420T095231
CREATED:20240923T105806Z
LAST-MODIFIED:20240923T105806Z
UID:10018714-1919178000-1919183400@www.vil.no
SUMMARY:J15 trening
DESCRIPTION:
URL:https://www.vil.no/aktivitet/j15-trening/2030-10-25/
LOCATION:Jæren Sparebank Arena\, Norge
CATEGORIES:Manuelle bookinger
END:VEVENT
END:VCALENDAR