BEGIN:VCALENDAR
VERSION:2.0
PRODID:-//Varhaug IL - ECPv6.15.20//NONSGML v1.0//EN
CALSCALE:GREGORIAN
METHOD:PUBLISH
X-WR-CALNAME:Varhaug IL
X-ORIGINAL-URL:https://www.vil.no
X-WR-CALDESC:Arrangement for Varhaug IL
REFRESH-INTERVAL;VALUE=DURATION:PT1H
X-Robots-Tag:noindex
X-PUBLISHED-TTL:PT1H
BEGIN:VTIMEZONE
TZID:UTC
BEGIN:STANDARD
TZOFFSETFROM:+0000
TZOFFSETTO:+0000
TZNAME:UTC
DTSTART:20290101T000000
END:STANDARD
END:VTIMEZONE
BEGIN:VEVENT
DTSTART;TZID=UTC:20300923T100000
DTEND;TZID=UTC:20300923T150000
DTSTAMP:20260420T062654
CREATED:20250505T083050Z
LAST-MODIFIED:20250505T083329Z
UID:10019590-1916388000-1916406000@www.vil.no
SUMMARY:Kort og kaffi
DESCRIPTION:
URL:https://www.vil.no/aktivitet/kort-og-kaffi/2030-09-23/
LOCATION:Sosialt rom – JSA\, Norge
CATEGORIES:Manuelle bookinger
END:VEVENT
BEGIN:VEVENT
DTSTART;TZID=UTC:20300923T100000
DTEND;TZID=UTC:20300923T150000
DTSTAMP:20260420T062654
CREATED:20260217T091903Z
LAST-MODIFIED:20260217T091903Z
UID:10019873-1916388000-1916406000@www.vil.no
SUMMARY:Kort og kaffi
DESCRIPTION:
URL:https://www.vil.no/aktivitet/kort-og-kaffi-2/2030-09-23/
LOCATION:Sosialt rom – JSA\, Norge
CATEGORIES:Manuelle bookinger
END:VEVENT
BEGIN:VEVENT
DTSTART;TZID=UTC:20300923T153000
DTEND;TZID=UTC:20300923T163000
DTSTAMP:20260420T062654
CREATED:20250618T074720Z
LAST-MODIFIED:20250618T074720Z
UID:10020710-1916407800-1916411400@www.vil.no
SUMMARY:Styrke & Puls
DESCRIPTION:
URL:https://www.vil.no/aktivitet/styrke-puls-2/2030-09-23/
LOCATION:Salen\, Norge
CATEGORIES:Manuelle bookinger
END:VEVENT
BEGIN:VEVENT
DTSTART;TZID=UTC:20300925T100000
DTEND;TZID=UTC:20300925T110000
DTSTAMP:20260420T062654
CREATED:20250618T074211Z
LAST-MODIFIED:20250618T074211Z
UID:10020265-1916560800-1916564400@www.vil.no
SUMMARY:Fullkroppsøkt
DESCRIPTION:
URL:https://www.vil.no/aktivitet/fullkroppsokt/2030-09-25/
LOCATION:Salen\, Norge
CATEGORIES:Manuelle bookinger
END:VEVENT
BEGIN:VEVENT
DTSTART;TZID=UTC:20300925T153000
DTEND;TZID=UTC:20300925T163000
DTSTAMP:20260420T062654
CREATED:20250618T074424Z
LAST-MODIFIED:20250618T074424Z
UID:10020565-1916580600-1916584200@www.vil.no
SUMMARY:Styrke & Puls
DESCRIPTION:
URL:https://www.vil.no/aktivitet/styrke-puls/2030-09-25/
LOCATION:Salen\, Norge
CATEGORIES:Manuelle bookinger
END:VEVENT
BEGIN:VEVENT
DTSTART;TZID=UTC:20300925T180000
DTEND;TZID=UTC:20300925T183000
DTSTAMP:20260420T062654
CREATED:20260319T075532Z
LAST-MODIFIED:20260319T075532Z
UID:10020525-1916589600-1916591400@www.vil.no
SUMMARY:E-sport
DESCRIPTION:
URL:https://www.vil.no/aktivitet/e-sport-2/2030-09-25/
LOCATION:Salen\, Norge
CATEGORIES:Manuelle bookinger
END:VEVENT
BEGIN:VEVENT
DTSTART;TZID=UTC:20300925T183000
DTEND;TZID=UTC:20300925T194500
DTSTAMP:20260420T062654
CREATED:20250618T074520Z
LAST-MODIFIED:20250618T074520Z
UID:10020605-1916591400-1916595900@www.vil.no
SUMMARY:Kettlebells
DESCRIPTION:
URL:https://www.vil.no/aktivitet/kettlebells/2030-09-25/
LOCATION:Salen\, Norge
CATEGORIES:Manuelle bookinger
END:VEVENT
BEGIN:VEVENT
DTSTART;TZID=UTC:20300926T100000
DTEND;TZID=UTC:20300926T104500
DTSTAMP:20260420T062654
CREATED:20250618T074617Z
LAST-MODIFIED:20250618T074617Z
UID:10020645-1916647200-1916649900@www.vil.no
SUMMARY:Basisball
DESCRIPTION:
URL:https://www.vil.no/aktivitet/basisball/2030-09-26/
LOCATION:Salen\, Norge
CATEGORIES:Manuelle bookinger
END:VEVENT
BEGIN:VEVENT
DTSTART;TZID=UTC:20300926T173000
DTEND;TZID=UTC:20300926T190000
DTSTAMP:20260420T062654
CREATED:20260303T102557Z
LAST-MODIFIED:20260303T102557Z
UID:10020168-1916674200-1916679600@www.vil.no
SUMMARY:Bordtennis
DESCRIPTION:
URL:https://www.vil.no/aktivitet/bordtennis/2030-09-26/
LOCATION:Salen\, Norge
CATEGORIES:Manuelle bookinger
END:VEVENT
BEGIN:VEVENT
DTSTART;TZID=UTC:20300927T170000
DTEND;TZID=UTC:20300927T183000
DTSTAMP:20260420T062654
CREATED:20240923T105806Z
LAST-MODIFIED:20240923T105806Z
UID:10018599-1916758800-1916764200@www.vil.no
SUMMARY:J15 trening
DESCRIPTION:
URL:https://www.vil.no/aktivitet/j15-trening/2030-09-27/
LOCATION:Jæren Sparebank Arena\, Norge
CATEGORIES:Manuelle bookinger
END:VEVENT
END:VCALENDAR