BEGIN:VCALENDAR
VERSION:2.0
PRODID:-//Varhaug IL - ECPv6.15.20//NONSGML v1.0//EN
CALSCALE:GREGORIAN
METHOD:PUBLISH
X-ORIGINAL-URL:https://www.vil.no
X-WR-CALDESC:Arrangement for Varhaug IL
REFRESH-INTERVAL;VALUE=DURATION:PT1H
X-Robots-Tag:noindex
X-PUBLISHED-TTL:PT1H
BEGIN:VTIMEZONE
TZID:UTC
BEGIN:STANDARD
TZOFFSETFROM:+0000
TZOFFSETTO:+0000
TZNAME:UTC
DTSTART:20290101T000000
END:STANDARD
END:VTIMEZONE
BEGIN:VEVENT
DTSTART;TZID=UTC:20300916T100000
DTEND;TZID=UTC:20300916T150000
DTSTAMP:20260420T062947
CREATED:20250505T083050Z
LAST-MODIFIED:20250505T083329Z
UID:10019589-1915783200-1915801200@www.vil.no
SUMMARY:Kort og kaffi
DESCRIPTION:
URL:https://www.vil.no/aktivitet/kort-og-kaffi/2030-09-16/
LOCATION:Sosialt rom – JSA\, Norge
CATEGORIES:Manuelle bookinger
END:VEVENT
BEGIN:VEVENT
DTSTART;TZID=UTC:20300916T100000
DTEND;TZID=UTC:20300916T150000
DTSTAMP:20260420T062947
CREATED:20260217T091903Z
LAST-MODIFIED:20260217T091903Z
UID:10019872-1915783200-1915801200@www.vil.no
SUMMARY:Kort og kaffi
DESCRIPTION:
URL:https://www.vil.no/aktivitet/kort-og-kaffi-2/2030-09-16/
LOCATION:Sosialt rom – JSA\, Norge
CATEGORIES:Manuelle bookinger
END:VEVENT
BEGIN:VEVENT
DTSTART;TZID=UTC:20300916T153000
DTEND;TZID=UTC:20300916T163000
DTSTAMP:20260420T062947
CREATED:20250618T074720Z
LAST-MODIFIED:20250618T074720Z
UID:10020709-1915803000-1915806600@www.vil.no
SUMMARY:Styrke & Puls
DESCRIPTION:
URL:https://www.vil.no/aktivitet/styrke-puls-2/2030-09-16/
LOCATION:Salen\, Norge
CATEGORIES:Manuelle bookinger
END:VEVENT
BEGIN:VEVENT
DTSTART;TZID=UTC:20300918T100000
DTEND;TZID=UTC:20300918T110000
DTSTAMP:20260420T062947
CREATED:20250618T074211Z
LAST-MODIFIED:20250618T074211Z
UID:10020264-1915956000-1915959600@www.vil.no
SUMMARY:Fullkroppsøkt
DESCRIPTION:
URL:https://www.vil.no/aktivitet/fullkroppsokt/2030-09-18/
LOCATION:Salen\, Norge
CATEGORIES:Manuelle bookinger
END:VEVENT
BEGIN:VEVENT
DTSTART;TZID=UTC:20300918T153000
DTEND;TZID=UTC:20300918T163000
DTSTAMP:20260420T062947
CREATED:20250618T074424Z
LAST-MODIFIED:20250618T074424Z
UID:10020564-1915975800-1915979400@www.vil.no
SUMMARY:Styrke & Puls
DESCRIPTION:
URL:https://www.vil.no/aktivitet/styrke-puls/2030-09-18/
LOCATION:Salen\, Norge
CATEGORIES:Manuelle bookinger
END:VEVENT
BEGIN:VEVENT
DTSTART;TZID=UTC:20300918T180000
DTEND;TZID=UTC:20300918T183000
DTSTAMP:20260420T062947
CREATED:20260319T075532Z
LAST-MODIFIED:20260319T075532Z
UID:10020524-1915984800-1915986600@www.vil.no
SUMMARY:E-sport
DESCRIPTION:
URL:https://www.vil.no/aktivitet/e-sport-2/2030-09-18/
LOCATION:Salen\, Norge
CATEGORIES:Manuelle bookinger
END:VEVENT
BEGIN:VEVENT
DTSTART;TZID=UTC:20300918T183000
DTEND;TZID=UTC:20300918T194500
DTSTAMP:20260420T062947
CREATED:20250618T074520Z
LAST-MODIFIED:20250618T074520Z
UID:10020604-1915986600-1915991100@www.vil.no
SUMMARY:Kettlebells
DESCRIPTION:
URL:https://www.vil.no/aktivitet/kettlebells/2030-09-18/
LOCATION:Salen\, Norge
CATEGORIES:Manuelle bookinger
END:VEVENT
BEGIN:VEVENT
DTSTART;TZID=UTC:20300919T100000
DTEND;TZID=UTC:20300919T104500
DTSTAMP:20260420T062947
CREATED:20250618T074617Z
LAST-MODIFIED:20250618T074617Z
UID:10020644-1916042400-1916045100@www.vil.no
SUMMARY:Basisball
DESCRIPTION:
URL:https://www.vil.no/aktivitet/basisball/2030-09-19/
LOCATION:Salen\, Norge
CATEGORIES:Manuelle bookinger
END:VEVENT
BEGIN:VEVENT
DTSTART;TZID=UTC:20300919T173000
DTEND;TZID=UTC:20300919T190000
DTSTAMP:20260420T062947
CREATED:20260303T102557Z
LAST-MODIFIED:20260303T102557Z
UID:10020167-1916069400-1916074800@www.vil.no
SUMMARY:Bordtennis
DESCRIPTION:
URL:https://www.vil.no/aktivitet/bordtennis/2030-09-19/
LOCATION:Salen\, Norge
CATEGORIES:Manuelle bookinger
END:VEVENT
BEGIN:VEVENT
DTSTART;TZID=UTC:20300920T170000
DTEND;TZID=UTC:20300920T183000
DTSTAMP:20260420T062947
CREATED:20240923T105806Z
LAST-MODIFIED:20240923T105806Z
UID:10016655-1916154000-1916159400@www.vil.no
SUMMARY:J15 trening
DESCRIPTION:
URL:https://www.vil.no/aktivitet/j15-trening/2030-09-20/
LOCATION:Jæren Sparebank Arena\, Norge
CATEGORIES:Manuelle bookinger
END:VEVENT
END:VCALENDAR