BEGIN:VCALENDAR
VERSION:2.0
PRODID:-//Varhaug IL - ECPv6.15.20//NONSGML v1.0//EN
CALSCALE:GREGORIAN
METHOD:PUBLISH
X-WR-CALNAME:Varhaug IL
X-ORIGINAL-URL:https://www.vil.no
X-WR-CALDESC:Arrangement for Varhaug IL
REFRESH-INTERVAL;VALUE=DURATION:PT1H
X-Robots-Tag:noindex
X-PUBLISHED-TTL:PT1H
BEGIN:VTIMEZONE
TZID:UTC
BEGIN:STANDARD
TZOFFSETFROM:+0000
TZOFFSETTO:+0000
TZNAME:UTC
DTSTART:20290101T000000
END:STANDARD
END:VTIMEZONE
BEGIN:VEVENT
DTSTART;TZID=UTC:20300909T100000
DTEND;TZID=UTC:20300909T150000
DTSTAMP:20260420T062655
CREATED:20250505T083050Z
LAST-MODIFIED:20250505T083329Z
UID:10019588-1915178400-1915196400@www.vil.no
SUMMARY:Kort og kaffi
DESCRIPTION:
URL:https://www.vil.no/aktivitet/kort-og-kaffi/2030-09-09/
LOCATION:Sosialt rom – JSA\, Norge
CATEGORIES:Manuelle bookinger
END:VEVENT
BEGIN:VEVENT
DTSTART;TZID=UTC:20300909T100000
DTEND;TZID=UTC:20300909T150000
DTSTAMP:20260420T062655
CREATED:20260217T091903Z
LAST-MODIFIED:20260217T091903Z
UID:10019871-1915178400-1915196400@www.vil.no
SUMMARY:Kort og kaffi
DESCRIPTION:
URL:https://www.vil.no/aktivitet/kort-og-kaffi-2/2030-09-09/
LOCATION:Sosialt rom – JSA\, Norge
CATEGORIES:Manuelle bookinger
END:VEVENT
BEGIN:VEVENT
DTSTART;TZID=UTC:20300909T153000
DTEND;TZID=UTC:20300909T163000
DTSTAMP:20260420T062655
CREATED:20250618T074720Z
LAST-MODIFIED:20250618T074720Z
UID:10020708-1915198200-1915201800@www.vil.no
SUMMARY:Styrke & Puls
DESCRIPTION:
URL:https://www.vil.no/aktivitet/styrke-puls-2/2030-09-09/
LOCATION:Salen\, Norge
CATEGORIES:Manuelle bookinger
END:VEVENT
BEGIN:VEVENT
DTSTART;TZID=UTC:20300911T100000
DTEND;TZID=UTC:20300911T110000
DTSTAMP:20260420T062655
CREATED:20250618T074211Z
LAST-MODIFIED:20250618T074211Z
UID:10020263-1915351200-1915354800@www.vil.no
SUMMARY:Fullkroppsøkt
DESCRIPTION:
URL:https://www.vil.no/aktivitet/fullkroppsokt/2030-09-11/
LOCATION:Salen\, Norge
CATEGORIES:Manuelle bookinger
END:VEVENT
BEGIN:VEVENT
DTSTART;TZID=UTC:20300911T153000
DTEND;TZID=UTC:20300911T163000
DTSTAMP:20260420T062655
CREATED:20250618T074424Z
LAST-MODIFIED:20250618T074424Z
UID:10020563-1915371000-1915374600@www.vil.no
SUMMARY:Styrke & Puls
DESCRIPTION:
URL:https://www.vil.no/aktivitet/styrke-puls/2030-09-11/
LOCATION:Salen\, Norge
CATEGORIES:Manuelle bookinger
END:VEVENT
BEGIN:VEVENT
DTSTART;TZID=UTC:20300911T180000
DTEND;TZID=UTC:20300911T183000
DTSTAMP:20260420T062655
CREATED:20260319T075532Z
LAST-MODIFIED:20260319T075532Z
UID:10020523-1915380000-1915381800@www.vil.no
SUMMARY:E-sport
DESCRIPTION:
URL:https://www.vil.no/aktivitet/e-sport-2/2030-09-11/
LOCATION:Salen\, Norge
CATEGORIES:Manuelle bookinger
END:VEVENT
BEGIN:VEVENT
DTSTART;TZID=UTC:20300911T183000
DTEND;TZID=UTC:20300911T194500
DTSTAMP:20260420T062655
CREATED:20250618T074520Z
LAST-MODIFIED:20250618T074520Z
UID:10020603-1915381800-1915386300@www.vil.no
SUMMARY:Kettlebells
DESCRIPTION:
URL:https://www.vil.no/aktivitet/kettlebells/2030-09-11/
LOCATION:Salen\, Norge
CATEGORIES:Manuelle bookinger
END:VEVENT
BEGIN:VEVENT
DTSTART;TZID=UTC:20300912T100000
DTEND;TZID=UTC:20300912T104500
DTSTAMP:20260420T062655
CREATED:20250618T074617Z
LAST-MODIFIED:20250618T074617Z
UID:10020643-1915437600-1915440300@www.vil.no
SUMMARY:Basisball
DESCRIPTION:
URL:https://www.vil.no/aktivitet/basisball/2030-09-12/
LOCATION:Salen\, Norge
CATEGORIES:Manuelle bookinger
END:VEVENT
BEGIN:VEVENT
DTSTART;TZID=UTC:20300912T173000
DTEND;TZID=UTC:20300912T190000
DTSTAMP:20260420T062655
CREATED:20260303T102557Z
LAST-MODIFIED:20260303T102557Z
UID:10020166-1915464600-1915470000@www.vil.no
SUMMARY:Bordtennis
DESCRIPTION:
URL:https://www.vil.no/aktivitet/bordtennis/2030-09-12/
LOCATION:Salen\, Norge
CATEGORIES:Manuelle bookinger
END:VEVENT
BEGIN:VEVENT
DTSTART;TZID=UTC:20300913T170000
DTEND;TZID=UTC:20300913T183000
DTSTAMP:20260420T062655
CREATED:20240923T105806Z
LAST-MODIFIED:20240923T105806Z
UID:10016606-1915549200-1915554600@www.vil.no
SUMMARY:J15 trening
DESCRIPTION:
URL:https://www.vil.no/aktivitet/j15-trening/2030-09-13/
LOCATION:Jæren Sparebank Arena\, Norge
CATEGORIES:Manuelle bookinger
END:VEVENT
END:VCALENDAR