BEGIN:VCALENDAR
VERSION:2.0
PRODID:-//Varhaug IL - ECPv6.15.20//NONSGML v1.0//EN
CALSCALE:GREGORIAN
METHOD:PUBLISH
X-WR-CALNAME:Varhaug IL
X-ORIGINAL-URL:https://www.vil.no
X-WR-CALDESC:Arrangement for Varhaug IL
REFRESH-INTERVAL;VALUE=DURATION:PT1H
X-Robots-Tag:noindex
X-PUBLISHED-TTL:PT1H
BEGIN:VTIMEZONE
TZID:UTC
BEGIN:STANDARD
TZOFFSETFROM:+0000
TZOFFSETTO:+0000
TZNAME:UTC
DTSTART:20290101T000000
END:STANDARD
END:VTIMEZONE
BEGIN:VEVENT
DTSTART;TZID=UTC:20300812T100000
DTEND;TZID=UTC:20300812T150000
DTSTAMP:20260420T043145
CREATED:20250505T083050Z
LAST-MODIFIED:20250505T083329Z
UID:10019584-1912759200-1912777200@www.vil.no
SUMMARY:Kort og kaffi
DESCRIPTION:
URL:https://www.vil.no/aktivitet/kort-og-kaffi/2030-08-12/
LOCATION:Sosialt rom – JSA\, Norge
CATEGORIES:Manuelle bookinger
END:VEVENT
BEGIN:VEVENT
DTSTART;TZID=UTC:20300812T100000
DTEND;TZID=UTC:20300812T150000
DTSTAMP:20260420T043145
CREATED:20260217T091903Z
LAST-MODIFIED:20260217T091903Z
UID:10019867-1912759200-1912777200@www.vil.no
SUMMARY:Kort og kaffi
DESCRIPTION:
URL:https://www.vil.no/aktivitet/kort-og-kaffi-2/2030-08-12/
LOCATION:Sosialt rom – JSA\, Norge
CATEGORIES:Manuelle bookinger
END:VEVENT
BEGIN:VEVENT
DTSTART;TZID=UTC:20300812T153000
DTEND;TZID=UTC:20300812T163000
DTSTAMP:20260420T043145
CREATED:20250618T074720Z
LAST-MODIFIED:20250618T074720Z
UID:10020704-1912779000-1912782600@www.vil.no
SUMMARY:Styrke & Puls
DESCRIPTION:
URL:https://www.vil.no/aktivitet/styrke-puls-2/2030-08-12/
LOCATION:Salen\, Norge
CATEGORIES:Manuelle bookinger
END:VEVENT
BEGIN:VEVENT
DTSTART;TZID=UTC:20300814T100000
DTEND;TZID=UTC:20300814T110000
DTSTAMP:20260420T043145
CREATED:20250618T074211Z
LAST-MODIFIED:20250618T074211Z
UID:10020259-1912932000-1912935600@www.vil.no
SUMMARY:Fullkroppsøkt
DESCRIPTION:
URL:https://www.vil.no/aktivitet/fullkroppsokt/2030-08-14/
LOCATION:Salen\, Norge
CATEGORIES:Manuelle bookinger
END:VEVENT
BEGIN:VEVENT
DTSTART;TZID=UTC:20300814T153000
DTEND;TZID=UTC:20300814T163000
DTSTAMP:20260420T043145
CREATED:20250618T074424Z
LAST-MODIFIED:20250618T074424Z
UID:10020559-1912951800-1912955400@www.vil.no
SUMMARY:Styrke & Puls
DESCRIPTION:
URL:https://www.vil.no/aktivitet/styrke-puls/2030-08-14/
LOCATION:Salen\, Norge
CATEGORIES:Manuelle bookinger
END:VEVENT
BEGIN:VEVENT
DTSTART;TZID=UTC:20300814T180000
DTEND;TZID=UTC:20300814T183000
DTSTAMP:20260420T043145
CREATED:20260319T075532Z
LAST-MODIFIED:20260319T075532Z
UID:10020519-1912960800-1912962600@www.vil.no
SUMMARY:E-sport
DESCRIPTION:
URL:https://www.vil.no/aktivitet/e-sport-2/2030-08-14/
LOCATION:Salen\, Norge
CATEGORIES:Manuelle bookinger
END:VEVENT
BEGIN:VEVENT
DTSTART;TZID=UTC:20300814T183000
DTEND;TZID=UTC:20300814T194500
DTSTAMP:20260420T043145
CREATED:20250618T074520Z
LAST-MODIFIED:20250618T074520Z
UID:10020599-1912962600-1912967100@www.vil.no
SUMMARY:Kettlebells
DESCRIPTION:
URL:https://www.vil.no/aktivitet/kettlebells/2030-08-14/
LOCATION:Salen\, Norge
CATEGORIES:Manuelle bookinger
END:VEVENT
BEGIN:VEVENT
DTSTART;TZID=UTC:20300815T100000
DTEND;TZID=UTC:20300815T104500
DTSTAMP:20260420T043145
CREATED:20250618T074617Z
LAST-MODIFIED:20250618T074617Z
UID:10020639-1913018400-1913021100@www.vil.no
SUMMARY:Basisball
DESCRIPTION:
URL:https://www.vil.no/aktivitet/basisball/2030-08-15/
LOCATION:Salen\, Norge
CATEGORIES:Manuelle bookinger
END:VEVENT
BEGIN:VEVENT
DTSTART;TZID=UTC:20300815T173000
DTEND;TZID=UTC:20300815T190000
DTSTAMP:20260420T043145
CREATED:20260303T102557Z
LAST-MODIFIED:20260303T102557Z
UID:10020162-1913045400-1913050800@www.vil.no
SUMMARY:Bordtennis
DESCRIPTION:
URL:https://www.vil.no/aktivitet/bordtennis/2030-08-15/
LOCATION:Salen\, Norge
CATEGORIES:Manuelle bookinger
END:VEVENT
BEGIN:VEVENT
DTSTART;TZID=UTC:20300816T170000
DTEND;TZID=UTC:20300816T183000
DTSTAMP:20260420T043145
CREATED:20240923T105806Z
LAST-MODIFIED:20240923T105806Z
UID:10016190-1913130000-1913135400@www.vil.no
SUMMARY:J15 trening
DESCRIPTION:
URL:https://www.vil.no/aktivitet/j15-trening/2030-08-16/
LOCATION:Jæren Sparebank Arena\, Norge
CATEGORIES:Manuelle bookinger
END:VEVENT
END:VCALENDAR