BEGIN:VCALENDAR
VERSION:2.0
PRODID:-//Varhaug IL - ECPv6.15.20//NONSGML v1.0//EN
CALSCALE:GREGORIAN
METHOD:PUBLISH
X-WR-CALNAME:Varhaug IL
X-ORIGINAL-URL:https://www.vil.no
X-WR-CALDESC:Arrangement for Varhaug IL
REFRESH-INTERVAL;VALUE=DURATION:PT1H
X-Robots-Tag:noindex
X-PUBLISHED-TTL:PT1H
BEGIN:VTIMEZONE
TZID:UTC
BEGIN:STANDARD
TZOFFSETFROM:+0000
TZOFFSETTO:+0000
TZNAME:UTC
DTSTART:20290101T000000
END:STANDARD
END:VTIMEZONE
BEGIN:VEVENT
DTSTART;TZID=UTC:20300729T100000
DTEND;TZID=UTC:20300729T150000
DTSTAMP:20260420T025912
CREATED:20250505T083050Z
LAST-MODIFIED:20250505T083329Z
UID:10019582-1911549600-1911567600@www.vil.no
SUMMARY:Kort og kaffi
DESCRIPTION:
URL:https://www.vil.no/aktivitet/kort-og-kaffi/2030-07-29/
LOCATION:Sosialt rom – JSA\, Norge
CATEGORIES:Manuelle bookinger
END:VEVENT
BEGIN:VEVENT
DTSTART;TZID=UTC:20300729T100000
DTEND;TZID=UTC:20300729T150000
DTSTAMP:20260420T025912
CREATED:20260217T091903Z
LAST-MODIFIED:20260217T091903Z
UID:10019865-1911549600-1911567600@www.vil.no
SUMMARY:Kort og kaffi
DESCRIPTION:
URL:https://www.vil.no/aktivitet/kort-og-kaffi-2/2030-07-29/
LOCATION:Sosialt rom – JSA\, Norge
CATEGORIES:Manuelle bookinger
END:VEVENT
BEGIN:VEVENT
DTSTART;TZID=UTC:20300729T153000
DTEND;TZID=UTC:20300729T163000
DTSTAMP:20260420T025912
CREATED:20250618T074720Z
LAST-MODIFIED:20250618T074720Z
UID:10020702-1911569400-1911573000@www.vil.no
SUMMARY:Styrke & Puls
DESCRIPTION:
URL:https://www.vil.no/aktivitet/styrke-puls-2/2030-07-29/
LOCATION:Salen\, Norge
CATEGORIES:Manuelle bookinger
END:VEVENT
BEGIN:VEVENT
DTSTART;TZID=UTC:20300731T100000
DTEND;TZID=UTC:20300731T110000
DTSTAMP:20260420T025912
CREATED:20250618T074211Z
LAST-MODIFIED:20250618T074211Z
UID:10020257-1911722400-1911726000@www.vil.no
SUMMARY:Fullkroppsøkt
DESCRIPTION:
URL:https://www.vil.no/aktivitet/fullkroppsokt/2030-07-31/
LOCATION:Salen\, Norge
CATEGORIES:Manuelle bookinger
END:VEVENT
BEGIN:VEVENT
DTSTART;TZID=UTC:20300731T153000
DTEND;TZID=UTC:20300731T163000
DTSTAMP:20260420T025912
CREATED:20250618T074424Z
LAST-MODIFIED:20250618T074424Z
UID:10020557-1911742200-1911745800@www.vil.no
SUMMARY:Styrke & Puls
DESCRIPTION:
URL:https://www.vil.no/aktivitet/styrke-puls/2030-07-31/
LOCATION:Salen\, Norge
CATEGORIES:Manuelle bookinger
END:VEVENT
BEGIN:VEVENT
DTSTART;TZID=UTC:20300731T180000
DTEND;TZID=UTC:20300731T183000
DTSTAMP:20260420T025912
CREATED:20260319T075532Z
LAST-MODIFIED:20260319T075532Z
UID:10020517-1911751200-1911753000@www.vil.no
SUMMARY:E-sport
DESCRIPTION:
URL:https://www.vil.no/aktivitet/e-sport-2/2030-07-31/
LOCATION:Salen\, Norge
CATEGORIES:Manuelle bookinger
END:VEVENT
BEGIN:VEVENT
DTSTART;TZID=UTC:20300731T183000
DTEND;TZID=UTC:20300731T194500
DTSTAMP:20260420T025912
CREATED:20250618T074520Z
LAST-MODIFIED:20250618T074520Z
UID:10020597-1911753000-1911757500@www.vil.no
SUMMARY:Kettlebells
DESCRIPTION:
URL:https://www.vil.no/aktivitet/kettlebells/2030-07-31/
LOCATION:Salen\, Norge
CATEGORIES:Manuelle bookinger
END:VEVENT
BEGIN:VEVENT
DTSTART;TZID=UTC:20300801T100000
DTEND;TZID=UTC:20300801T104500
DTSTAMP:20260420T025912
CREATED:20250618T074617Z
LAST-MODIFIED:20250618T074617Z
UID:10020637-1911808800-1911811500@www.vil.no
SUMMARY:Basisball
DESCRIPTION:
URL:https://www.vil.no/aktivitet/basisball/2030-08-01/
LOCATION:Salen\, Norge
CATEGORIES:Manuelle bookinger
END:VEVENT
BEGIN:VEVENT
DTSTART;TZID=UTC:20300801T173000
DTEND;TZID=UTC:20300801T190000
DTSTAMP:20260420T025912
CREATED:20260303T102557Z
LAST-MODIFIED:20260303T102557Z
UID:10020160-1911835800-1911841200@www.vil.no
SUMMARY:Bordtennis
DESCRIPTION:
URL:https://www.vil.no/aktivitet/bordtennis/2030-08-01/
LOCATION:Salen\, Norge
CATEGORIES:Manuelle bookinger
END:VEVENT
BEGIN:VEVENT
DTSTART;TZID=UTC:20300802T170000
DTEND;TZID=UTC:20300802T183000
DTSTAMP:20260420T025912
CREATED:20240923T105806Z
LAST-MODIFIED:20240923T105806Z
UID:10016070-1911920400-1911925800@www.vil.no
SUMMARY:J15 trening
DESCRIPTION:
URL:https://www.vil.no/aktivitet/j15-trening/2030-08-02/
LOCATION:Jæren Sparebank Arena\, Norge
CATEGORIES:Manuelle bookinger
END:VEVENT
END:VCALENDAR