BEGIN:VCALENDAR
VERSION:2.0
PRODID:-//Varhaug IL - ECPv6.15.20//NONSGML v1.0//EN
CALSCALE:GREGORIAN
METHOD:PUBLISH
X-WR-CALNAME:Varhaug IL
X-ORIGINAL-URL:https://www.vil.no
X-WR-CALDESC:Arrangement for Varhaug IL
REFRESH-INTERVAL;VALUE=DURATION:PT1H
X-Robots-Tag:noindex
X-PUBLISHED-TTL:PT1H
BEGIN:VTIMEZONE
TZID:UTC
BEGIN:STANDARD
TZOFFSETFROM:+0000
TZOFFSETTO:+0000
TZNAME:UTC
DTSTART:20290101T000000
END:STANDARD
END:VTIMEZONE
BEGIN:VEVENT
DTSTART;TZID=UTC:20300715T100000
DTEND;TZID=UTC:20300715T150000
DTSTAMP:20260420T025918
CREATED:20250505T083050Z
LAST-MODIFIED:20250505T083329Z
UID:10019580-1910340000-1910358000@www.vil.no
SUMMARY:Kort og kaffi
DESCRIPTION:
URL:https://www.vil.no/aktivitet/kort-og-kaffi/2030-07-15/
LOCATION:Sosialt rom – JSA\, Norge
CATEGORIES:Manuelle bookinger
END:VEVENT
BEGIN:VEVENT
DTSTART;TZID=UTC:20300715T100000
DTEND;TZID=UTC:20300715T150000
DTSTAMP:20260420T025918
CREATED:20260217T091903Z
LAST-MODIFIED:20260217T091903Z
UID:10019863-1910340000-1910358000@www.vil.no
SUMMARY:Kort og kaffi
DESCRIPTION:
URL:https://www.vil.no/aktivitet/kort-og-kaffi-2/2030-07-15/
LOCATION:Sosialt rom – JSA\, Norge
CATEGORIES:Manuelle bookinger
END:VEVENT
BEGIN:VEVENT
DTSTART;TZID=UTC:20300715T153000
DTEND;TZID=UTC:20300715T163000
DTSTAMP:20260420T025918
CREATED:20250618T074720Z
LAST-MODIFIED:20250618T074720Z
UID:10020700-1910359800-1910363400@www.vil.no
SUMMARY:Styrke & Puls
DESCRIPTION:
URL:https://www.vil.no/aktivitet/styrke-puls-2/2030-07-15/
LOCATION:Salen\, Norge
CATEGORIES:Manuelle bookinger
END:VEVENT
BEGIN:VEVENT
DTSTART;TZID=UTC:20300717T100000
DTEND;TZID=UTC:20300717T110000
DTSTAMP:20260420T025918
CREATED:20250618T074211Z
LAST-MODIFIED:20250618T074211Z
UID:10020255-1910512800-1910516400@www.vil.no
SUMMARY:Fullkroppsøkt
DESCRIPTION:
URL:https://www.vil.no/aktivitet/fullkroppsokt/2030-07-17/
LOCATION:Salen\, Norge
CATEGORIES:Manuelle bookinger
END:VEVENT
BEGIN:VEVENT
DTSTART;TZID=UTC:20300717T153000
DTEND;TZID=UTC:20300717T163000
DTSTAMP:20260420T025918
CREATED:20250618T074424Z
LAST-MODIFIED:20250618T074424Z
UID:10020555-1910532600-1910536200@www.vil.no
SUMMARY:Styrke & Puls
DESCRIPTION:
URL:https://www.vil.no/aktivitet/styrke-puls/2030-07-17/
LOCATION:Salen\, Norge
CATEGORIES:Manuelle bookinger
END:VEVENT
BEGIN:VEVENT
DTSTART;TZID=UTC:20300717T180000
DTEND;TZID=UTC:20300717T183000
DTSTAMP:20260420T025918
CREATED:20260319T075532Z
LAST-MODIFIED:20260319T075532Z
UID:10020515-1910541600-1910543400@www.vil.no
SUMMARY:E-sport
DESCRIPTION:
URL:https://www.vil.no/aktivitet/e-sport-2/2030-07-17/
LOCATION:Salen\, Norge
CATEGORIES:Manuelle bookinger
END:VEVENT
BEGIN:VEVENT
DTSTART;TZID=UTC:20300717T183000
DTEND;TZID=UTC:20300717T194500
DTSTAMP:20260420T025918
CREATED:20250618T074520Z
LAST-MODIFIED:20250618T074520Z
UID:10020595-1910543400-1910547900@www.vil.no
SUMMARY:Kettlebells
DESCRIPTION:
URL:https://www.vil.no/aktivitet/kettlebells/2030-07-17/
LOCATION:Salen\, Norge
CATEGORIES:Manuelle bookinger
END:VEVENT
BEGIN:VEVENT
DTSTART;TZID=UTC:20300718T100000
DTEND;TZID=UTC:20300718T104500
DTSTAMP:20260420T025918
CREATED:20250618T074617Z
LAST-MODIFIED:20250618T074617Z
UID:10020635-1910599200-1910601900@www.vil.no
SUMMARY:Basisball
DESCRIPTION:
URL:https://www.vil.no/aktivitet/basisball/2030-07-18/
LOCATION:Salen\, Norge
CATEGORIES:Manuelle bookinger
END:VEVENT
BEGIN:VEVENT
DTSTART;TZID=UTC:20300718T173000
DTEND;TZID=UTC:20300718T190000
DTSTAMP:20260420T025918
CREATED:20260303T102557Z
LAST-MODIFIED:20260303T102557Z
UID:10020158-1910626200-1910631600@www.vil.no
SUMMARY:Bordtennis
DESCRIPTION:
URL:https://www.vil.no/aktivitet/bordtennis/2030-07-18/
LOCATION:Salen\, Norge
CATEGORIES:Manuelle bookinger
END:VEVENT
BEGIN:VEVENT
DTSTART;TZID=UTC:20300719T170000
DTEND;TZID=UTC:20300719T183000
DTSTAMP:20260420T025918
CREATED:20240923T105806Z
LAST-MODIFIED:20240923T105806Z
UID:10016033-1910710800-1910716200@www.vil.no
SUMMARY:J15 trening
DESCRIPTION:
URL:https://www.vil.no/aktivitet/j15-trening/2030-07-19/
LOCATION:Jæren Sparebank Arena\, Norge
CATEGORIES:Manuelle bookinger
END:VEVENT
END:VCALENDAR