BEGIN:VCALENDAR
VERSION:2.0
PRODID:-//Varhaug IL - ECPv6.15.20//NONSGML v1.0//EN
CALSCALE:GREGORIAN
METHOD:PUBLISH
X-ORIGINAL-URL:https://www.vil.no
X-WR-CALDESC:Arrangement for Varhaug IL
REFRESH-INTERVAL;VALUE=DURATION:PT1H
X-Robots-Tag:noindex
X-PUBLISHED-TTL:PT1H
BEGIN:VTIMEZONE
TZID:UTC
BEGIN:STANDARD
TZOFFSETFROM:+0000
TZOFFSETTO:+0000
TZNAME:UTC
DTSTART:20290101T000000
END:STANDARD
END:VTIMEZONE
BEGIN:VEVENT
DTSTART;TZID=UTC:20300701T100000
DTEND;TZID=UTC:20300701T150000
DTSTAMP:20260420T010437
CREATED:20250505T083050Z
LAST-MODIFIED:20250505T083329Z
UID:10019578-1909130400-1909148400@www.vil.no
SUMMARY:Kort og kaffi
DESCRIPTION:
URL:https://www.vil.no/aktivitet/kort-og-kaffi/2030-07-01/
LOCATION:Sosialt rom – JSA\, Norge
CATEGORIES:Manuelle bookinger
END:VEVENT
BEGIN:VEVENT
DTSTART;TZID=UTC:20300701T100000
DTEND;TZID=UTC:20300701T150000
DTSTAMP:20260420T010437
CREATED:20260217T091903Z
LAST-MODIFIED:20260217T091903Z
UID:10019861-1909130400-1909148400@www.vil.no
SUMMARY:Kort og kaffi
DESCRIPTION:
URL:https://www.vil.no/aktivitet/kort-og-kaffi-2/2030-07-01/
LOCATION:Sosialt rom – JSA\, Norge
CATEGORIES:Manuelle bookinger
END:VEVENT
BEGIN:VEVENT
DTSTART;TZID=UTC:20300701T153000
DTEND;TZID=UTC:20300701T163000
DTSTAMP:20260420T010437
CREATED:20250618T074720Z
LAST-MODIFIED:20250618T074720Z
UID:10020698-1909150200-1909153800@www.vil.no
SUMMARY:Styrke & Puls
DESCRIPTION:
URL:https://www.vil.no/aktivitet/styrke-puls-2/2030-07-01/
LOCATION:Salen\, Norge
CATEGORIES:Manuelle bookinger
END:VEVENT
BEGIN:VEVENT
DTSTART;TZID=UTC:20300703T100000
DTEND;TZID=UTC:20300703T110000
DTSTAMP:20260420T010437
CREATED:20250618T074211Z
LAST-MODIFIED:20250618T074211Z
UID:10020253-1909303200-1909306800@www.vil.no
SUMMARY:Fullkroppsøkt
DESCRIPTION:
URL:https://www.vil.no/aktivitet/fullkroppsokt/2030-07-03/
LOCATION:Salen\, Norge
CATEGORIES:Manuelle bookinger
END:VEVENT
BEGIN:VEVENT
DTSTART;TZID=UTC:20300703T153000
DTEND;TZID=UTC:20300703T163000
DTSTAMP:20260420T010437
CREATED:20250618T074424Z
LAST-MODIFIED:20250618T074424Z
UID:10020553-1909323000-1909326600@www.vil.no
SUMMARY:Styrke & Puls
DESCRIPTION:
URL:https://www.vil.no/aktivitet/styrke-puls/2030-07-03/
LOCATION:Salen\, Norge
CATEGORIES:Manuelle bookinger
END:VEVENT
BEGIN:VEVENT
DTSTART;TZID=UTC:20300703T180000
DTEND;TZID=UTC:20300703T183000
DTSTAMP:20260420T010437
CREATED:20260319T075532Z
LAST-MODIFIED:20260319T075532Z
UID:10020513-1909332000-1909333800@www.vil.no
SUMMARY:E-sport
DESCRIPTION:
URL:https://www.vil.no/aktivitet/e-sport-2/2030-07-03/
LOCATION:Salen\, Norge
CATEGORIES:Manuelle bookinger
END:VEVENT
BEGIN:VEVENT
DTSTART;TZID=UTC:20300703T183000
DTEND;TZID=UTC:20300703T194500
DTSTAMP:20260420T010437
CREATED:20250618T074520Z
LAST-MODIFIED:20250618T074520Z
UID:10020593-1909333800-1909338300@www.vil.no
SUMMARY:Kettlebells
DESCRIPTION:
URL:https://www.vil.no/aktivitet/kettlebells/2030-07-03/
LOCATION:Salen\, Norge
CATEGORIES:Manuelle bookinger
END:VEVENT
BEGIN:VEVENT
DTSTART;TZID=UTC:20300704T100000
DTEND;TZID=UTC:20300704T104500
DTSTAMP:20260420T010437
CREATED:20250618T074617Z
LAST-MODIFIED:20250618T074617Z
UID:10020633-1909389600-1909392300@www.vil.no
SUMMARY:Basisball
DESCRIPTION:
URL:https://www.vil.no/aktivitet/basisball/2030-07-04/
LOCATION:Salen\, Norge
CATEGORIES:Manuelle bookinger
END:VEVENT
BEGIN:VEVENT
DTSTART;TZID=UTC:20300704T173000
DTEND;TZID=UTC:20300704T190000
DTSTAMP:20260420T010437
CREATED:20260303T102557Z
LAST-MODIFIED:20260303T102557Z
UID:10020156-1909416600-1909422000@www.vil.no
SUMMARY:Bordtennis
DESCRIPTION:
URL:https://www.vil.no/aktivitet/bordtennis/2030-07-04/
LOCATION:Salen\, Norge
CATEGORIES:Manuelle bookinger
END:VEVENT
BEGIN:VEVENT
DTSTART;TZID=UTC:20300705T170000
DTEND;TZID=UTC:20300705T183000
DTSTAMP:20260420T010437
CREATED:20240923T105806Z
LAST-MODIFIED:20240923T105806Z
UID:10015994-1909501200-1909506600@www.vil.no
SUMMARY:J15 trening
DESCRIPTION:
URL:https://www.vil.no/aktivitet/j15-trening/2030-07-05/
LOCATION:Jæren Sparebank Arena\, Norge
CATEGORIES:Manuelle bookinger
END:VEVENT
END:VCALENDAR