BEGIN:VCALENDAR
VERSION:2.0
PRODID:-//Varhaug IL - ECPv6.15.20//NONSGML v1.0//EN
CALSCALE:GREGORIAN
METHOD:PUBLISH
X-WR-CALNAME:Varhaug IL
X-ORIGINAL-URL:https://www.vil.no
X-WR-CALDESC:Arrangement for Varhaug IL
REFRESH-INTERVAL;VALUE=DURATION:PT1H
X-Robots-Tag:noindex
X-PUBLISHED-TTL:PT1H
BEGIN:VTIMEZONE
TZID:UTC
BEGIN:STANDARD
TZOFFSETFROM:+0000
TZOFFSETTO:+0000
TZNAME:UTC
DTSTART:20290101T000000
END:STANDARD
END:VTIMEZONE
BEGIN:VEVENT
DTSTART;TZID=UTC:20300617T100000
DTEND;TZID=UTC:20300617T150000
DTSTAMP:20260420T025912
CREATED:20250505T083050Z
LAST-MODIFIED:20250505T083329Z
UID:10019576-1907920800-1907938800@www.vil.no
SUMMARY:Kort og kaffi
DESCRIPTION:
URL:https://www.vil.no/aktivitet/kort-og-kaffi/2030-06-17/
LOCATION:Sosialt rom – JSA\, Norge
CATEGORIES:Manuelle bookinger
END:VEVENT
BEGIN:VEVENT
DTSTART;TZID=UTC:20300617T100000
DTEND;TZID=UTC:20300617T150000
DTSTAMP:20260420T025912
CREATED:20260217T091903Z
LAST-MODIFIED:20260217T091903Z
UID:10019859-1907920800-1907938800@www.vil.no
SUMMARY:Kort og kaffi
DESCRIPTION:
URL:https://www.vil.no/aktivitet/kort-og-kaffi-2/2030-06-17/
LOCATION:Sosialt rom – JSA\, Norge
CATEGORIES:Manuelle bookinger
END:VEVENT
BEGIN:VEVENT
DTSTART;TZID=UTC:20300617T153000
DTEND;TZID=UTC:20300617T163000
DTSTAMP:20260420T025912
CREATED:20250618T074720Z
LAST-MODIFIED:20250618T074720Z
UID:10015838-1907940600-1907944200@www.vil.no
SUMMARY:Styrke & Puls
DESCRIPTION:
URL:https://www.vil.no/aktivitet/styrke-puls-2/2030-06-17/
LOCATION:Salen\, Norge
CATEGORIES:Manuelle bookinger
END:VEVENT
BEGIN:VEVENT
DTSTART;TZID=UTC:20300619T100000
DTEND;TZID=UTC:20300619T110000
DTSTAMP:20260420T025912
CREATED:20250618T074211Z
LAST-MODIFIED:20250618T074211Z
UID:10020251-1908093600-1908097200@www.vil.no
SUMMARY:Fullkroppsøkt
DESCRIPTION:
URL:https://www.vil.no/aktivitet/fullkroppsokt/2030-06-19/
LOCATION:Salen\, Norge
CATEGORIES:Manuelle bookinger
END:VEVENT
BEGIN:VEVENT
DTSTART;TZID=UTC:20300619T153000
DTEND;TZID=UTC:20300619T163000
DTSTAMP:20260420T025912
CREATED:20250618T074424Z
LAST-MODIFIED:20250618T074424Z
UID:10020551-1908113400-1908117000@www.vil.no
SUMMARY:Styrke & Puls
DESCRIPTION:
URL:https://www.vil.no/aktivitet/styrke-puls/2030-06-19/
LOCATION:Salen\, Norge
CATEGORIES:Manuelle bookinger
END:VEVENT
BEGIN:VEVENT
DTSTART;TZID=UTC:20300619T180000
DTEND;TZID=UTC:20300619T183000
DTSTAMP:20260420T025912
CREATED:20260319T075532Z
LAST-MODIFIED:20260319T075532Z
UID:10020511-1908122400-1908124200@www.vil.no
SUMMARY:E-sport
DESCRIPTION:
URL:https://www.vil.no/aktivitet/e-sport-2/2030-06-19/
LOCATION:Salen\, Norge
CATEGORIES:Manuelle bookinger
END:VEVENT
BEGIN:VEVENT
DTSTART;TZID=UTC:20300619T183000
DTEND;TZID=UTC:20300619T194500
DTSTAMP:20260420T025912
CREATED:20250618T074520Z
LAST-MODIFIED:20250618T074520Z
UID:10020591-1908124200-1908128700@www.vil.no
SUMMARY:Kettlebells
DESCRIPTION:
URL:https://www.vil.no/aktivitet/kettlebells/2030-06-19/
LOCATION:Salen\, Norge
CATEGORIES:Manuelle bookinger
END:VEVENT
BEGIN:VEVENT
DTSTART;TZID=UTC:20300620T100000
DTEND;TZID=UTC:20300620T104500
DTSTAMP:20260420T025912
CREATED:20250618T074617Z
LAST-MODIFIED:20250618T074617Z
UID:10020631-1908180000-1908182700@www.vil.no
SUMMARY:Basisball
DESCRIPTION:
URL:https://www.vil.no/aktivitet/basisball/2030-06-20/
LOCATION:Salen\, Norge
CATEGORIES:Manuelle bookinger
END:VEVENT
BEGIN:VEVENT
DTSTART;TZID=UTC:20300620T173000
DTEND;TZID=UTC:20300620T190000
DTSTAMP:20260420T025912
CREATED:20260303T102557Z
LAST-MODIFIED:20260303T102557Z
UID:10020154-1908207000-1908212400@www.vil.no
SUMMARY:Bordtennis
DESCRIPTION:
URL:https://www.vil.no/aktivitet/bordtennis/2030-06-20/
LOCATION:Salen\, Norge
CATEGORIES:Manuelle bookinger
END:VEVENT
BEGIN:VEVENT
DTSTART;TZID=UTC:20300621T170000
DTEND;TZID=UTC:20300621T183000
DTSTAMP:20260420T025912
CREATED:20240923T105806Z
LAST-MODIFIED:20240923T105806Z
UID:10015975-1908291600-1908297000@www.vil.no
SUMMARY:J15 trening
DESCRIPTION:
URL:https://www.vil.no/aktivitet/j15-trening/2030-06-21/
LOCATION:Jæren Sparebank Arena\, Norge
CATEGORIES:Manuelle bookinger
END:VEVENT
END:VCALENDAR