BEGIN:VCALENDAR
VERSION:2.0
PRODID:-//Varhaug IL - ECPv6.15.20//NONSGML v1.0//EN
CALSCALE:GREGORIAN
METHOD:PUBLISH
X-ORIGINAL-URL:https://www.vil.no
X-WR-CALDESC:Arrangement for Varhaug IL
REFRESH-INTERVAL;VALUE=DURATION:PT1H
X-Robots-Tag:noindex
X-PUBLISHED-TTL:PT1H
BEGIN:VTIMEZONE
TZID:UTC
BEGIN:STANDARD
TZOFFSETFROM:+0000
TZOFFSETTO:+0000
TZNAME:UTC
DTSTART:20290101T000000
END:STANDARD
END:VTIMEZONE
BEGIN:VEVENT
DTSTART;TZID=UTC:20300527T100000
DTEND;TZID=UTC:20300527T150000
DTSTAMP:20260419T232059
CREATED:20250505T083050Z
LAST-MODIFIED:20250505T083329Z
UID:10019573-1906106400-1906124400@www.vil.no
SUMMARY:Kort og kaffi
DESCRIPTION:
URL:https://www.vil.no/aktivitet/kort-og-kaffi/2030-05-27/
LOCATION:Sosialt rom – JSA\, Norge
CATEGORIES:Manuelle bookinger
END:VEVENT
BEGIN:VEVENT
DTSTART;TZID=UTC:20300527T100000
DTEND;TZID=UTC:20300527T150000
DTSTAMP:20260419T232059
CREATED:20260217T091903Z
LAST-MODIFIED:20260217T091903Z
UID:10019856-1906106400-1906124400@www.vil.no
SUMMARY:Kort og kaffi
DESCRIPTION:
URL:https://www.vil.no/aktivitet/kort-og-kaffi-2/2030-05-27/
LOCATION:Sosialt rom – JSA\, Norge
CATEGORIES:Manuelle bookinger
END:VEVENT
BEGIN:VEVENT
DTSTART;TZID=UTC:20300527T153000
DTEND;TZID=UTC:20300527T163000
DTSTAMP:20260419T232059
CREATED:20250618T074720Z
LAST-MODIFIED:20250618T074720Z
UID:10015835-1906126200-1906129800@www.vil.no
SUMMARY:Styrke & Puls
DESCRIPTION:
URL:https://www.vil.no/aktivitet/styrke-puls-2/2030-05-27/
LOCATION:Salen\, Norge
CATEGORIES:Manuelle bookinger
END:VEVENT
BEGIN:VEVENT
DTSTART;TZID=UTC:20300529T100000
DTEND;TZID=UTC:20300529T110000
DTSTAMP:20260419T232059
CREATED:20250618T074211Z
LAST-MODIFIED:20250618T074211Z
UID:10014792-1906279200-1906282800@www.vil.no
SUMMARY:Fullkroppsøkt
DESCRIPTION:
URL:https://www.vil.no/aktivitet/fullkroppsokt/2030-05-29/
LOCATION:Salen\, Norge
CATEGORIES:Manuelle bookinger
END:VEVENT
BEGIN:VEVENT
DTSTART;TZID=UTC:20300529T153000
DTEND;TZID=UTC:20300529T163000
DTSTAMP:20260419T232059
CREATED:20250618T074424Z
LAST-MODIFIED:20250618T074424Z
UID:10015053-1906299000-1906302600@www.vil.no
SUMMARY:Styrke & Puls
DESCRIPTION:
URL:https://www.vil.no/aktivitet/styrke-puls/2030-05-29/
LOCATION:Salen\, Norge
CATEGORIES:Manuelle bookinger
END:VEVENT
BEGIN:VEVENT
DTSTART;TZID=UTC:20300529T180000
DTEND;TZID=UTC:20300529T183000
DTSTAMP:20260419T232059
CREATED:20260319T075532Z
LAST-MODIFIED:20260319T075532Z
UID:10020508-1906308000-1906309800@www.vil.no
SUMMARY:E-sport
DESCRIPTION:
URL:https://www.vil.no/aktivitet/e-sport-2/2030-05-29/
LOCATION:Salen\, Norge
CATEGORIES:Manuelle bookinger
END:VEVENT
BEGIN:VEVENT
DTSTART;TZID=UTC:20300529T183000
DTEND;TZID=UTC:20300529T194500
DTSTAMP:20260419T232059
CREATED:20250618T074520Z
LAST-MODIFIED:20250618T074520Z
UID:10015314-1906309800-1906314300@www.vil.no
SUMMARY:Kettlebells
DESCRIPTION:
URL:https://www.vil.no/aktivitet/kettlebells/2030-05-29/
LOCATION:Salen\, Norge
CATEGORIES:Manuelle bookinger
END:VEVENT
BEGIN:VEVENT
DTSTART;TZID=UTC:20300530T100000
DTEND;TZID=UTC:20300530T104500
DTSTAMP:20260419T232059
CREATED:20250618T074617Z
LAST-MODIFIED:20250618T074617Z
UID:10015575-1906365600-1906368300@www.vil.no
SUMMARY:Basisball
DESCRIPTION:
URL:https://www.vil.no/aktivitet/basisball/2030-05-30/
LOCATION:Salen\, Norge
CATEGORIES:Manuelle bookinger
END:VEVENT
BEGIN:VEVENT
DTSTART;TZID=UTC:20300530T173000
DTEND;TZID=UTC:20300530T190000
DTSTAMP:20260419T232059
CREATED:20260303T102557Z
LAST-MODIFIED:20260303T102557Z
UID:10020151-1906392600-1906398000@www.vil.no
SUMMARY:Bordtennis
DESCRIPTION:
URL:https://www.vil.no/aktivitet/bordtennis/2030-05-30/
LOCATION:Salen\, Norge
CATEGORIES:Manuelle bookinger
END:VEVENT
BEGIN:VEVENT
DTSTART;TZID=UTC:20300531T170000
DTEND;TZID=UTC:20300531T183000
DTSTAMP:20260419T232059
CREATED:20240923T105806Z
LAST-MODIFIED:20240923T105806Z
UID:10015972-1906477200-1906482600@www.vil.no
SUMMARY:J15 trening
DESCRIPTION:
URL:https://www.vil.no/aktivitet/j15-trening/2030-05-31/
LOCATION:Jæren Sparebank Arena\, Norge
CATEGORIES:Manuelle bookinger
END:VEVENT
END:VCALENDAR