BEGIN:VCALENDAR
VERSION:2.0
PRODID:-//Varhaug IL - ECPv6.15.20//NONSGML v1.0//EN
CALSCALE:GREGORIAN
METHOD:PUBLISH
X-ORIGINAL-URL:https://www.vil.no
X-WR-CALDESC:Arrangement for Varhaug IL
REFRESH-INTERVAL;VALUE=DURATION:PT1H
X-Robots-Tag:noindex
X-PUBLISHED-TTL:PT1H
BEGIN:VTIMEZONE
TZID:UTC
BEGIN:STANDARD
TZOFFSETFROM:+0000
TZOFFSETTO:+0000
TZNAME:UTC
DTSTART:20290101T000000
END:STANDARD
END:VTIMEZONE
BEGIN:VEVENT
DTSTART;TZID=UTC:20300513T100000
DTEND;TZID=UTC:20300513T150000
DTSTAMP:20260419T231941
CREATED:20250505T083050Z
LAST-MODIFIED:20250505T083329Z
UID:10019571-1904896800-1904914800@www.vil.no
SUMMARY:Kort og kaffi
DESCRIPTION:
URL:https://www.vil.no/aktivitet/kort-og-kaffi/2030-05-13/
LOCATION:Sosialt rom – JSA\, Norge
CATEGORIES:Manuelle bookinger
END:VEVENT
BEGIN:VEVENT
DTSTART;TZID=UTC:20300513T100000
DTEND;TZID=UTC:20300513T150000
DTSTAMP:20260419T231941
CREATED:20260217T091903Z
LAST-MODIFIED:20260217T091903Z
UID:10019854-1904896800-1904914800@www.vil.no
SUMMARY:Kort og kaffi
DESCRIPTION:
URL:https://www.vil.no/aktivitet/kort-og-kaffi-2/2030-05-13/
LOCATION:Sosialt rom – JSA\, Norge
CATEGORIES:Manuelle bookinger
END:VEVENT
BEGIN:VEVENT
DTSTART;TZID=UTC:20300513T153000
DTEND;TZID=UTC:20300513T163000
DTSTAMP:20260419T231941
CREATED:20250618T074720Z
LAST-MODIFIED:20250618T074720Z
UID:10015833-1904916600-1904920200@www.vil.no
SUMMARY:Styrke & Puls
DESCRIPTION:
URL:https://www.vil.no/aktivitet/styrke-puls-2/2030-05-13/
LOCATION:Salen\, Norge
CATEGORIES:Manuelle bookinger
END:VEVENT
BEGIN:VEVENT
DTSTART;TZID=UTC:20300515T100000
DTEND;TZID=UTC:20300515T110000
DTSTAMP:20260419T231941
CREATED:20250618T074211Z
LAST-MODIFIED:20250618T074211Z
UID:10014790-1905069600-1905073200@www.vil.no
SUMMARY:Fullkroppsøkt
DESCRIPTION:
URL:https://www.vil.no/aktivitet/fullkroppsokt/2030-05-15/
LOCATION:Salen\, Norge
CATEGORIES:Manuelle bookinger
END:VEVENT
BEGIN:VEVENT
DTSTART;TZID=UTC:20300515T153000
DTEND;TZID=UTC:20300515T163000
DTSTAMP:20260419T231941
CREATED:20250618T074424Z
LAST-MODIFIED:20250618T074424Z
UID:10015051-1905089400-1905093000@www.vil.no
SUMMARY:Styrke & Puls
DESCRIPTION:
URL:https://www.vil.no/aktivitet/styrke-puls/2030-05-15/
LOCATION:Salen\, Norge
CATEGORIES:Manuelle bookinger
END:VEVENT
BEGIN:VEVENT
DTSTART;TZID=UTC:20300515T180000
DTEND;TZID=UTC:20300515T183000
DTSTAMP:20260419T231941
CREATED:20260319T075532Z
LAST-MODIFIED:20260319T075532Z
UID:10020506-1905098400-1905100200@www.vil.no
SUMMARY:E-sport
DESCRIPTION:
URL:https://www.vil.no/aktivitet/e-sport-2/2030-05-15/
LOCATION:Salen\, Norge
CATEGORIES:Manuelle bookinger
END:VEVENT
BEGIN:VEVENT
DTSTART;TZID=UTC:20300515T183000
DTEND;TZID=UTC:20300515T194500
DTSTAMP:20260419T231941
CREATED:20250618T074520Z
LAST-MODIFIED:20250618T074520Z
UID:10015312-1905100200-1905104700@www.vil.no
SUMMARY:Kettlebells
DESCRIPTION:
URL:https://www.vil.no/aktivitet/kettlebells/2030-05-15/
LOCATION:Salen\, Norge
CATEGORIES:Manuelle bookinger
END:VEVENT
BEGIN:VEVENT
DTSTART;TZID=UTC:20300516T100000
DTEND;TZID=UTC:20300516T104500
DTSTAMP:20260419T231941
CREATED:20250618T074617Z
LAST-MODIFIED:20250618T074617Z
UID:10015573-1905156000-1905158700@www.vil.no
SUMMARY:Basisball
DESCRIPTION:
URL:https://www.vil.no/aktivitet/basisball/2030-05-16/
LOCATION:Salen\, Norge
CATEGORIES:Manuelle bookinger
END:VEVENT
BEGIN:VEVENT
DTSTART;TZID=UTC:20300516T173000
DTEND;TZID=UTC:20300516T190000
DTSTAMP:20260419T231941
CREATED:20260303T102557Z
LAST-MODIFIED:20260303T102557Z
UID:10020149-1905183000-1905188400@www.vil.no
SUMMARY:Bordtennis
DESCRIPTION:
URL:https://www.vil.no/aktivitet/bordtennis/2030-05-16/
LOCATION:Salen\, Norge
CATEGORIES:Manuelle bookinger
END:VEVENT
BEGIN:VEVENT
DTSTART;TZID=UTC:20300517T170000
DTEND;TZID=UTC:20300517T183000
DTSTAMP:20260419T231941
CREATED:20240923T105806Z
LAST-MODIFIED:20240923T105806Z
UID:10015970-1905267600-1905273000@www.vil.no
SUMMARY:J15 trening
DESCRIPTION:
URL:https://www.vil.no/aktivitet/j15-trening/2030-05-17/
LOCATION:Jæren Sparebank Arena\, Norge
CATEGORIES:Manuelle bookinger
END:VEVENT
END:VCALENDAR