BEGIN:VCALENDAR
VERSION:2.0
PRODID:-//Varhaug IL - ECPv6.15.20//NONSGML v1.0//EN
CALSCALE:GREGORIAN
METHOD:PUBLISH
X-ORIGINAL-URL:https://www.vil.no
X-WR-CALDESC:Arrangement for Varhaug IL
REFRESH-INTERVAL;VALUE=DURATION:PT1H
X-Robots-Tag:noindex
X-PUBLISHED-TTL:PT1H
BEGIN:VTIMEZONE
TZID:UTC
BEGIN:STANDARD
TZOFFSETFROM:+0000
TZOFFSETTO:+0000
TZNAME:UTC
DTSTART:20290101T000000
END:STANDARD
END:VTIMEZONE
BEGIN:VEVENT
DTSTART;TZID=UTC:20300415T100000
DTEND;TZID=UTC:20300415T150000
DTSTAMP:20260419T213356
CREATED:20250505T083050Z
LAST-MODIFIED:20250505T083329Z
UID:10014152-1902477600-1902495600@www.vil.no
SUMMARY:Kort og kaffi
DESCRIPTION:
URL:https://www.vil.no/aktivitet/kort-og-kaffi/2030-04-15/
LOCATION:Sosialt rom – JSA\, Norge
CATEGORIES:Manuelle bookinger
END:VEVENT
BEGIN:VEVENT
DTSTART;TZID=UTC:20300415T100000
DTEND;TZID=UTC:20300415T150000
DTSTAMP:20260419T213356
CREATED:20260217T091903Z
LAST-MODIFIED:20260217T091903Z
UID:10019850-1902477600-1902495600@www.vil.no
SUMMARY:Kort og kaffi
DESCRIPTION:
URL:https://www.vil.no/aktivitet/kort-og-kaffi-2/2030-04-15/
LOCATION:Sosialt rom – JSA\, Norge
CATEGORIES:Manuelle bookinger
END:VEVENT
BEGIN:VEVENT
DTSTART;TZID=UTC:20300415T153000
DTEND;TZID=UTC:20300415T163000
DTSTAMP:20260419T213356
CREATED:20250618T074720Z
LAST-MODIFIED:20250618T074720Z
UID:10015829-1902497400-1902501000@www.vil.no
SUMMARY:Styrke & Puls
DESCRIPTION:
URL:https://www.vil.no/aktivitet/styrke-puls-2/2030-04-15/
LOCATION:Salen\, Norge
CATEGORIES:Manuelle bookinger
END:VEVENT
BEGIN:VEVENT
DTSTART;TZID=UTC:20300417T100000
DTEND;TZID=UTC:20300417T110000
DTSTAMP:20260419T213356
CREATED:20250618T074211Z
LAST-MODIFIED:20250618T074211Z
UID:10014786-1902650400-1902654000@www.vil.no
SUMMARY:Fullkroppsøkt
DESCRIPTION:
URL:https://www.vil.no/aktivitet/fullkroppsokt/2030-04-17/
LOCATION:Salen\, Norge
CATEGORIES:Manuelle bookinger
END:VEVENT
BEGIN:VEVENT
DTSTART;TZID=UTC:20300417T153000
DTEND;TZID=UTC:20300417T163000
DTSTAMP:20260419T213356
CREATED:20250618T074424Z
LAST-MODIFIED:20250618T074424Z
UID:10015047-1902670200-1902673800@www.vil.no
SUMMARY:Styrke & Puls
DESCRIPTION:
URL:https://www.vil.no/aktivitet/styrke-puls/2030-04-17/
LOCATION:Salen\, Norge
CATEGORIES:Manuelle bookinger
END:VEVENT
BEGIN:VEVENT
DTSTART;TZID=UTC:20300417T180000
DTEND;TZID=UTC:20300417T183000
DTSTAMP:20260419T213356
CREATED:20260319T075532Z
LAST-MODIFIED:20260319T075532Z
UID:10020502-1902679200-1902681000@www.vil.no
SUMMARY:E-sport
DESCRIPTION:
URL:https://www.vil.no/aktivitet/e-sport-2/2030-04-17/
LOCATION:Salen\, Norge
CATEGORIES:Manuelle bookinger
END:VEVENT
BEGIN:VEVENT
DTSTART;TZID=UTC:20300417T183000
DTEND;TZID=UTC:20300417T194500
DTSTAMP:20260419T213356
CREATED:20250618T074520Z
LAST-MODIFIED:20250618T074520Z
UID:10015308-1902681000-1902685500@www.vil.no
SUMMARY:Kettlebells
DESCRIPTION:
URL:https://www.vil.no/aktivitet/kettlebells/2030-04-17/
LOCATION:Salen\, Norge
CATEGORIES:Manuelle bookinger
END:VEVENT
BEGIN:VEVENT
DTSTART;TZID=UTC:20300418T100000
DTEND;TZID=UTC:20300418T104500
DTSTAMP:20260419T213356
CREATED:20250618T074617Z
LAST-MODIFIED:20250618T074617Z
UID:10015569-1902736800-1902739500@www.vil.no
SUMMARY:Basisball
DESCRIPTION:
URL:https://www.vil.no/aktivitet/basisball/2030-04-18/
LOCATION:Salen\, Norge
CATEGORIES:Manuelle bookinger
END:VEVENT
BEGIN:VEVENT
DTSTART;TZID=UTC:20300418T173000
DTEND;TZID=UTC:20300418T190000
DTSTAMP:20260419T213356
CREATED:20260303T102557Z
LAST-MODIFIED:20260303T102557Z
UID:10020145-1902763800-1902769200@www.vil.no
SUMMARY:Bordtennis
DESCRIPTION:
URL:https://www.vil.no/aktivitet/bordtennis/2030-04-18/
LOCATION:Salen\, Norge
CATEGORIES:Manuelle bookinger
END:VEVENT
BEGIN:VEVENT
DTSTART;TZID=UTC:20300419T170000
DTEND;TZID=UTC:20300419T183000
DTSTAMP:20260419T213356
CREATED:20240923T105806Z
LAST-MODIFIED:20240923T105806Z
UID:10015966-1902848400-1902853800@www.vil.no
SUMMARY:J15 trening
DESCRIPTION:
URL:https://www.vil.no/aktivitet/j15-trening/2030-04-19/
LOCATION:Jæren Sparebank Arena\, Norge
CATEGORIES:Manuelle bookinger
END:VEVENT
END:VCALENDAR