BEGIN:VCALENDAR
VERSION:2.0
PRODID:-//Varhaug IL - ECPv6.15.20//NONSGML v1.0//EN
CALSCALE:GREGORIAN
METHOD:PUBLISH
X-ORIGINAL-URL:https://www.vil.no
X-WR-CALDESC:Arrangement for Varhaug IL
REFRESH-INTERVAL;VALUE=DURATION:PT1H
X-Robots-Tag:noindex
X-PUBLISHED-TTL:PT1H
BEGIN:VTIMEZONE
TZID:UTC
BEGIN:STANDARD
TZOFFSETFROM:+0000
TZOFFSETTO:+0000
TZNAME:UTC
DTSTART:20290101T000000
END:STANDARD
END:VTIMEZONE
BEGIN:VEVENT
DTSTART;TZID=UTC:20300408T100000
DTEND;TZID=UTC:20300408T150000
DTSTAMP:20260419T213356
CREATED:20250505T083050Z
LAST-MODIFIED:20250505T083329Z
UID:10014151-1901872800-1901890800@www.vil.no
SUMMARY:Kort og kaffi
DESCRIPTION:
URL:https://www.vil.no/aktivitet/kort-og-kaffi/2030-04-08/
LOCATION:Sosialt rom – JSA\, Norge
CATEGORIES:Manuelle bookinger
END:VEVENT
BEGIN:VEVENT
DTSTART;TZID=UTC:20300408T100000
DTEND;TZID=UTC:20300408T150000
DTSTAMP:20260419T213356
CREATED:20260217T091903Z
LAST-MODIFIED:20260217T091903Z
UID:10019849-1901872800-1901890800@www.vil.no
SUMMARY:Kort og kaffi
DESCRIPTION:
URL:https://www.vil.no/aktivitet/kort-og-kaffi-2/2030-04-08/
LOCATION:Sosialt rom – JSA\, Norge
CATEGORIES:Manuelle bookinger
END:VEVENT
BEGIN:VEVENT
DTSTART;TZID=UTC:20300408T153000
DTEND;TZID=UTC:20300408T163000
DTSTAMP:20260419T213356
CREATED:20250618T074720Z
LAST-MODIFIED:20250618T074720Z
UID:10015828-1901892600-1901896200@www.vil.no
SUMMARY:Styrke & Puls
DESCRIPTION:
URL:https://www.vil.no/aktivitet/styrke-puls-2/2030-04-08/
LOCATION:Salen\, Norge
CATEGORIES:Manuelle bookinger
END:VEVENT
BEGIN:VEVENT
DTSTART;TZID=UTC:20300410T100000
DTEND;TZID=UTC:20300410T110000
DTSTAMP:20260419T213356
CREATED:20250618T074211Z
LAST-MODIFIED:20250618T074211Z
UID:10014785-1902045600-1902049200@www.vil.no
SUMMARY:Fullkroppsøkt
DESCRIPTION:
URL:https://www.vil.no/aktivitet/fullkroppsokt/2030-04-10/
LOCATION:Salen\, Norge
CATEGORIES:Manuelle bookinger
END:VEVENT
BEGIN:VEVENT
DTSTART;TZID=UTC:20300410T153000
DTEND;TZID=UTC:20300410T163000
DTSTAMP:20260419T213356
CREATED:20250618T074424Z
LAST-MODIFIED:20250618T074424Z
UID:10015046-1902065400-1902069000@www.vil.no
SUMMARY:Styrke & Puls
DESCRIPTION:
URL:https://www.vil.no/aktivitet/styrke-puls/2030-04-10/
LOCATION:Salen\, Norge
CATEGORIES:Manuelle bookinger
END:VEVENT
BEGIN:VEVENT
DTSTART;TZID=UTC:20300410T180000
DTEND;TZID=UTC:20300410T183000
DTSTAMP:20260419T213356
CREATED:20260319T075532Z
LAST-MODIFIED:20260319T075532Z
UID:10020501-1902074400-1902076200@www.vil.no
SUMMARY:E-sport
DESCRIPTION:
URL:https://www.vil.no/aktivitet/e-sport-2/2030-04-10/
LOCATION:Salen\, Norge
CATEGORIES:Manuelle bookinger
END:VEVENT
BEGIN:VEVENT
DTSTART;TZID=UTC:20300410T183000
DTEND;TZID=UTC:20300410T194500
DTSTAMP:20260419T213356
CREATED:20250618T074520Z
LAST-MODIFIED:20250618T074520Z
UID:10015307-1902076200-1902080700@www.vil.no
SUMMARY:Kettlebells
DESCRIPTION:
URL:https://www.vil.no/aktivitet/kettlebells/2030-04-10/
LOCATION:Salen\, Norge
CATEGORIES:Manuelle bookinger
END:VEVENT
BEGIN:VEVENT
DTSTART;TZID=UTC:20300411T100000
DTEND;TZID=UTC:20300411T104500
DTSTAMP:20260419T213356
CREATED:20250618T074617Z
LAST-MODIFIED:20250618T074617Z
UID:10015568-1902132000-1902134700@www.vil.no
SUMMARY:Basisball
DESCRIPTION:
URL:https://www.vil.no/aktivitet/basisball/2030-04-11/
LOCATION:Salen\, Norge
CATEGORIES:Manuelle bookinger
END:VEVENT
BEGIN:VEVENT
DTSTART;TZID=UTC:20300411T173000
DTEND;TZID=UTC:20300411T190000
DTSTAMP:20260419T213356
CREATED:20260303T102557Z
LAST-MODIFIED:20260303T102557Z
UID:10020144-1902159000-1902164400@www.vil.no
SUMMARY:Bordtennis
DESCRIPTION:
URL:https://www.vil.no/aktivitet/bordtennis/2030-04-11/
LOCATION:Salen\, Norge
CATEGORIES:Manuelle bookinger
END:VEVENT
BEGIN:VEVENT
DTSTART;TZID=UTC:20300412T170000
DTEND;TZID=UTC:20300412T183000
DTSTAMP:20260419T213356
CREATED:20240923T105806Z
LAST-MODIFIED:20240923T105806Z
UID:10015965-1902243600-1902249000@www.vil.no
SUMMARY:J15 trening
DESCRIPTION:
URL:https://www.vil.no/aktivitet/j15-trening/2030-04-12/
LOCATION:Jæren Sparebank Arena\, Norge
CATEGORIES:Manuelle bookinger
END:VEVENT
END:VCALENDAR