BEGIN:VCALENDAR
VERSION:2.0
PRODID:-//Varhaug IL - ECPv6.15.20//NONSGML v1.0//EN
CALSCALE:GREGORIAN
METHOD:PUBLISH
X-WR-CALNAME:Varhaug IL
X-ORIGINAL-URL:https://www.vil.no
X-WR-CALDESC:Arrangement for Varhaug IL
REFRESH-INTERVAL;VALUE=DURATION:PT1H
X-Robots-Tag:noindex
X-PUBLISHED-TTL:PT1H
BEGIN:VTIMEZONE
TZID:UTC
BEGIN:STANDARD
TZOFFSETFROM:+0000
TZOFFSETTO:+0000
TZNAME:UTC
DTSTART:20290101T000000
END:STANDARD
END:VTIMEZONE
BEGIN:VEVENT
DTSTART;TZID=UTC:20300325T100000
DTEND;TZID=UTC:20300325T150000
DTSTAMP:20260419T193343
CREATED:20250505T083050Z
LAST-MODIFIED:20250505T083329Z
UID:10014150-1900663200-1900681200@www.vil.no
SUMMARY:Kort og kaffi
DESCRIPTION:
URL:https://www.vil.no/aktivitet/kort-og-kaffi/2030-03-25/
LOCATION:Sosialt rom – JSA\, Norge
CATEGORIES:Manuelle bookinger
END:VEVENT
BEGIN:VEVENT
DTSTART;TZID=UTC:20300325T100000
DTEND;TZID=UTC:20300325T150000
DTSTAMP:20260419T193343
CREATED:20260217T091903Z
LAST-MODIFIED:20260217T091903Z
UID:10019847-1900663200-1900681200@www.vil.no
SUMMARY:Kort og kaffi
DESCRIPTION:
URL:https://www.vil.no/aktivitet/kort-og-kaffi-2/2030-03-25/
LOCATION:Sosialt rom – JSA\, Norge
CATEGORIES:Manuelle bookinger
END:VEVENT
BEGIN:VEVENT
DTSTART;TZID=UTC:20300325T153000
DTEND;TZID=UTC:20300325T163000
DTSTAMP:20260419T193343
CREATED:20250618T074720Z
LAST-MODIFIED:20250618T074720Z
UID:10015826-1900683000-1900686600@www.vil.no
SUMMARY:Styrke & Puls
DESCRIPTION:
URL:https://www.vil.no/aktivitet/styrke-puls-2/2030-03-25/
LOCATION:Salen\, Norge
CATEGORIES:Manuelle bookinger
END:VEVENT
BEGIN:VEVENT
DTSTART;TZID=UTC:20300327T100000
DTEND;TZID=UTC:20300327T110000
DTSTAMP:20260419T193343
CREATED:20250618T074211Z
LAST-MODIFIED:20250618T074211Z
UID:10014783-1900836000-1900839600@www.vil.no
SUMMARY:Fullkroppsøkt
DESCRIPTION:
URL:https://www.vil.no/aktivitet/fullkroppsokt/2030-03-27/
LOCATION:Salen\, Norge
CATEGORIES:Manuelle bookinger
END:VEVENT
BEGIN:VEVENT
DTSTART;TZID=UTC:20300327T153000
DTEND;TZID=UTC:20300327T163000
DTSTAMP:20260419T193343
CREATED:20250618T074424Z
LAST-MODIFIED:20250618T074424Z
UID:10015044-1900855800-1900859400@www.vil.no
SUMMARY:Styrke & Puls
DESCRIPTION:
URL:https://www.vil.no/aktivitet/styrke-puls/2030-03-27/
LOCATION:Salen\, Norge
CATEGORIES:Manuelle bookinger
END:VEVENT
BEGIN:VEVENT
DTSTART;TZID=UTC:20300327T180000
DTEND;TZID=UTC:20300327T183000
DTSTAMP:20260419T193343
CREATED:20260319T075532Z
LAST-MODIFIED:20260319T075532Z
UID:10020499-1900864800-1900866600@www.vil.no
SUMMARY:E-sport
DESCRIPTION:
URL:https://www.vil.no/aktivitet/e-sport-2/2030-03-27/
LOCATION:Salen\, Norge
CATEGORIES:Manuelle bookinger
END:VEVENT
BEGIN:VEVENT
DTSTART;TZID=UTC:20300327T183000
DTEND;TZID=UTC:20300327T194500
DTSTAMP:20260419T193343
CREATED:20250618T074520Z
LAST-MODIFIED:20250618T074520Z
UID:10015305-1900866600-1900871100@www.vil.no
SUMMARY:Kettlebells
DESCRIPTION:
URL:https://www.vil.no/aktivitet/kettlebells/2030-03-27/
LOCATION:Salen\, Norge
CATEGORIES:Manuelle bookinger
END:VEVENT
BEGIN:VEVENT
DTSTART;TZID=UTC:20300328T100000
DTEND;TZID=UTC:20300328T104500
DTSTAMP:20260419T193343
CREATED:20250618T074617Z
LAST-MODIFIED:20250618T074617Z
UID:10015566-1900922400-1900925100@www.vil.no
SUMMARY:Basisball
DESCRIPTION:
URL:https://www.vil.no/aktivitet/basisball/2030-03-28/
LOCATION:Salen\, Norge
CATEGORIES:Manuelle bookinger
END:VEVENT
BEGIN:VEVENT
DTSTART;TZID=UTC:20300328T173000
DTEND;TZID=UTC:20300328T190000
DTSTAMP:20260419T193343
CREATED:20260303T102557Z
LAST-MODIFIED:20260303T102557Z
UID:10020142-1900949400-1900954800@www.vil.no
SUMMARY:Bordtennis
DESCRIPTION:
URL:https://www.vil.no/aktivitet/bordtennis/2030-03-28/
LOCATION:Salen\, Norge
CATEGORIES:Manuelle bookinger
END:VEVENT
BEGIN:VEVENT
DTSTART;TZID=UTC:20300329T170000
DTEND;TZID=UTC:20300329T183000
DTSTAMP:20260419T193343
CREATED:20240923T105806Z
LAST-MODIFIED:20240923T105806Z
UID:10015963-1901034000-1901039400@www.vil.no
SUMMARY:J15 trening
DESCRIPTION:
URL:https://www.vil.no/aktivitet/j15-trening/2030-03-29/
LOCATION:Jæren Sparebank Arena\, Norge
CATEGORIES:Manuelle bookinger
END:VEVENT
END:VCALENDAR