BEGIN:VCALENDAR
VERSION:2.0
PRODID:-//Varhaug IL - ECPv6.15.20//NONSGML v1.0//EN
CALSCALE:GREGORIAN
METHOD:PUBLISH
X-WR-CALNAME:Varhaug IL
X-ORIGINAL-URL:https://www.vil.no
X-WR-CALDESC:Arrangement for Varhaug IL
REFRESH-INTERVAL;VALUE=DURATION:PT1H
X-Robots-Tag:noindex
X-PUBLISHED-TTL:PT1H
BEGIN:VTIMEZONE
TZID:UTC
BEGIN:STANDARD
TZOFFSETFROM:+0000
TZOFFSETTO:+0000
TZNAME:UTC
DTSTART:20290101T000000
END:STANDARD
END:VTIMEZONE
BEGIN:VEVENT
DTSTART;TZID=UTC:20300121T100000
DTEND;TZID=UTC:20300121T150000
DTSTAMP:20260419T175815
CREATED:20250505T083050Z
LAST-MODIFIED:20250505T083329Z
UID:10014143-1895220000-1895238000@www.vil.no
SUMMARY:Kort og kaffi
DESCRIPTION:
URL:https://www.vil.no/aktivitet/kort-og-kaffi/2030-01-21/
LOCATION:Sosialt rom – JSA\, Norge
CATEGORIES:Manuelle bookinger
END:VEVENT
BEGIN:VEVENT
DTSTART;TZID=UTC:20300121T100000
DTEND;TZID=UTC:20300121T150000
DTSTAMP:20260419T175815
CREATED:20260217T091903Z
LAST-MODIFIED:20260217T091903Z
UID:10019838-1895220000-1895238000@www.vil.no
SUMMARY:Kort og kaffi
DESCRIPTION:
URL:https://www.vil.no/aktivitet/kort-og-kaffi-2/2030-01-21/
LOCATION:Sosialt rom – JSA\, Norge
CATEGORIES:Manuelle bookinger
END:VEVENT
BEGIN:VEVENT
DTSTART;TZID=UTC:20300121T153000
DTEND;TZID=UTC:20300121T163000
DTSTAMP:20260419T175815
CREATED:20250618T074720Z
LAST-MODIFIED:20250618T074720Z
UID:10015817-1895239800-1895243400@www.vil.no
SUMMARY:Styrke & Puls
DESCRIPTION:
URL:https://www.vil.no/aktivitet/styrke-puls-2/2030-01-21/
LOCATION:Salen\, Norge
CATEGORIES:Manuelle bookinger
END:VEVENT
BEGIN:VEVENT
DTSTART;TZID=UTC:20300123T100000
DTEND;TZID=UTC:20300123T110000
DTSTAMP:20260419T175815
CREATED:20250618T074211Z
LAST-MODIFIED:20250618T074211Z
UID:10014774-1895392800-1895396400@www.vil.no
SUMMARY:Fullkroppsøkt
DESCRIPTION:
URL:https://www.vil.no/aktivitet/fullkroppsokt/2030-01-23/
LOCATION:Salen\, Norge
CATEGORIES:Manuelle bookinger
END:VEVENT
BEGIN:VEVENT
DTSTART;TZID=UTC:20300123T153000
DTEND;TZID=UTC:20300123T163000
DTSTAMP:20260419T175815
CREATED:20250618T074424Z
LAST-MODIFIED:20250618T074424Z
UID:10015035-1895412600-1895416200@www.vil.no
SUMMARY:Styrke & Puls
DESCRIPTION:
URL:https://www.vil.no/aktivitet/styrke-puls/2030-01-23/
LOCATION:Salen\, Norge
CATEGORIES:Manuelle bookinger
END:VEVENT
BEGIN:VEVENT
DTSTART;TZID=UTC:20300123T180000
DTEND;TZID=UTC:20300123T183000
DTSTAMP:20260419T175815
CREATED:20260319T075532Z
LAST-MODIFIED:20260319T075532Z
UID:10020490-1895421600-1895423400@www.vil.no
SUMMARY:E-sport
DESCRIPTION:
URL:https://www.vil.no/aktivitet/e-sport-2/2030-01-23/
LOCATION:Salen\, Norge
CATEGORIES:Manuelle bookinger
END:VEVENT
BEGIN:VEVENT
DTSTART;TZID=UTC:20300123T183000
DTEND;TZID=UTC:20300123T194500
DTSTAMP:20260419T175815
CREATED:20250618T074520Z
LAST-MODIFIED:20250618T074520Z
UID:10015296-1895423400-1895427900@www.vil.no
SUMMARY:Kettlebells
DESCRIPTION:
URL:https://www.vil.no/aktivitet/kettlebells/2030-01-23/
LOCATION:Salen\, Norge
CATEGORIES:Manuelle bookinger
END:VEVENT
BEGIN:VEVENT
DTSTART;TZID=UTC:20300124T100000
DTEND;TZID=UTC:20300124T104500
DTSTAMP:20260419T175815
CREATED:20250618T074617Z
LAST-MODIFIED:20250618T074617Z
UID:10015557-1895479200-1895481900@www.vil.no
SUMMARY:Basisball
DESCRIPTION:
URL:https://www.vil.no/aktivitet/basisball/2030-01-24/
LOCATION:Salen\, Norge
CATEGORIES:Manuelle bookinger
END:VEVENT
BEGIN:VEVENT
DTSTART;TZID=UTC:20300124T173000
DTEND;TZID=UTC:20300124T190000
DTSTAMP:20260419T175815
CREATED:20260303T102557Z
LAST-MODIFIED:20260303T102557Z
UID:10020133-1895506200-1895511600@www.vil.no
SUMMARY:Bordtennis
DESCRIPTION:
URL:https://www.vil.no/aktivitet/bordtennis/2030-01-24/
LOCATION:Salen\, Norge
CATEGORIES:Manuelle bookinger
END:VEVENT
BEGIN:VEVENT
DTSTART;TZID=UTC:20300125T170000
DTEND;TZID=UTC:20300125T183000
DTSTAMP:20260419T175815
CREATED:20240923T105806Z
LAST-MODIFIED:20240923T105806Z
UID:10015954-1895590800-1895596200@www.vil.no
SUMMARY:J15 trening
DESCRIPTION:
URL:https://www.vil.no/aktivitet/j15-trening/2030-01-25/
LOCATION:Jæren Sparebank Arena\, Norge
CATEGORIES:Manuelle bookinger
END:VEVENT
END:VCALENDAR