BEGIN:VCALENDAR
VERSION:2.0
PRODID:-//Varhaug IL - ECPv6.15.20//NONSGML v1.0//EN
CALSCALE:GREGORIAN
METHOD:PUBLISH
X-WR-CALNAME:Varhaug IL
X-ORIGINAL-URL:https://www.vil.no
X-WR-CALDESC:Arrangement for Varhaug IL
REFRESH-INTERVAL;VALUE=DURATION:PT1H
X-Robots-Tag:noindex
X-PUBLISHED-TTL:PT1H
BEGIN:VTIMEZONE
TZID:UTC
BEGIN:STANDARD
TZOFFSETFROM:+0000
TZOFFSETTO:+0000
TZNAME:UTC
DTSTART:20290101T000000
END:STANDARD
END:VTIMEZONE
BEGIN:VEVENT
DTSTART;TZID=UTC:20300107T100000
DTEND;TZID=UTC:20300107T150000
DTSTAMP:20260419T155935
CREATED:20250505T083050Z
LAST-MODIFIED:20250505T083329Z
UID:10013942-1894010400-1894028400@www.vil.no
SUMMARY:Kort og kaffi
DESCRIPTION:
URL:https://www.vil.no/aktivitet/kort-og-kaffi/2030-01-07/
LOCATION:Sosialt rom – JSA\, Norge
CATEGORIES:Manuelle bookinger
END:VEVENT
BEGIN:VEVENT
DTSTART;TZID=UTC:20300107T100000
DTEND;TZID=UTC:20300107T150000
DTSTAMP:20260419T155935
CREATED:20260217T091903Z
LAST-MODIFIED:20260217T091903Z
UID:10019836-1894010400-1894028400@www.vil.no
SUMMARY:Kort og kaffi
DESCRIPTION:
URL:https://www.vil.no/aktivitet/kort-og-kaffi-2/2030-01-07/
LOCATION:Sosialt rom – JSA\, Norge
CATEGORIES:Manuelle bookinger
END:VEVENT
BEGIN:VEVENT
DTSTART;TZID=UTC:20300107T153000
DTEND;TZID=UTC:20300107T163000
DTSTAMP:20260419T155935
CREATED:20250618T074720Z
LAST-MODIFIED:20250618T074720Z
UID:10015815-1894030200-1894033800@www.vil.no
SUMMARY:Styrke & Puls
DESCRIPTION:
URL:https://www.vil.no/aktivitet/styrke-puls-2/2030-01-07/
LOCATION:Salen\, Norge
CATEGORIES:Manuelle bookinger
END:VEVENT
BEGIN:VEVENT
DTSTART;TZID=UTC:20300109T100000
DTEND;TZID=UTC:20300109T110000
DTSTAMP:20260419T155935
CREATED:20250618T074211Z
LAST-MODIFIED:20250618T074211Z
UID:10014772-1894183200-1894186800@www.vil.no
SUMMARY:Fullkroppsøkt
DESCRIPTION:
URL:https://www.vil.no/aktivitet/fullkroppsokt/2030-01-09/
LOCATION:Salen\, Norge
CATEGORIES:Manuelle bookinger
END:VEVENT
BEGIN:VEVENT
DTSTART;TZID=UTC:20300109T153000
DTEND;TZID=UTC:20300109T163000
DTSTAMP:20260419T155935
CREATED:20250618T074424Z
LAST-MODIFIED:20250618T074424Z
UID:10015033-1894203000-1894206600@www.vil.no
SUMMARY:Styrke & Puls
DESCRIPTION:
URL:https://www.vil.no/aktivitet/styrke-puls/2030-01-09/
LOCATION:Salen\, Norge
CATEGORIES:Manuelle bookinger
END:VEVENT
BEGIN:VEVENT
DTSTART;TZID=UTC:20300109T180000
DTEND;TZID=UTC:20300109T183000
DTSTAMP:20260419T155935
CREATED:20260319T075532Z
LAST-MODIFIED:20260319T075532Z
UID:10020488-1894212000-1894213800@www.vil.no
SUMMARY:E-sport
DESCRIPTION:
URL:https://www.vil.no/aktivitet/e-sport-2/2030-01-09/
LOCATION:Salen\, Norge
CATEGORIES:Manuelle bookinger
END:VEVENT
BEGIN:VEVENT
DTSTART;TZID=UTC:20300109T183000
DTEND;TZID=UTC:20300109T194500
DTSTAMP:20260419T155935
CREATED:20250618T074520Z
LAST-MODIFIED:20250618T074520Z
UID:10015294-1894213800-1894218300@www.vil.no
SUMMARY:Kettlebells
DESCRIPTION:
URL:https://www.vil.no/aktivitet/kettlebells/2030-01-09/
LOCATION:Salen\, Norge
CATEGORIES:Manuelle bookinger
END:VEVENT
BEGIN:VEVENT
DTSTART;TZID=UTC:20300110T100000
DTEND;TZID=UTC:20300110T104500
DTSTAMP:20260419T155935
CREATED:20250618T074617Z
LAST-MODIFIED:20250618T074617Z
UID:10015555-1894269600-1894272300@www.vil.no
SUMMARY:Basisball
DESCRIPTION:
URL:https://www.vil.no/aktivitet/basisball/2030-01-10/
LOCATION:Salen\, Norge
CATEGORIES:Manuelle bookinger
END:VEVENT
BEGIN:VEVENT
DTSTART;TZID=UTC:20300110T173000
DTEND;TZID=UTC:20300110T190000
DTSTAMP:20260419T155935
CREATED:20260303T102557Z
LAST-MODIFIED:20260303T102557Z
UID:10020131-1894296600-1894302000@www.vil.no
SUMMARY:Bordtennis
DESCRIPTION:
URL:https://www.vil.no/aktivitet/bordtennis/2030-01-10/
LOCATION:Salen\, Norge
CATEGORIES:Manuelle bookinger
END:VEVENT
BEGIN:VEVENT
DTSTART;TZID=UTC:20300111T170000
DTEND;TZID=UTC:20300111T183000
DTSTAMP:20260419T155935
CREATED:20240923T105806Z
LAST-MODIFIED:20240923T105806Z
UID:10015952-1894381200-1894386600@www.vil.no
SUMMARY:J15 trening
DESCRIPTION:
URL:https://www.vil.no/aktivitet/j15-trening/2030-01-11/
LOCATION:Jæren Sparebank Arena\, Norge
CATEGORIES:Manuelle bookinger
END:VEVENT
END:VCALENDAR