BEGIN:VCALENDAR
VERSION:2.0
PRODID:-//Varhaug IL - ECPv6.15.20//NONSGML v1.0//EN
CALSCALE:GREGORIAN
METHOD:PUBLISH
X-WR-CALNAME:Varhaug IL
X-ORIGINAL-URL:https://www.vil.no
X-WR-CALDESC:Arrangement for Varhaug IL
REFRESH-INTERVAL;VALUE=DURATION:PT1H
X-Robots-Tag:noindex
X-PUBLISHED-TTL:PT1H
BEGIN:VTIMEZONE
TZID:UTC
BEGIN:STANDARD
TZOFFSETFROM:+0000
TZOFFSETTO:+0000
TZNAME:UTC
DTSTART:20280101T000000
END:STANDARD
END:VTIMEZONE
BEGIN:VEVENT
DTSTART;TZID=UTC:20291126T100000
DTEND;TZID=UTC:20291126T150000
DTSTAMP:20260419T120855
CREATED:20250505T083050Z
LAST-MODIFIED:20250505T083329Z
UID:10014137-1890381600-1890399600@www.vil.no
SUMMARY:Kort og kaffi
DESCRIPTION:
URL:https://www.vil.no/aktivitet/kort-og-kaffi/2029-11-26/
LOCATION:Sosialt rom – JSA\, Norge
CATEGORIES:Manuelle bookinger
END:VEVENT
BEGIN:VEVENT
DTSTART;TZID=UTC:20291126T100000
DTEND;TZID=UTC:20291126T150000
DTSTAMP:20260419T120855
CREATED:20260217T091903Z
LAST-MODIFIED:20260217T091903Z
UID:10019830-1890381600-1890399600@www.vil.no
SUMMARY:Kort og kaffi
DESCRIPTION:
URL:https://www.vil.no/aktivitet/kort-og-kaffi-2/2029-11-26/
LOCATION:Sosialt rom – JSA\, Norge
CATEGORIES:Manuelle bookinger
END:VEVENT
BEGIN:VEVENT
DTSTART;TZID=UTC:20291126T153000
DTEND;TZID=UTC:20291126T163000
DTSTAMP:20260419T120855
CREATED:20250618T074720Z
LAST-MODIFIED:20250618T074720Z
UID:10015809-1890401400-1890405000@www.vil.no
SUMMARY:Styrke & Puls
DESCRIPTION:
URL:https://www.vil.no/aktivitet/styrke-puls-2/2029-11-26/
LOCATION:Salen\, Norge
CATEGORIES:Manuelle bookinger
END:VEVENT
BEGIN:VEVENT
DTSTART;TZID=UTC:20291128T100000
DTEND;TZID=UTC:20291128T110000
DTSTAMP:20260419T120855
CREATED:20250618T074211Z
LAST-MODIFIED:20250618T074211Z
UID:10014766-1890554400-1890558000@www.vil.no
SUMMARY:Fullkroppsøkt
DESCRIPTION:
URL:https://www.vil.no/aktivitet/fullkroppsokt/2029-11-28/
LOCATION:Salen\, Norge
CATEGORIES:Manuelle bookinger
END:VEVENT
BEGIN:VEVENT
DTSTART;TZID=UTC:20291128T153000
DTEND;TZID=UTC:20291128T163000
DTSTAMP:20260419T120855
CREATED:20250618T074424Z
LAST-MODIFIED:20250618T074424Z
UID:10015027-1890574200-1890577800@www.vil.no
SUMMARY:Styrke & Puls
DESCRIPTION:
URL:https://www.vil.no/aktivitet/styrke-puls/2029-11-28/
LOCATION:Salen\, Norge
CATEGORIES:Manuelle bookinger
END:VEVENT
BEGIN:VEVENT
DTSTART;TZID=UTC:20291128T180000
DTEND;TZID=UTC:20291128T183000
DTSTAMP:20260419T120855
CREATED:20260319T075532Z
LAST-MODIFIED:20260319T075532Z
UID:10020482-1890583200-1890585000@www.vil.no
SUMMARY:E-sport
DESCRIPTION:
URL:https://www.vil.no/aktivitet/e-sport-2/2029-11-28/
LOCATION:Salen\, Norge
CATEGORIES:Manuelle bookinger
END:VEVENT
BEGIN:VEVENT
DTSTART;TZID=UTC:20291128T183000
DTEND;TZID=UTC:20291128T194500
DTSTAMP:20260419T120855
CREATED:20250618T074520Z
LAST-MODIFIED:20250618T074520Z
UID:10015288-1890585000-1890589500@www.vil.no
SUMMARY:Kettlebells
DESCRIPTION:
URL:https://www.vil.no/aktivitet/kettlebells/2029-11-28/
LOCATION:Salen\, Norge
CATEGORIES:Manuelle bookinger
END:VEVENT
BEGIN:VEVENT
DTSTART;TZID=UTC:20291129T100000
DTEND;TZID=UTC:20291129T104500
DTSTAMP:20260419T120855
CREATED:20250618T074617Z
LAST-MODIFIED:20250618T074617Z
UID:10015549-1890640800-1890643500@www.vil.no
SUMMARY:Basisball
DESCRIPTION:
URL:https://www.vil.no/aktivitet/basisball/2029-11-29/
LOCATION:Salen\, Norge
CATEGORIES:Manuelle bookinger
END:VEVENT
BEGIN:VEVENT
DTSTART;TZID=UTC:20291129T173000
DTEND;TZID=UTC:20291129T190000
DTSTAMP:20260419T120855
CREATED:20260303T102557Z
LAST-MODIFIED:20260303T102557Z
UID:10020125-1890667800-1890673200@www.vil.no
SUMMARY:Bordtennis
DESCRIPTION:
URL:https://www.vil.no/aktivitet/bordtennis/2029-11-29/
LOCATION:Salen\, Norge
CATEGORIES:Manuelle bookinger
END:VEVENT
BEGIN:VEVENT
DTSTART;TZID=UTC:20291130T170000
DTEND;TZID=UTC:20291130T183000
DTSTAMP:20260419T120855
CREATED:20240923T105806Z
LAST-MODIFIED:20240923T105806Z
UID:10015946-1890752400-1890757800@www.vil.no
SUMMARY:J15 trening
DESCRIPTION:
URL:https://www.vil.no/aktivitet/j15-trening/2029-11-30/
LOCATION:Jæren Sparebank Arena\, Norge
CATEGORIES:Manuelle bookinger
END:VEVENT
END:VCALENDAR