BEGIN:VCALENDAR
VERSION:2.0
PRODID:-//Varhaug IL - ECPv6.15.20//NONSGML v1.0//EN
CALSCALE:GREGORIAN
METHOD:PUBLISH
X-WR-CALNAME:Varhaug IL
X-ORIGINAL-URL:https://www.vil.no
X-WR-CALDESC:Arrangement for Varhaug IL
REFRESH-INTERVAL;VALUE=DURATION:PT1H
X-Robots-Tag:noindex
X-PUBLISHED-TTL:PT1H
BEGIN:VTIMEZONE
TZID:UTC
BEGIN:STANDARD
TZOFFSETFROM:+0000
TZOFFSETTO:+0000
TZNAME:UTC
DTSTART:20300101T000000
END:STANDARD
END:VTIMEZONE
BEGIN:VEVENT
DTSTART;TZID=UTC:20310416T100000
DTEND;TZID=UTC:20310416T110000
DTSTAMP:20260420T170505
CREATED:20250618T074211Z
LAST-MODIFIED:20250618T074211Z
UID:10020826-1934100000-1934103600@www.vil.no
SUMMARY:Fullkroppsøkt
DESCRIPTION:
URL:https://www.vil.no/aktivitet/fullkroppsokt/2031-04-16/
LOCATION:Salen\, Norge
CATEGORIES:Manuelle bookinger
END:VEVENT
BEGIN:VEVENT
DTSTART;TZID=UTC:20310416T153000
DTEND;TZID=UTC:20310416T163000
DTSTAMP:20260420T170505
CREATED:20250618T074424Z
LAST-MODIFIED:20250618T074424Z
UID:10020827-1934119800-1934123400@www.vil.no
SUMMARY:Styrke & Puls
DESCRIPTION:
URL:https://www.vil.no/aktivitet/styrke-puls/2031-04-16/
LOCATION:Salen\, Norge
CATEGORIES:Manuelle bookinger
END:VEVENT
BEGIN:VEVENT
DTSTART;TZID=UTC:20310416T183000
DTEND;TZID=UTC:20310416T194500
DTSTAMP:20260420T170505
CREATED:20250618T074520Z
LAST-MODIFIED:20250618T074520Z
UID:10020829-1934130600-1934135100@www.vil.no
SUMMARY:Kettlebells
DESCRIPTION:
URL:https://www.vil.no/aktivitet/kettlebells/2031-04-16/
LOCATION:Salen\, Norge
CATEGORIES:Manuelle bookinger
END:VEVENT
END:VCALENDAR