BEGIN:VCALENDAR
VERSION:2.0
PRODID:-//Varhaug IL - ECPv6.15.20//NONSGML v1.0//EN
CALSCALE:GREGORIAN
METHOD:PUBLISH
X-ORIGINAL-URL:https://www.vil.no
X-WR-CALDESC:Arrangement for Varhaug IL
REFRESH-INTERVAL;VALUE=DURATION:PT1H
X-Robots-Tag:noindex
X-PUBLISHED-TTL:PT1H
BEGIN:VTIMEZONE
TZID:UTC
BEGIN:STANDARD
TZOFFSETFROM:+0000
TZOFFSETTO:+0000
TZNAME:UTC
DTSTART:20300101T000000
END:STANDARD
END:VTIMEZONE
BEGIN:VEVENT
DTSTART;TZID=UTC:20310212T100000
DTEND;TZID=UTC:20310212T110000
DTSTAMP:20260420T132843
CREATED:20250618T074211Z
LAST-MODIFIED:20250618T074211Z
UID:10020285-1928656800-1928660400@www.vil.no
SUMMARY:Fullkroppsøkt
DESCRIPTION:
URL:https://www.vil.no/aktivitet/fullkroppsokt/2031-02-12/
LOCATION:Salen\, Norge
CATEGORIES:Manuelle bookinger
END:VEVENT
BEGIN:VEVENT
DTSTART;TZID=UTC:20310212T153000
DTEND;TZID=UTC:20310212T163000
DTSTAMP:20260420T132843
CREATED:20250618T074424Z
LAST-MODIFIED:20250618T074424Z
UID:10020585-1928676600-1928680200@www.vil.no
SUMMARY:Styrke & Puls
DESCRIPTION:
URL:https://www.vil.no/aktivitet/styrke-puls/2031-02-12/
LOCATION:Salen\, Norge
CATEGORIES:Manuelle bookinger
END:VEVENT
BEGIN:VEVENT
DTSTART;TZID=UTC:20310212T180000
DTEND;TZID=UTC:20310212T183000
DTSTAMP:20260420T132843
CREATED:20260319T075532Z
LAST-MODIFIED:20260319T075532Z
UID:10020545-1928685600-1928687400@www.vil.no
SUMMARY:E-sport
DESCRIPTION:
URL:https://www.vil.no/aktivitet/e-sport-2/2031-02-12/
LOCATION:Salen\, Norge
CATEGORIES:Manuelle bookinger
END:VEVENT
BEGIN:VEVENT
DTSTART;TZID=UTC:20310212T183000
DTEND;TZID=UTC:20310212T194500
DTSTAMP:20260420T132843
CREATED:20250618T074520Z
LAST-MODIFIED:20250618T074520Z
UID:10020625-1928687400-1928691900@www.vil.no
SUMMARY:Kettlebells
DESCRIPTION:
URL:https://www.vil.no/aktivitet/kettlebells/2031-02-12/
LOCATION:Salen\, Norge
CATEGORIES:Manuelle bookinger
END:VEVENT
END:VCALENDAR