BEGIN:VCALENDAR
VERSION:2.0
PRODID:-//Varhaug IL - ECPv6.15.20//NONSGML v1.0//EN
CALSCALE:GREGORIAN
METHOD:PUBLISH
X-ORIGINAL-URL:https://www.vil.no
X-WR-CALDESC:Arrangement for Varhaug IL
REFRESH-INTERVAL;VALUE=DURATION:PT1H
X-Robots-Tag:noindex
X-PUBLISHED-TTL:PT1H
BEGIN:VTIMEZONE
TZID:UTC
BEGIN:STANDARD
TZOFFSETFROM:+0000
TZOFFSETTO:+0000
TZNAME:UTC
DTSTART:20300101T000000
END:STANDARD
END:VTIMEZONE
BEGIN:VEVENT
DTSTART;TZID=UTC:20310129T100000
DTEND;TZID=UTC:20310129T110000
DTSTAMP:20260420T114803
CREATED:20250618T074211Z
LAST-MODIFIED:20250618T074211Z
UID:10020283-1927447200-1927450800@www.vil.no
SUMMARY:Fullkroppsøkt
DESCRIPTION:
URL:https://www.vil.no/aktivitet/fullkroppsokt/2031-01-29/
LOCATION:Salen\, Norge
CATEGORIES:Manuelle bookinger
END:VEVENT
BEGIN:VEVENT
DTSTART;TZID=UTC:20310129T153000
DTEND;TZID=UTC:20310129T163000
DTSTAMP:20260420T114803
CREATED:20250618T074424Z
LAST-MODIFIED:20250618T074424Z
UID:10020583-1927467000-1927470600@www.vil.no
SUMMARY:Styrke & Puls
DESCRIPTION:
URL:https://www.vil.no/aktivitet/styrke-puls/2031-01-29/
LOCATION:Salen\, Norge
CATEGORIES:Manuelle bookinger
END:VEVENT
BEGIN:VEVENT
DTSTART;TZID=UTC:20310129T180000
DTEND;TZID=UTC:20310129T183000
DTSTAMP:20260420T114803
CREATED:20260319T075532Z
LAST-MODIFIED:20260319T075532Z
UID:10020543-1927476000-1927477800@www.vil.no
SUMMARY:E-sport
DESCRIPTION:
URL:https://www.vil.no/aktivitet/e-sport-2/2031-01-29/
LOCATION:Salen\, Norge
CATEGORIES:Manuelle bookinger
END:VEVENT
BEGIN:VEVENT
DTSTART;TZID=UTC:20310129T183000
DTEND;TZID=UTC:20310129T194500
DTSTAMP:20260420T114803
CREATED:20250618T074520Z
LAST-MODIFIED:20250618T074520Z
UID:10020623-1927477800-1927482300@www.vil.no
SUMMARY:Kettlebells
DESCRIPTION:
URL:https://www.vil.no/aktivitet/kettlebells/2031-01-29/
LOCATION:Salen\, Norge
CATEGORIES:Manuelle bookinger
END:VEVENT
END:VCALENDAR