BEGIN:VCALENDAR
VERSION:2.0
PRODID:-//Varhaug IL - ECPv6.15.20//NONSGML v1.0//EN
CALSCALE:GREGORIAN
METHOD:PUBLISH
X-ORIGINAL-URL:https://www.vil.no
X-WR-CALDESC:Arrangement for Varhaug IL
REFRESH-INTERVAL;VALUE=DURATION:PT1H
X-Robots-Tag:noindex
X-PUBLISHED-TTL:PT1H
BEGIN:VTIMEZONE
TZID:UTC
BEGIN:STANDARD
TZOFFSETFROM:+0000
TZOFFSETTO:+0000
TZNAME:UTC
DTSTART:20290101T000000
END:STANDARD
END:VTIMEZONE
BEGIN:VEVENT
DTSTART;TZID=UTC:20301226T080000
DTEND;TZID=UTC:20301226T190000
DTSTAMP:20260420T095912
CREATED:20231023T103130Z
LAST-MODIFIED:20231023T103130Z
UID:10006773-1924502400-1924542000@www.vil.no
SUMMARY:Juleselskap O. Varhaug
DESCRIPTION:
URL:https://www.vil.no/aktivitet/juleselskap-o-varhaug-7/
LOCATION:Sosialt rom – JSA\, Norge
CATEGORIES:Manuelle bookinger
END:VEVENT
BEGIN:VEVENT
DTSTART;TZID=UTC:20301226T100000
DTEND;TZID=UTC:20301226T104500
DTSTAMP:20260420T095912
CREATED:20250618T074617Z
LAST-MODIFIED:20250618T074617Z
UID:10020658-1924509600-1924512300@www.vil.no
SUMMARY:Basisball
DESCRIPTION:
URL:https://www.vil.no/aktivitet/basisball/2030-12-26/
LOCATION:Salen\, Norge
CATEGORIES:Manuelle bookinger
END:VEVENT
BEGIN:VEVENT
DTSTART;TZID=UTC:20301226T103000
DTEND;TZID=UTC:20301226T200000
DTSTAMP:20260420T095912
CREATED:20231023T100650Z
LAST-MODIFIED:20231023T100650Z
UID:10006759-1924511400-1924545600@www.vil.no
SUMMARY:Juleselskap O. Varhaug
DESCRIPTION:
URL:https://www.vil.no/aktivitet/juleselskap-o-varhaug/2030-12-26/
LOCATION:Sosialt rom – JSA\, Norge
CATEGORIES:Manuelle bookinger
END:VEVENT
BEGIN:VEVENT
DTSTART;TZID=UTC:20301226T173000
DTEND;TZID=UTC:20301226T190000
DTSTAMP:20260420T095912
CREATED:20260303T102557Z
LAST-MODIFIED:20260303T102557Z
UID:10020181-1924536600-1924542000@www.vil.no
SUMMARY:Bordtennis
DESCRIPTION:
URL:https://www.vil.no/aktivitet/bordtennis/2030-12-26/
LOCATION:Salen\, Norge
CATEGORIES:Manuelle bookinger
END:VEVENT
END:VCALENDAR