BEGIN:VCALENDAR
VERSION:2.0
PRODID:-//Varhaug IL - ECPv6.15.20//NONSGML v1.0//EN
CALSCALE:GREGORIAN
METHOD:PUBLISH
X-ORIGINAL-URL:https://www.vil.no
X-WR-CALDESC:Arrangement for Varhaug IL
REFRESH-INTERVAL;VALUE=DURATION:PT1H
X-Robots-Tag:noindex
X-PUBLISHED-TTL:PT1H
BEGIN:VTIMEZONE
TZID:UTC
BEGIN:STANDARD
TZOFFSETFROM:+0000
TZOFFSETTO:+0000
TZNAME:UTC
DTSTART:20290101T000000
END:STANDARD
END:VTIMEZONE
BEGIN:VEVENT
DTSTART;TZID=UTC:20300807T100000
DTEND;TZID=UTC:20300807T110000
DTSTAMP:20260420T030236
CREATED:20250618T074211Z
LAST-MODIFIED:20250618T074211Z
UID:10020258-1912327200-1912330800@www.vil.no
SUMMARY:Fullkroppsøkt
DESCRIPTION:
URL:https://www.vil.no/aktivitet/fullkroppsokt/2030-08-07/
LOCATION:Salen\, Norge
CATEGORIES:Manuelle bookinger
END:VEVENT
BEGIN:VEVENT
DTSTART;TZID=UTC:20300807T153000
DTEND;TZID=UTC:20300807T163000
DTSTAMP:20260420T030236
CREATED:20250618T074424Z
LAST-MODIFIED:20250618T074424Z
UID:10020558-1912347000-1912350600@www.vil.no
SUMMARY:Styrke & Puls
DESCRIPTION:
URL:https://www.vil.no/aktivitet/styrke-puls/2030-08-07/
LOCATION:Salen\, Norge
CATEGORIES:Manuelle bookinger
END:VEVENT
BEGIN:VEVENT
DTSTART;TZID=UTC:20300807T180000
DTEND;TZID=UTC:20300807T183000
DTSTAMP:20260420T030236
CREATED:20260319T075532Z
LAST-MODIFIED:20260319T075532Z
UID:10020518-1912356000-1912357800@www.vil.no
SUMMARY:E-sport
DESCRIPTION:
URL:https://www.vil.no/aktivitet/e-sport-2/2030-08-07/
LOCATION:Salen\, Norge
CATEGORIES:Manuelle bookinger
END:VEVENT
BEGIN:VEVENT
DTSTART;TZID=UTC:20300807T183000
DTEND;TZID=UTC:20300807T194500
DTSTAMP:20260420T030236
CREATED:20250618T074520Z
LAST-MODIFIED:20250618T074520Z
UID:10020598-1912357800-1912362300@www.vil.no
SUMMARY:Kettlebells
DESCRIPTION:
URL:https://www.vil.no/aktivitet/kettlebells/2030-08-07/
LOCATION:Salen\, Norge
CATEGORIES:Manuelle bookinger
END:VEVENT
END:VCALENDAR