BEGIN:VCALENDAR
VERSION:2.0
PRODID:-//Varhaug IL - ECPv6.15.20//NONSGML v1.0//EN
CALSCALE:GREGORIAN
METHOD:PUBLISH
X-ORIGINAL-URL:https://www.vil.no
X-WR-CALDESC:Arrangement for Varhaug IL
REFRESH-INTERVAL;VALUE=DURATION:PT1H
X-Robots-Tag:noindex
X-PUBLISHED-TTL:PT1H
BEGIN:VTIMEZONE
TZID:UTC
BEGIN:STANDARD
TZOFFSETFROM:+0000
TZOFFSETTO:+0000
TZNAME:UTC
DTSTART:20290101T000000
END:STANDARD
END:VTIMEZONE
BEGIN:VEVENT
DTSTART;TZID=UTC:20300522T100000
DTEND;TZID=UTC:20300522T110000
DTSTAMP:20260419T213541
CREATED:20250618T074211Z
LAST-MODIFIED:20250618T074211Z
UID:10014791-1905674400-1905678000@www.vil.no
SUMMARY:Fullkroppsøkt
DESCRIPTION:
URL:https://www.vil.no/aktivitet/fullkroppsokt/2030-05-22/
LOCATION:Salen\, Norge
CATEGORIES:Manuelle bookinger
END:VEVENT
BEGIN:VEVENT
DTSTART;TZID=UTC:20300522T153000
DTEND;TZID=UTC:20300522T163000
DTSTAMP:20260419T213541
CREATED:20250618T074424Z
LAST-MODIFIED:20250618T074424Z
UID:10015052-1905694200-1905697800@www.vil.no
SUMMARY:Styrke & Puls
DESCRIPTION:
URL:https://www.vil.no/aktivitet/styrke-puls/2030-05-22/
LOCATION:Salen\, Norge
CATEGORIES:Manuelle bookinger
END:VEVENT
BEGIN:VEVENT
DTSTART;TZID=UTC:20300522T180000
DTEND;TZID=UTC:20300522T183000
DTSTAMP:20260419T213541
CREATED:20260319T075532Z
LAST-MODIFIED:20260319T075532Z
UID:10020507-1905703200-1905705000@www.vil.no
SUMMARY:E-sport
DESCRIPTION:
URL:https://www.vil.no/aktivitet/e-sport-2/2030-05-22/
LOCATION:Salen\, Norge
CATEGORIES:Manuelle bookinger
END:VEVENT
BEGIN:VEVENT
DTSTART;TZID=UTC:20300522T183000
DTEND;TZID=UTC:20300522T194500
DTSTAMP:20260419T213541
CREATED:20250618T074520Z
LAST-MODIFIED:20250618T074520Z
UID:10015313-1905705000-1905709500@www.vil.no
SUMMARY:Kettlebells
DESCRIPTION:
URL:https://www.vil.no/aktivitet/kettlebells/2030-05-22/
LOCATION:Salen\, Norge
CATEGORIES:Manuelle bookinger
END:VEVENT
END:VCALENDAR