BEGIN:VCALENDAR
VERSION:2.0
PRODID:-//Varhaug IL - ECPv6.15.20//NONSGML v1.0//EN
CALSCALE:GREGORIAN
METHOD:PUBLISH
X-WR-CALNAME:Varhaug IL
X-ORIGINAL-URL:https://www.vil.no
X-WR-CALDESC:Arrangement for Varhaug IL
REFRESH-INTERVAL;VALUE=DURATION:PT1H
X-Robots-Tag:noindex
X-PUBLISHED-TTL:PT1H
BEGIN:VTIMEZONE
TZID:UTC
BEGIN:STANDARD
TZOFFSETFROM:+0000
TZOFFSETTO:+0000
TZNAME:UTC
DTSTART:20290101T000000
END:STANDARD
END:VTIMEZONE
BEGIN:VEVENT
DTSTART;TZID=UTC:20300510T170000
DTEND;TZID=UTC:20300510T183000
DTSTAMP:20260419T213211
CREATED:20240923T105806Z
LAST-MODIFIED:20240923T105806Z
UID:10015969-1904662800-1904668200@www.vil.no
SUMMARY:J15 trening
DESCRIPTION:
URL:https://www.vil.no/aktivitet/j15-trening/2030-05-10/
LOCATION:Jæren Sparebank Arena\, Norge
CATEGORIES:Manuelle bookinger
END:VEVENT
BEGIN:VEVENT
DTSTART;TZID=UTC:20300510T170000
DTEND;TZID=UTC:20300511T203000
DTSTAMP:20260419T213211
CREATED:20250516T074058Z
LAST-MODIFIED:20250516T074058Z
UID:10014184-1904662800-1904761800@www.vil.no
SUMMARY:Konfirmasjon Sinnes
DESCRIPTION:
URL:https://www.vil.no/aktivitet/konfirmasjon-sinnes/
LOCATION:Sosialt rom – JSA\, Norge
CATEGORIES:Manuelle bookinger
END:VEVENT
END:VCALENDAR