BEGIN:VCALENDAR
VERSION:2.0
PRODID:-//Varhaug IL - ECPv6.15.20//NONSGML v1.0//EN
CALSCALE:GREGORIAN
METHOD:PUBLISH
X-ORIGINAL-URL:https://www.vil.no
X-WR-CALDESC:Arrangement for Varhaug IL
REFRESH-INTERVAL;VALUE=DURATION:PT1H
X-Robots-Tag:noindex
X-PUBLISHED-TTL:PT1H
BEGIN:VTIMEZONE
TZID:UTC
BEGIN:STANDARD
TZOFFSETFROM:+0000
TZOFFSETTO:+0000
TZNAME:UTC
DTSTART:20290101T000000
END:STANDARD
END:VTIMEZONE
BEGIN:VEVENT
DTSTART;TZID=UTC:20300503T080000
DTEND;TZID=UTC:20300504T200000
DTSTAMP:20260419T194743
CREATED:20230904T115353Z
LAST-MODIFIED:20230904T115353Z
UID:10003806-1904025600-1904155200@www.vil.no
SUMMARY:Konfirmasjon
DESCRIPTION:
URL:https://www.vil.no/aktivitet/konfirmasjon-13/
LOCATION:Fotballtribune – sosialt rom\, Norge
CATEGORIES:Manuelle bookinger
END:VEVENT
BEGIN:VEVENT
DTSTART;TZID=UTC:20300503T170000
DTEND;TZID=UTC:20300504T230000
DTSTAMP:20260419T194743
CREATED:20210902T092844Z
LAST-MODIFIED:20210902T092844Z
UID:10000007-1904058000-1904166000@www.vil.no
SUMMARY:Konfirmasjon Aanestad
DESCRIPTION:
URL:https://www.vil.no/aktivitet/konfirmasjon-aanestad-6/
LOCATION:Sosialt rom – JSA\, Norge
CATEGORIES:Manuelle bookinger
END:VEVENT
BEGIN:VEVENT
DTSTART;TZID=UTC:20300503T180000
DTEND;TZID=UTC:20300504T220000
DTSTAMP:20260419T194743
CREATED:20210902T115143Z
LAST-MODIFIED:20210902T115155Z
UID:10000009-1904061600-1904162400@www.vil.no
SUMMARY:Konfirmasjon Aanestad
DESCRIPTION:
URL:https://www.vil.no/aktivitet/konfirmasjon-21/
LOCATION:Jæren Sparebank Arena\, Norge
CATEGORIES:Manuelle bookinger
END:VEVENT
BEGIN:VEVENT
DTSTART;TZID=UTC:20300504T230000
DTEND;TZID=UTC:20300505T220000
DTSTAMP:20260419T194743
CREATED:20220922T072101Z
LAST-MODIFIED:20220922T072101Z
UID:10001305-1904166000-1904248800@www.vil.no
SUMMARY:Konfirmasjon Skretting
DESCRIPTION:
URL:https://www.vil.no/aktivitet/konfirmasjon-skretting/
LOCATION:Sosialt rom – JSA\, Norge
CATEGORIES:Manuelle bookinger
END:VEVENT
END:VCALENDAR