BEGIN:VCALENDAR
VERSION:2.0
PRODID:-//Varhaug IL - ECPv6.15.20//NONSGML v1.0//EN
CALSCALE:GREGORIAN
METHOD:PUBLISH
X-ORIGINAL-URL:https://www.vil.no
X-WR-CALDESC:Arrangement for Varhaug IL
REFRESH-INTERVAL;VALUE=DURATION:PT1H
X-Robots-Tag:noindex
X-PUBLISHED-TTL:PT1H
BEGIN:VTIMEZONE
TZID:UTC
BEGIN:STANDARD
TZOFFSETFROM:+0000
TZOFFSETTO:+0000
TZNAME:UTC
DTSTART:20310101T000000
END:STANDARD
END:VTIMEZONE
BEGIN:VEVENT
DTSTART;TZID=UTC:20320501T180000
DTEND;TZID=UTC:20320502T180000
DTSTAMP:20260420T210255
CREATED:20230707T090135Z
LAST-MODIFIED:20230707T090135Z
UID:10003230-1967047200-1967133600@www.vil.no
SUMMARY:Konfirmasjon
DESCRIPTION:
URL:https://www.vil.no/aktivitet/konfirmasjon-11/
LOCATION:Sosialt rom – JSA\, Norge
CATEGORIES:Manuelle bookinger
END:VEVENT
BEGIN:VEVENT
DTSTART;TZID=UTC:20320502T080000
DTEND;TZID=UTC:20320502T170000
DTSTAMP:20260420T210255
CREATED:20241023T083307Z
LAST-MODIFIED:20241023T083307Z
UID:10012366-1967097600-1967130000@www.vil.no
SUMMARY:Konfirmasjon Hanna Aanestad
DESCRIPTION:
URL:https://www.vil.no/aktivitet/konfirmasjon-hanna-aanestad/
LOCATION:Sosialt rom – JSA\, Norge
CATEGORIES:Manuelle bookinger
END:VEVENT
END:VCALENDAR