BEGIN:VCALENDAR
VERSION:2.0
PRODID:-//Varhaug IL - ECPv6.15.20//NONSGML v1.0//EN
CALSCALE:GREGORIAN
METHOD:PUBLISH
X-ORIGINAL-URL:https://www.vil.no
X-WR-CALDESC:Arrangement for Varhaug IL
REFRESH-INTERVAL;VALUE=DURATION:PT1H
X-Robots-Tag:noindex
X-PUBLISHED-TTL:PT1H
BEGIN:VTIMEZONE
TZID:UTC
BEGIN:STANDARD
TZOFFSETFROM:+0000
TZOFFSETTO:+0000
TZNAME:UTC
DTSTART:20300101T000000
END:STANDARD
END:VTIMEZONE
BEGIN:VEVENT
DTSTART;TZID=UTC:20310203T100000
DTEND;TZID=UTC:20310203T150000
DTSTAMP:20260420T114325
CREATED:20250505T083050Z
LAST-MODIFIED:20250505T083329Z
UID:10019609-1927879200-1927897200@www.vil.no
SUMMARY:Kort og kaffi
DESCRIPTION:
URL:https://www.vil.no/aktivitet/kort-og-kaffi/2031-02-03/
LOCATION:Sosialt rom – JSA\, Norge
CATEGORIES:Manuelle bookinger
END:VEVENT
BEGIN:VEVENT
DTSTART;TZID=UTC:20310203T100000
DTEND;TZID=UTC:20310203T150000
DTSTAMP:20260420T114325
CREATED:20260217T091903Z
LAST-MODIFIED:20260217T091903Z
UID:10019892-1927879200-1927897200@www.vil.no
SUMMARY:Kort og kaffi
DESCRIPTION:
URL:https://www.vil.no/aktivitet/kort-og-kaffi-2/2031-02-03/
LOCATION:Sosialt rom – JSA\, Norge
CATEGORIES:Manuelle bookinger
END:VEVENT
BEGIN:VEVENT
DTSTART;TZID=UTC:20310203T153000
DTEND;TZID=UTC:20310203T163000
DTSTAMP:20260420T114326
CREATED:20250618T074720Z
LAST-MODIFIED:20250618T074720Z
UID:10020729-1927899000-1927902600@www.vil.no
SUMMARY:Styrke & Puls
DESCRIPTION:
URL:https://www.vil.no/aktivitet/styrke-puls-2/2031-02-03/
LOCATION:Salen\, Norge
CATEGORIES:Manuelle bookinger
END:VEVENT
BEGIN:VEVENT
DTSTART;TZID=UTC:20310205T100000
DTEND;TZID=UTC:20310205T110000
DTSTAMP:20260420T114326
CREATED:20250618T074211Z
LAST-MODIFIED:20250618T074211Z
UID:10020284-1928052000-1928055600@www.vil.no
SUMMARY:Fullkroppsøkt
DESCRIPTION:
URL:https://www.vil.no/aktivitet/fullkroppsokt/2031-02-05/
LOCATION:Salen\, Norge
CATEGORIES:Manuelle bookinger
END:VEVENT
BEGIN:VEVENT
DTSTART;TZID=UTC:20310205T153000
DTEND;TZID=UTC:20310205T163000
DTSTAMP:20260420T114326
CREATED:20250618T074424Z
LAST-MODIFIED:20250618T074424Z
UID:10020584-1928071800-1928075400@www.vil.no
SUMMARY:Styrke & Puls
DESCRIPTION:
URL:https://www.vil.no/aktivitet/styrke-puls/2031-02-05/
LOCATION:Salen\, Norge
CATEGORIES:Manuelle bookinger
END:VEVENT
BEGIN:VEVENT
DTSTART;TZID=UTC:20310205T180000
DTEND;TZID=UTC:20310205T183000
DTSTAMP:20260420T114326
CREATED:20260319T075532Z
LAST-MODIFIED:20260319T075532Z
UID:10020544-1928080800-1928082600@www.vil.no
SUMMARY:E-sport
DESCRIPTION:
URL:https://www.vil.no/aktivitet/e-sport-2/2031-02-05/
LOCATION:Salen\, Norge
CATEGORIES:Manuelle bookinger
END:VEVENT
BEGIN:VEVENT
DTSTART;TZID=UTC:20310205T183000
DTEND;TZID=UTC:20310205T194500
DTSTAMP:20260420T114326
CREATED:20250618T074520Z
LAST-MODIFIED:20250618T074520Z
UID:10020624-1928082600-1928087100@www.vil.no
SUMMARY:Kettlebells
DESCRIPTION:
URL:https://www.vil.no/aktivitet/kettlebells/2031-02-05/
LOCATION:Salen\, Norge
CATEGORIES:Manuelle bookinger
END:VEVENT
BEGIN:VEVENT
DTSTART;TZID=UTC:20310206T100000
DTEND;TZID=UTC:20310206T104500
DTSTAMP:20260420T114326
CREATED:20250618T074617Z
LAST-MODIFIED:20250618T074617Z
UID:10020664-1928138400-1928141100@www.vil.no
SUMMARY:Basisball
DESCRIPTION:
URL:https://www.vil.no/aktivitet/basisball/2031-02-06/
LOCATION:Salen\, Norge
CATEGORIES:Manuelle bookinger
END:VEVENT
BEGIN:VEVENT
DTSTART;TZID=UTC:20310206T173000
DTEND;TZID=UTC:20310206T190000
DTSTAMP:20260420T114326
CREATED:20260303T102557Z
LAST-MODIFIED:20260303T102557Z
UID:10020187-1928165400-1928170800@www.vil.no
SUMMARY:Bordtennis
DESCRIPTION:
URL:https://www.vil.no/aktivitet/bordtennis/2031-02-06/
LOCATION:Salen\, Norge
CATEGORIES:Manuelle bookinger
END:VEVENT
BEGIN:VEVENT
DTSTART;TZID=UTC:20310207T170000
DTEND;TZID=UTC:20310207T183000
DTSTAMP:20260420T114326
CREATED:20240923T105806Z
LAST-MODIFIED:20240923T105806Z
UID:10019617-1928250000-1928255400@www.vil.no
SUMMARY:J15 trening
DESCRIPTION:
URL:https://www.vil.no/aktivitet/j15-trening/2031-02-07/
LOCATION:Jæren Sparebank Arena\, Norge
CATEGORIES:Manuelle bookinger
END:VEVENT
BEGIN:VEVENT
DTSTART;TZID=UTC:20310210T100000
DTEND;TZID=UTC:20310210T150000
DTSTAMP:20260420T114326
CREATED:20250505T083050Z
LAST-MODIFIED:20250505T083329Z
UID:10019628-1928484000-1928502000@www.vil.no
SUMMARY:Kort og kaffi
DESCRIPTION:
URL:https://www.vil.no/aktivitet/kort-og-kaffi/2031-02-10/
LOCATION:Sosialt rom – JSA\, Norge
CATEGORIES:Manuelle bookinger
END:VEVENT
BEGIN:VEVENT
DTSTART;TZID=UTC:20310210T100000
DTEND;TZID=UTC:20310210T150000
DTSTAMP:20260420T114326
CREATED:20260217T091903Z
LAST-MODIFIED:20260217T091903Z
UID:10019893-1928484000-1928502000@www.vil.no
SUMMARY:Kort og kaffi
DESCRIPTION:
URL:https://www.vil.no/aktivitet/kort-og-kaffi-2/2031-02-10/
LOCATION:Sosialt rom – JSA\, Norge
CATEGORIES:Manuelle bookinger
END:VEVENT
BEGIN:VEVENT
DTSTART;TZID=UTC:20310210T153000
DTEND;TZID=UTC:20310210T163000
DTSTAMP:20260420T114326
CREATED:20250618T074720Z
LAST-MODIFIED:20250618T074720Z
UID:10020730-1928503800-1928507400@www.vil.no
SUMMARY:Styrke & Puls
DESCRIPTION:
URL:https://www.vil.no/aktivitet/styrke-puls-2/2031-02-10/
LOCATION:Salen\, Norge
CATEGORIES:Manuelle bookinger
END:VEVENT
BEGIN:VEVENT
DTSTART;TZID=UTC:20310212T100000
DTEND;TZID=UTC:20310212T110000
DTSTAMP:20260420T114326
CREATED:20250618T074211Z
LAST-MODIFIED:20250618T074211Z
UID:10020285-1928656800-1928660400@www.vil.no
SUMMARY:Fullkroppsøkt
DESCRIPTION:
URL:https://www.vil.no/aktivitet/fullkroppsokt/2031-02-12/
LOCATION:Salen\, Norge
CATEGORIES:Manuelle bookinger
END:VEVENT
BEGIN:VEVENT
DTSTART;TZID=UTC:20310212T153000
DTEND;TZID=UTC:20310212T163000
DTSTAMP:20260420T114326
CREATED:20250618T074424Z
LAST-MODIFIED:20250618T074424Z
UID:10020585-1928676600-1928680200@www.vil.no
SUMMARY:Styrke & Puls
DESCRIPTION:
URL:https://www.vil.no/aktivitet/styrke-puls/2031-02-12/
LOCATION:Salen\, Norge
CATEGORIES:Manuelle bookinger
END:VEVENT
BEGIN:VEVENT
DTSTART;TZID=UTC:20310212T180000
DTEND;TZID=UTC:20310212T183000
DTSTAMP:20260420T114326
CREATED:20260319T075532Z
LAST-MODIFIED:20260319T075532Z
UID:10020545-1928685600-1928687400@www.vil.no
SUMMARY:E-sport
DESCRIPTION:
URL:https://www.vil.no/aktivitet/e-sport-2/2031-02-12/
LOCATION:Salen\, Norge
CATEGORIES:Manuelle bookinger
END:VEVENT
BEGIN:VEVENT
DTSTART;TZID=UTC:20310212T183000
DTEND;TZID=UTC:20310212T194500
DTSTAMP:20260420T114326
CREATED:20250618T074520Z
LAST-MODIFIED:20250618T074520Z
UID:10020625-1928687400-1928691900@www.vil.no
SUMMARY:Kettlebells
DESCRIPTION:
URL:https://www.vil.no/aktivitet/kettlebells/2031-02-12/
LOCATION:Salen\, Norge
CATEGORIES:Manuelle bookinger
END:VEVENT
BEGIN:VEVENT
DTSTART;TZID=UTC:20310213T100000
DTEND;TZID=UTC:20310213T104500
DTSTAMP:20260420T114326
CREATED:20250618T074617Z
LAST-MODIFIED:20250618T074617Z
UID:10020665-1928743200-1928745900@www.vil.no
SUMMARY:Basisball
DESCRIPTION:
URL:https://www.vil.no/aktivitet/basisball/2031-02-13/
LOCATION:Salen\, Norge
CATEGORIES:Manuelle bookinger
END:VEVENT
BEGIN:VEVENT
DTSTART;TZID=UTC:20310213T173000
DTEND;TZID=UTC:20310213T190000
DTSTAMP:20260420T114326
CREATED:20260303T102557Z
LAST-MODIFIED:20260303T102557Z
UID:10020188-1928770200-1928775600@www.vil.no
SUMMARY:Bordtennis
DESCRIPTION:
URL:https://www.vil.no/aktivitet/bordtennis/2031-02-13/
LOCATION:Salen\, Norge
CATEGORIES:Manuelle bookinger
END:VEVENT
BEGIN:VEVENT
DTSTART;TZID=UTC:20310214T170000
DTEND;TZID=UTC:20310214T183000
DTSTAMP:20260420T114326
CREATED:20240923T105806Z
LAST-MODIFIED:20240923T105806Z
UID:10019896-1928854800-1928860200@www.vil.no
SUMMARY:J15 trening
DESCRIPTION:
URL:https://www.vil.no/aktivitet/j15-trening/2031-02-14/
LOCATION:Jæren Sparebank Arena\, Norge
CATEGORIES:Manuelle bookinger
END:VEVENT
BEGIN:VEVENT
DTSTART;TZID=UTC:20310217T100000
DTEND;TZID=UTC:20310217T150000
DTSTAMP:20260420T114326
CREATED:20250505T083050Z
LAST-MODIFIED:20250505T083329Z
UID:10019900-1929088800-1929106800@www.vil.no
SUMMARY:Kort og kaffi
DESCRIPTION:
URL:https://www.vil.no/aktivitet/kort-og-kaffi/2031-02-17/
LOCATION:Sosialt rom – JSA\, Norge
CATEGORIES:Manuelle bookinger
END:VEVENT
BEGIN:VEVENT
DTSTART;TZID=UTC:20310217T100000
DTEND;TZID=UTC:20310217T150000
DTSTAMP:20260420T114326
CREATED:20260217T091903Z
LAST-MODIFIED:20260217T091903Z
UID:10019894-1929088800-1929106800@www.vil.no
SUMMARY:Kort og kaffi
DESCRIPTION:
URL:https://www.vil.no/aktivitet/kort-og-kaffi-2/2031-02-17/
LOCATION:Sosialt rom – JSA\, Norge
CATEGORIES:Manuelle bookinger
END:VEVENT
BEGIN:VEVENT
DTSTART;TZID=UTC:20310217T153000
DTEND;TZID=UTC:20310217T163000
DTSTAMP:20260420T114326
CREATED:20250618T074720Z
LAST-MODIFIED:20250618T074720Z
UID:10020731-1929108600-1929112200@www.vil.no
SUMMARY:Styrke & Puls
DESCRIPTION:
URL:https://www.vil.no/aktivitet/styrke-puls-2/2031-02-17/
LOCATION:Salen\, Norge
CATEGORIES:Manuelle bookinger
END:VEVENT
BEGIN:VEVENT
DTSTART;TZID=UTC:20310219T100000
DTEND;TZID=UTC:20310219T110000
DTSTAMP:20260420T114326
CREATED:20250618T074211Z
LAST-MODIFIED:20250618T074211Z
UID:10020286-1929261600-1929265200@www.vil.no
SUMMARY:Fullkroppsøkt
DESCRIPTION:
URL:https://www.vil.no/aktivitet/fullkroppsokt/2031-02-19/
LOCATION:Salen\, Norge
CATEGORIES:Manuelle bookinger
END:VEVENT
BEGIN:VEVENT
DTSTART;TZID=UTC:20310219T153000
DTEND;TZID=UTC:20310219T163000
DTSTAMP:20260420T114326
CREATED:20250618T074424Z
LAST-MODIFIED:20250618T074424Z
UID:10020586-1929281400-1929285000@www.vil.no
SUMMARY:Styrke & Puls
DESCRIPTION:
URL:https://www.vil.no/aktivitet/styrke-puls/2031-02-19/
LOCATION:Salen\, Norge
CATEGORIES:Manuelle bookinger
END:VEVENT
BEGIN:VEVENT
DTSTART;TZID=UTC:20310219T180000
DTEND;TZID=UTC:20310219T183000
DTSTAMP:20260420T114326
CREATED:20260319T075532Z
LAST-MODIFIED:20260319T075532Z
UID:10020546-1929290400-1929292200@www.vil.no
SUMMARY:E-sport
DESCRIPTION:
URL:https://www.vil.no/aktivitet/e-sport-2/2031-02-19/
LOCATION:Salen\, Norge
CATEGORIES:Manuelle bookinger
END:VEVENT
BEGIN:VEVENT
DTSTART;TZID=UTC:20310219T183000
DTEND;TZID=UTC:20310219T194500
DTSTAMP:20260420T114326
CREATED:20250618T074520Z
LAST-MODIFIED:20250618T074520Z
UID:10020626-1929292200-1929296700@www.vil.no
SUMMARY:Kettlebells
DESCRIPTION:
URL:https://www.vil.no/aktivitet/kettlebells/2031-02-19/
LOCATION:Salen\, Norge
CATEGORIES:Manuelle bookinger
END:VEVENT
BEGIN:VEVENT
DTSTART;TZID=UTC:20310220T100000
DTEND;TZID=UTC:20310220T104500
DTSTAMP:20260420T114326
CREATED:20250618T074617Z
LAST-MODIFIED:20250618T074617Z
UID:10020666-1929348000-1929350700@www.vil.no
SUMMARY:Basisball
DESCRIPTION:
URL:https://www.vil.no/aktivitet/basisball/2031-02-20/
LOCATION:Salen\, Norge
CATEGORIES:Manuelle bookinger
END:VEVENT
BEGIN:VEVENT
DTSTART;TZID=UTC:20310220T173000
DTEND;TZID=UTC:20310220T190000
DTSTAMP:20260420T114326
CREATED:20260303T102557Z
LAST-MODIFIED:20260303T102557Z
UID:10020189-1929375000-1929380400@www.vil.no
SUMMARY:Bordtennis
DESCRIPTION:
URL:https://www.vil.no/aktivitet/bordtennis/2031-02-20/
LOCATION:Salen\, Norge
CATEGORIES:Manuelle bookinger
END:VEVENT
BEGIN:VEVENT
DTSTART;TZID=UTC:20310221T170000
DTEND;TZID=UTC:20310221T183000
DTSTAMP:20260420T114326
CREATED:20240923T105806Z
LAST-MODIFIED:20240923T105806Z
UID:10019910-1929459600-1929465000@www.vil.no
SUMMARY:J15 trening
DESCRIPTION:
URL:https://www.vil.no/aktivitet/j15-trening/2031-02-21/
LOCATION:Jæren Sparebank Arena\, Norge
CATEGORIES:Manuelle bookinger
END:VEVENT
END:VCALENDAR