BEGIN:VCALENDAR
VERSION:2.0
PRODID:-//Varhaug IL - ECPv6.15.20//NONSGML v1.0//EN
CALSCALE:GREGORIAN
METHOD:PUBLISH
X-ORIGINAL-URL:https://www.vil.no
X-WR-CALDESC:Arrangement for Varhaug IL
REFRESH-INTERVAL;VALUE=DURATION:PT1H
X-Robots-Tag:noindex
X-PUBLISHED-TTL:PT1H
BEGIN:VTIMEZONE
TZID:UTC
BEGIN:STANDARD
TZOFFSETFROM:+0000
TZOFFSETTO:+0000
TZNAME:UTC
DTSTART:20290101T000000
END:STANDARD
END:VTIMEZONE
BEGIN:VEVENT
DTSTART;TZID=UTC:20301002T100000
DTEND;TZID=UTC:20301002T110000
DTSTAMP:20260420T043209
CREATED:20250618T074211Z
LAST-MODIFIED:20250618T074211Z
UID:10020266-1917165600-1917169200@www.vil.no
SUMMARY:Fullkroppsøkt
DESCRIPTION:
URL:https://www.vil.no/aktivitet/fullkroppsokt/2030-10-02/
LOCATION:Salen\, Norge
CATEGORIES:Manuelle bookinger
END:VEVENT
BEGIN:VEVENT
DTSTART;TZID=UTC:20301002T153000
DTEND;TZID=UTC:20301002T163000
DTSTAMP:20260420T043209
CREATED:20250618T074424Z
LAST-MODIFIED:20250618T074424Z
UID:10020566-1917185400-1917189000@www.vil.no
SUMMARY:Styrke & Puls
DESCRIPTION:
URL:https://www.vil.no/aktivitet/styrke-puls/2030-10-02/
LOCATION:Salen\, Norge
CATEGORIES:Manuelle bookinger
END:VEVENT
BEGIN:VEVENT
DTSTART;TZID=UTC:20301002T180000
DTEND;TZID=UTC:20301002T183000
DTSTAMP:20260420T043209
CREATED:20260319T075532Z
LAST-MODIFIED:20260319T075532Z
UID:10020526-1917194400-1917196200@www.vil.no
SUMMARY:E-sport
DESCRIPTION:
URL:https://www.vil.no/aktivitet/e-sport-2/2030-10-02/
LOCATION:Salen\, Norge
CATEGORIES:Manuelle bookinger
END:VEVENT
BEGIN:VEVENT
DTSTART;TZID=UTC:20301002T183000
DTEND;TZID=UTC:20301002T194500
DTSTAMP:20260420T043209
CREATED:20250618T074520Z
LAST-MODIFIED:20250618T074520Z
UID:10020606-1917196200-1917200700@www.vil.no
SUMMARY:Kettlebells
DESCRIPTION:
URL:https://www.vil.no/aktivitet/kettlebells/2030-10-02/
LOCATION:Salen\, Norge
CATEGORIES:Manuelle bookinger
END:VEVENT
BEGIN:VEVENT
DTSTART;TZID=UTC:20301003T100000
DTEND;TZID=UTC:20301003T104500
DTSTAMP:20260420T043209
CREATED:20250618T074617Z
LAST-MODIFIED:20250618T074617Z
UID:10020646-1917252000-1917254700@www.vil.no
SUMMARY:Basisball
DESCRIPTION:
URL:https://www.vil.no/aktivitet/basisball/2030-10-03/
LOCATION:Salen\, Norge
CATEGORIES:Manuelle bookinger
END:VEVENT
BEGIN:VEVENT
DTSTART;TZID=UTC:20301003T173000
DTEND;TZID=UTC:20301003T190000
DTSTAMP:20260420T043209
CREATED:20260303T102557Z
LAST-MODIFIED:20260303T102557Z
UID:10020169-1917279000-1917284400@www.vil.no
SUMMARY:Bordtennis
DESCRIPTION:
URL:https://www.vil.no/aktivitet/bordtennis/2030-10-03/
LOCATION:Salen\, Norge
CATEGORIES:Manuelle bookinger
END:VEVENT
BEGIN:VEVENT
DTSTART;TZID=UTC:20301004T170000
DTEND;TZID=UTC:20301004T183000
DTSTAMP:20260420T043209
CREATED:20240923T105806Z
LAST-MODIFIED:20240923T105806Z
UID:10018625-1917363600-1917369000@www.vil.no
SUMMARY:J15 trening
DESCRIPTION:
URL:https://www.vil.no/aktivitet/j15-trening/2030-10-04/
LOCATION:Jæren Sparebank Arena\, Norge
CATEGORIES:Manuelle bookinger
END:VEVENT
BEGIN:VEVENT
DTSTART;TZID=UTC:20301007T100000
DTEND;TZID=UTC:20301007T150000
DTSTAMP:20260420T043209
CREATED:20250505T083050Z
LAST-MODIFIED:20250505T083329Z
UID:10019592-1917597600-1917615600@www.vil.no
SUMMARY:Kort og kaffi
DESCRIPTION:
URL:https://www.vil.no/aktivitet/kort-og-kaffi/2030-10-07/
LOCATION:Sosialt rom – JSA\, Norge
CATEGORIES:Manuelle bookinger
END:VEVENT
BEGIN:VEVENT
DTSTART;TZID=UTC:20301007T100000
DTEND;TZID=UTC:20301007T150000
DTSTAMP:20260420T043209
CREATED:20260217T091903Z
LAST-MODIFIED:20260217T091903Z
UID:10019875-1917597600-1917615600@www.vil.no
SUMMARY:Kort og kaffi
DESCRIPTION:
URL:https://www.vil.no/aktivitet/kort-og-kaffi-2/2030-10-07/
LOCATION:Sosialt rom – JSA\, Norge
CATEGORIES:Manuelle bookinger
END:VEVENT
BEGIN:VEVENT
DTSTART;TZID=UTC:20301007T153000
DTEND;TZID=UTC:20301007T163000
DTSTAMP:20260420T043209
CREATED:20250618T074720Z
LAST-MODIFIED:20250618T074720Z
UID:10020712-1917617400-1917621000@www.vil.no
SUMMARY:Styrke & Puls
DESCRIPTION:
URL:https://www.vil.no/aktivitet/styrke-puls-2/2030-10-07/
LOCATION:Salen\, Norge
CATEGORIES:Manuelle bookinger
END:VEVENT
BEGIN:VEVENT
DTSTART;TZID=UTC:20301009T100000
DTEND;TZID=UTC:20301009T110000
DTSTAMP:20260420T043209
CREATED:20250618T074211Z
LAST-MODIFIED:20250618T074211Z
UID:10020267-1917770400-1917774000@www.vil.no
SUMMARY:Fullkroppsøkt
DESCRIPTION:
URL:https://www.vil.no/aktivitet/fullkroppsokt/2030-10-09/
LOCATION:Salen\, Norge
CATEGORIES:Manuelle bookinger
END:VEVENT
BEGIN:VEVENT
DTSTART;TZID=UTC:20301009T153000
DTEND;TZID=UTC:20301009T163000
DTSTAMP:20260420T043209
CREATED:20250618T074424Z
LAST-MODIFIED:20250618T074424Z
UID:10020567-1917790200-1917793800@www.vil.no
SUMMARY:Styrke & Puls
DESCRIPTION:
URL:https://www.vil.no/aktivitet/styrke-puls/2030-10-09/
LOCATION:Salen\, Norge
CATEGORIES:Manuelle bookinger
END:VEVENT
BEGIN:VEVENT
DTSTART;TZID=UTC:20301009T180000
DTEND;TZID=UTC:20301009T183000
DTSTAMP:20260420T043209
CREATED:20260319T075532Z
LAST-MODIFIED:20260319T075532Z
UID:10020527-1917799200-1917801000@www.vil.no
SUMMARY:E-sport
DESCRIPTION:
URL:https://www.vil.no/aktivitet/e-sport-2/2030-10-09/
LOCATION:Salen\, Norge
CATEGORIES:Manuelle bookinger
END:VEVENT
BEGIN:VEVENT
DTSTART;TZID=UTC:20301009T183000
DTEND;TZID=UTC:20301009T194500
DTSTAMP:20260420T043209
CREATED:20250618T074520Z
LAST-MODIFIED:20250618T074520Z
UID:10020607-1917801000-1917805500@www.vil.no
SUMMARY:Kettlebells
DESCRIPTION:
URL:https://www.vil.no/aktivitet/kettlebells/2030-10-09/
LOCATION:Salen\, Norge
CATEGORIES:Manuelle bookinger
END:VEVENT
BEGIN:VEVENT
DTSTART;TZID=UTC:20301010T100000
DTEND;TZID=UTC:20301010T104500
DTSTAMP:20260420T043209
CREATED:20250618T074617Z
LAST-MODIFIED:20250618T074617Z
UID:10020647-1917856800-1917859500@www.vil.no
SUMMARY:Basisball
DESCRIPTION:
URL:https://www.vil.no/aktivitet/basisball/2030-10-10/
LOCATION:Salen\, Norge
CATEGORIES:Manuelle bookinger
END:VEVENT
BEGIN:VEVENT
DTSTART;TZID=UTC:20301010T173000
DTEND;TZID=UTC:20301010T190000
DTSTAMP:20260420T043209
CREATED:20260303T102557Z
LAST-MODIFIED:20260303T102557Z
UID:10020170-1917883800-1917889200@www.vil.no
SUMMARY:Bordtennis
DESCRIPTION:
URL:https://www.vil.no/aktivitet/bordtennis/2030-10-10/
LOCATION:Salen\, Norge
CATEGORIES:Manuelle bookinger
END:VEVENT
BEGIN:VEVENT
DTSTART;TZID=UTC:20301011T170000
DTEND;TZID=UTC:20301011T183000
DTSTAMP:20260420T043209
CREATED:20240923T105806Z
LAST-MODIFIED:20240923T105806Z
UID:10018645-1917968400-1917973800@www.vil.no
SUMMARY:J15 trening
DESCRIPTION:
URL:https://www.vil.no/aktivitet/j15-trening/2030-10-11/
LOCATION:Jæren Sparebank Arena\, Norge
CATEGORIES:Manuelle bookinger
END:VEVENT
BEGIN:VEVENT
DTSTART;TZID=UTC:20301014T100000
DTEND;TZID=UTC:20301014T150000
DTSTAMP:20260420T043209
CREATED:20250505T083050Z
LAST-MODIFIED:20250505T083329Z
UID:10019593-1918202400-1918220400@www.vil.no
SUMMARY:Kort og kaffi
DESCRIPTION:
URL:https://www.vil.no/aktivitet/kort-og-kaffi/2030-10-14/
LOCATION:Sosialt rom – JSA\, Norge
CATEGORIES:Manuelle bookinger
END:VEVENT
BEGIN:VEVENT
DTSTART;TZID=UTC:20301014T100000
DTEND;TZID=UTC:20301014T150000
DTSTAMP:20260420T043209
CREATED:20260217T091903Z
LAST-MODIFIED:20260217T091903Z
UID:10019876-1918202400-1918220400@www.vil.no
SUMMARY:Kort og kaffi
DESCRIPTION:
URL:https://www.vil.no/aktivitet/kort-og-kaffi-2/2030-10-14/
LOCATION:Sosialt rom – JSA\, Norge
CATEGORIES:Manuelle bookinger
END:VEVENT
BEGIN:VEVENT
DTSTART;TZID=UTC:20301014T153000
DTEND;TZID=UTC:20301014T163000
DTSTAMP:20260420T043209
CREATED:20250618T074720Z
LAST-MODIFIED:20250618T074720Z
UID:10020713-1918222200-1918225800@www.vil.no
SUMMARY:Styrke & Puls
DESCRIPTION:
URL:https://www.vil.no/aktivitet/styrke-puls-2/2030-10-14/
LOCATION:Salen\, Norge
CATEGORIES:Manuelle bookinger
END:VEVENT
BEGIN:VEVENT
DTSTART;TZID=UTC:20301016T100000
DTEND;TZID=UTC:20301016T110000
DTSTAMP:20260420T043209
CREATED:20250618T074211Z
LAST-MODIFIED:20250618T074211Z
UID:10020268-1918375200-1918378800@www.vil.no
SUMMARY:Fullkroppsøkt
DESCRIPTION:
URL:https://www.vil.no/aktivitet/fullkroppsokt/2030-10-16/
LOCATION:Salen\, Norge
CATEGORIES:Manuelle bookinger
END:VEVENT
BEGIN:VEVENT
DTSTART;TZID=UTC:20301016T153000
DTEND;TZID=UTC:20301016T163000
DTSTAMP:20260420T043209
CREATED:20250618T074424Z
LAST-MODIFIED:20250618T074424Z
UID:10020568-1918395000-1918398600@www.vil.no
SUMMARY:Styrke & Puls
DESCRIPTION:
URL:https://www.vil.no/aktivitet/styrke-puls/2030-10-16/
LOCATION:Salen\, Norge
CATEGORIES:Manuelle bookinger
END:VEVENT
BEGIN:VEVENT
DTSTART;TZID=UTC:20301016T180000
DTEND;TZID=UTC:20301016T183000
DTSTAMP:20260420T043209
CREATED:20260319T075532Z
LAST-MODIFIED:20260319T075532Z
UID:10020528-1918404000-1918405800@www.vil.no
SUMMARY:E-sport
DESCRIPTION:
URL:https://www.vil.no/aktivitet/e-sport-2/2030-10-16/
LOCATION:Salen\, Norge
CATEGORIES:Manuelle bookinger
END:VEVENT
BEGIN:VEVENT
DTSTART;TZID=UTC:20301016T183000
DTEND;TZID=UTC:20301016T194500
DTSTAMP:20260420T043209
CREATED:20250618T074520Z
LAST-MODIFIED:20250618T074520Z
UID:10020608-1918405800-1918410300@www.vil.no
SUMMARY:Kettlebells
DESCRIPTION:
URL:https://www.vil.no/aktivitet/kettlebells/2030-10-16/
LOCATION:Salen\, Norge
CATEGORIES:Manuelle bookinger
END:VEVENT
BEGIN:VEVENT
DTSTART;TZID=UTC:20301017T100000
DTEND;TZID=UTC:20301017T104500
DTSTAMP:20260420T043209
CREATED:20250618T074617Z
LAST-MODIFIED:20250618T074617Z
UID:10020648-1918461600-1918464300@www.vil.no
SUMMARY:Basisball
DESCRIPTION:
URL:https://www.vil.no/aktivitet/basisball/2030-10-17/
LOCATION:Salen\, Norge
CATEGORIES:Manuelle bookinger
END:VEVENT
BEGIN:VEVENT
DTSTART;TZID=UTC:20301017T173000
DTEND;TZID=UTC:20301017T190000
DTSTAMP:20260420T043209
CREATED:20260303T102557Z
LAST-MODIFIED:20260303T102557Z
UID:10020171-1918488600-1918494000@www.vil.no
SUMMARY:Bordtennis
DESCRIPTION:
URL:https://www.vil.no/aktivitet/bordtennis/2030-10-17/
LOCATION:Salen\, Norge
CATEGORIES:Manuelle bookinger
END:VEVENT
BEGIN:VEVENT
DTSTART;TZID=UTC:20301018T170000
DTEND;TZID=UTC:20301018T183000
DTSTAMP:20260420T043209
CREATED:20240923T105806Z
LAST-MODIFIED:20240923T105806Z
UID:10018671-1918573200-1918578600@www.vil.no
SUMMARY:J15 trening
DESCRIPTION:
URL:https://www.vil.no/aktivitet/j15-trening/2030-10-18/
LOCATION:Jæren Sparebank Arena\, Norge
CATEGORIES:Manuelle bookinger
END:VEVENT
BEGIN:VEVENT
DTSTART;TZID=UTC:20301021T100000
DTEND;TZID=UTC:20301021T150000
DTSTAMP:20260420T043209
CREATED:20250505T083050Z
LAST-MODIFIED:20250505T083329Z
UID:10019594-1918807200-1918825200@www.vil.no
SUMMARY:Kort og kaffi
DESCRIPTION:
URL:https://www.vil.no/aktivitet/kort-og-kaffi/2030-10-21/
LOCATION:Sosialt rom – JSA\, Norge
CATEGORIES:Manuelle bookinger
END:VEVENT
BEGIN:VEVENT
DTSTART;TZID=UTC:20301021T100000
DTEND;TZID=UTC:20301021T150000
DTSTAMP:20260420T043209
CREATED:20260217T091903Z
LAST-MODIFIED:20260217T091903Z
UID:10019877-1918807200-1918825200@www.vil.no
SUMMARY:Kort og kaffi
DESCRIPTION:
URL:https://www.vil.no/aktivitet/kort-og-kaffi-2/2030-10-21/
LOCATION:Sosialt rom – JSA\, Norge
CATEGORIES:Manuelle bookinger
END:VEVENT
BEGIN:VEVENT
DTSTART;TZID=UTC:20301021T153000
DTEND;TZID=UTC:20301021T163000
DTSTAMP:20260420T043209
CREATED:20250618T074720Z
LAST-MODIFIED:20250618T074720Z
UID:10020714-1918827000-1918830600@www.vil.no
SUMMARY:Styrke & Puls
DESCRIPTION:
URL:https://www.vil.no/aktivitet/styrke-puls-2/2030-10-21/
LOCATION:Salen\, Norge
CATEGORIES:Manuelle bookinger
END:VEVENT
END:VCALENDAR