BEGIN:VCALENDAR
VERSION:2.0
PRODID:-//Varhaug IL - ECPv6.15.20//NONSGML v1.0//EN
CALSCALE:GREGORIAN
METHOD:PUBLISH
X-WR-CALNAME:Varhaug IL
X-ORIGINAL-URL:https://www.vil.no
X-WR-CALDESC:Arrangement for Varhaug IL
REFRESH-INTERVAL;VALUE=DURATION:PT1H
X-Robots-Tag:noindex
X-PUBLISHED-TTL:PT1H
BEGIN:VTIMEZONE
TZID:UTC
BEGIN:STANDARD
TZOFFSETFROM:+0000
TZOFFSETTO:+0000
TZNAME:UTC
DTSTART:20290101T000000
END:STANDARD
END:VTIMEZONE
BEGIN:VEVENT
DTSTART;TZID=UTC:20300301T170000
DTEND;TZID=UTC:20300301T183000
DTSTAMP:20260419T155814
CREATED:20240923T105806Z
LAST-MODIFIED:20240923T105806Z
UID:10015959-1898614800-1898620200@www.vil.no
SUMMARY:J15 trening
DESCRIPTION:
URL:https://www.vil.no/aktivitet/j15-trening/2030-03-01/
LOCATION:Jæren Sparebank Arena\, Norge
CATEGORIES:Manuelle bookinger
END:VEVENT
BEGIN:VEVENT
DTSTART;TZID=UTC:20300304T100000
DTEND;TZID=UTC:20300304T150000
DTSTAMP:20260419T155814
CREATED:20250505T083050Z
LAST-MODIFIED:20250505T083329Z
UID:10013950-1898848800-1898866800@www.vil.no
SUMMARY:Kort og kaffi
DESCRIPTION:
URL:https://www.vil.no/aktivitet/kort-og-kaffi/2030-03-04/
LOCATION:Sosialt rom – JSA\, Norge
CATEGORIES:Manuelle bookinger
END:VEVENT
BEGIN:VEVENT
DTSTART;TZID=UTC:20300304T100000
DTEND;TZID=UTC:20300304T150000
DTSTAMP:20260419T155814
CREATED:20260217T091903Z
LAST-MODIFIED:20260217T091903Z
UID:10019844-1898848800-1898866800@www.vil.no
SUMMARY:Kort og kaffi
DESCRIPTION:
URL:https://www.vil.no/aktivitet/kort-og-kaffi-2/2030-03-04/
LOCATION:Sosialt rom – JSA\, Norge
CATEGORIES:Manuelle bookinger
END:VEVENT
BEGIN:VEVENT
DTSTART;TZID=UTC:20300304T153000
DTEND;TZID=UTC:20300304T163000
DTSTAMP:20260419T155814
CREATED:20250618T074720Z
LAST-MODIFIED:20250618T074720Z
UID:10015823-1898868600-1898872200@www.vil.no
SUMMARY:Styrke & Puls
DESCRIPTION:
URL:https://www.vil.no/aktivitet/styrke-puls-2/2030-03-04/
LOCATION:Salen\, Norge
CATEGORIES:Manuelle bookinger
END:VEVENT
BEGIN:VEVENT
DTSTART;TZID=UTC:20300306T100000
DTEND;TZID=UTC:20300306T110000
DTSTAMP:20260419T155814
CREATED:20250618T074211Z
LAST-MODIFIED:20250618T074211Z
UID:10014780-1899021600-1899025200@www.vil.no
SUMMARY:Fullkroppsøkt
DESCRIPTION:
URL:https://www.vil.no/aktivitet/fullkroppsokt/2030-03-06/
LOCATION:Salen\, Norge
CATEGORIES:Manuelle bookinger
END:VEVENT
BEGIN:VEVENT
DTSTART;TZID=UTC:20300306T153000
DTEND;TZID=UTC:20300306T163000
DTSTAMP:20260419T155814
CREATED:20250618T074424Z
LAST-MODIFIED:20250618T074424Z
UID:10015041-1899041400-1899045000@www.vil.no
SUMMARY:Styrke & Puls
DESCRIPTION:
URL:https://www.vil.no/aktivitet/styrke-puls/2030-03-06/
LOCATION:Salen\, Norge
CATEGORIES:Manuelle bookinger
END:VEVENT
BEGIN:VEVENT
DTSTART;TZID=UTC:20300306T180000
DTEND;TZID=UTC:20300306T183000
DTSTAMP:20260419T155814
CREATED:20260319T075532Z
LAST-MODIFIED:20260319T075532Z
UID:10020496-1899050400-1899052200@www.vil.no
SUMMARY:E-sport
DESCRIPTION:
URL:https://www.vil.no/aktivitet/e-sport-2/2030-03-06/
LOCATION:Salen\, Norge
CATEGORIES:Manuelle bookinger
END:VEVENT
BEGIN:VEVENT
DTSTART;TZID=UTC:20300306T183000
DTEND;TZID=UTC:20300306T194500
DTSTAMP:20260419T155814
CREATED:20250618T074520Z
LAST-MODIFIED:20250618T074520Z
UID:10015302-1899052200-1899056700@www.vil.no
SUMMARY:Kettlebells
DESCRIPTION:
URL:https://www.vil.no/aktivitet/kettlebells/2030-03-06/
LOCATION:Salen\, Norge
CATEGORIES:Manuelle bookinger
END:VEVENT
BEGIN:VEVENT
DTSTART;TZID=UTC:20300307T100000
DTEND;TZID=UTC:20300307T104500
DTSTAMP:20260419T155814
CREATED:20250618T074617Z
LAST-MODIFIED:20250618T074617Z
UID:10015563-1899108000-1899110700@www.vil.no
SUMMARY:Basisball
DESCRIPTION:
URL:https://www.vil.no/aktivitet/basisball/2030-03-07/
LOCATION:Salen\, Norge
CATEGORIES:Manuelle bookinger
END:VEVENT
BEGIN:VEVENT
DTSTART;TZID=UTC:20300307T173000
DTEND;TZID=UTC:20300307T190000
DTSTAMP:20260419T155814
CREATED:20260303T102557Z
LAST-MODIFIED:20260303T102557Z
UID:10020139-1899135000-1899140400@www.vil.no
SUMMARY:Bordtennis
DESCRIPTION:
URL:https://www.vil.no/aktivitet/bordtennis/2030-03-07/
LOCATION:Salen\, Norge
CATEGORIES:Manuelle bookinger
END:VEVENT
BEGIN:VEVENT
DTSTART;TZID=UTC:20300308T170000
DTEND;TZID=UTC:20300308T183000
DTSTAMP:20260419T155814
CREATED:20240923T105806Z
LAST-MODIFIED:20240923T105806Z
UID:10015960-1899219600-1899225000@www.vil.no
SUMMARY:J15 trening
DESCRIPTION:
URL:https://www.vil.no/aktivitet/j15-trening/2030-03-08/
LOCATION:Jæren Sparebank Arena\, Norge
CATEGORIES:Manuelle bookinger
END:VEVENT
BEGIN:VEVENT
DTSTART;TZID=UTC:20300311T100000
DTEND;TZID=UTC:20300311T150000
DTSTAMP:20260419T155814
CREATED:20250505T083050Z
LAST-MODIFIED:20250505T083329Z
UID:10014148-1899453600-1899471600@www.vil.no
SUMMARY:Kort og kaffi
DESCRIPTION:
URL:https://www.vil.no/aktivitet/kort-og-kaffi/2030-03-11/
LOCATION:Sosialt rom – JSA\, Norge
CATEGORIES:Manuelle bookinger
END:VEVENT
BEGIN:VEVENT
DTSTART;TZID=UTC:20300311T100000
DTEND;TZID=UTC:20300311T150000
DTSTAMP:20260419T155814
CREATED:20260217T091903Z
LAST-MODIFIED:20260217T091903Z
UID:10019845-1899453600-1899471600@www.vil.no
SUMMARY:Kort og kaffi
DESCRIPTION:
URL:https://www.vil.no/aktivitet/kort-og-kaffi-2/2030-03-11/
LOCATION:Sosialt rom – JSA\, Norge
CATEGORIES:Manuelle bookinger
END:VEVENT
BEGIN:VEVENT
DTSTART;TZID=UTC:20300311T153000
DTEND;TZID=UTC:20300311T163000
DTSTAMP:20260419T155814
CREATED:20250618T074720Z
LAST-MODIFIED:20250618T074720Z
UID:10015824-1899473400-1899477000@www.vil.no
SUMMARY:Styrke & Puls
DESCRIPTION:
URL:https://www.vil.no/aktivitet/styrke-puls-2/2030-03-11/
LOCATION:Salen\, Norge
CATEGORIES:Manuelle bookinger
END:VEVENT
BEGIN:VEVENT
DTSTART;TZID=UTC:20300313T100000
DTEND;TZID=UTC:20300313T110000
DTSTAMP:20260419T155814
CREATED:20250618T074211Z
LAST-MODIFIED:20250618T074211Z
UID:10014781-1899626400-1899630000@www.vil.no
SUMMARY:Fullkroppsøkt
DESCRIPTION:
URL:https://www.vil.no/aktivitet/fullkroppsokt/2030-03-13/
LOCATION:Salen\, Norge
CATEGORIES:Manuelle bookinger
END:VEVENT
BEGIN:VEVENT
DTSTART;TZID=UTC:20300313T153000
DTEND;TZID=UTC:20300313T163000
DTSTAMP:20260419T155814
CREATED:20250618T074424Z
LAST-MODIFIED:20250618T074424Z
UID:10015042-1899646200-1899649800@www.vil.no
SUMMARY:Styrke & Puls
DESCRIPTION:
URL:https://www.vil.no/aktivitet/styrke-puls/2030-03-13/
LOCATION:Salen\, Norge
CATEGORIES:Manuelle bookinger
END:VEVENT
BEGIN:VEVENT
DTSTART;TZID=UTC:20300313T180000
DTEND;TZID=UTC:20300313T183000
DTSTAMP:20260419T155814
CREATED:20260319T075532Z
LAST-MODIFIED:20260319T075532Z
UID:10020497-1899655200-1899657000@www.vil.no
SUMMARY:E-sport
DESCRIPTION:
URL:https://www.vil.no/aktivitet/e-sport-2/2030-03-13/
LOCATION:Salen\, Norge
CATEGORIES:Manuelle bookinger
END:VEVENT
BEGIN:VEVENT
DTSTART;TZID=UTC:20300313T183000
DTEND;TZID=UTC:20300313T194500
DTSTAMP:20260419T155814
CREATED:20250618T074520Z
LAST-MODIFIED:20250618T074520Z
UID:10015303-1899657000-1899661500@www.vil.no
SUMMARY:Kettlebells
DESCRIPTION:
URL:https://www.vil.no/aktivitet/kettlebells/2030-03-13/
LOCATION:Salen\, Norge
CATEGORIES:Manuelle bookinger
END:VEVENT
BEGIN:VEVENT
DTSTART;TZID=UTC:20300314T100000
DTEND;TZID=UTC:20300314T104500
DTSTAMP:20260419T155814
CREATED:20250618T074617Z
LAST-MODIFIED:20250618T074617Z
UID:10015564-1899712800-1899715500@www.vil.no
SUMMARY:Basisball
DESCRIPTION:
URL:https://www.vil.no/aktivitet/basisball/2030-03-14/
LOCATION:Salen\, Norge
CATEGORIES:Manuelle bookinger
END:VEVENT
BEGIN:VEVENT
DTSTART;TZID=UTC:20300314T173000
DTEND;TZID=UTC:20300314T190000
DTSTAMP:20260419T155814
CREATED:20260303T102557Z
LAST-MODIFIED:20260303T102557Z
UID:10020140-1899739800-1899745200@www.vil.no
SUMMARY:Bordtennis
DESCRIPTION:
URL:https://www.vil.no/aktivitet/bordtennis/2030-03-14/
LOCATION:Salen\, Norge
CATEGORIES:Manuelle bookinger
END:VEVENT
BEGIN:VEVENT
DTSTART;TZID=UTC:20300315T170000
DTEND;TZID=UTC:20300315T183000
DTSTAMP:20260419T155814
CREATED:20240923T105806Z
LAST-MODIFIED:20240923T105806Z
UID:10015961-1899824400-1899829800@www.vil.no
SUMMARY:J15 trening
DESCRIPTION:
URL:https://www.vil.no/aktivitet/j15-trening/2030-03-15/
LOCATION:Jæren Sparebank Arena\, Norge
CATEGORIES:Manuelle bookinger
END:VEVENT
BEGIN:VEVENT
DTSTART;TZID=UTC:20300318T100000
DTEND;TZID=UTC:20300318T150000
DTSTAMP:20260419T155814
CREATED:20250505T083050Z
LAST-MODIFIED:20250505T083329Z
UID:10014149-1900058400-1900076400@www.vil.no
SUMMARY:Kort og kaffi
DESCRIPTION:
URL:https://www.vil.no/aktivitet/kort-og-kaffi/2030-03-18/
LOCATION:Sosialt rom – JSA\, Norge
CATEGORIES:Manuelle bookinger
END:VEVENT
BEGIN:VEVENT
DTSTART;TZID=UTC:20300318T100000
DTEND;TZID=UTC:20300318T150000
DTSTAMP:20260419T155814
CREATED:20260217T091903Z
LAST-MODIFIED:20260217T091903Z
UID:10019846-1900058400-1900076400@www.vil.no
SUMMARY:Kort og kaffi
DESCRIPTION:
URL:https://www.vil.no/aktivitet/kort-og-kaffi-2/2030-03-18/
LOCATION:Sosialt rom – JSA\, Norge
CATEGORIES:Manuelle bookinger
END:VEVENT
BEGIN:VEVENT
DTSTART;TZID=UTC:20300318T153000
DTEND;TZID=UTC:20300318T163000
DTSTAMP:20260419T155814
CREATED:20250618T074720Z
LAST-MODIFIED:20250618T074720Z
UID:10015825-1900078200-1900081800@www.vil.no
SUMMARY:Styrke & Puls
DESCRIPTION:
URL:https://www.vil.no/aktivitet/styrke-puls-2/2030-03-18/
LOCATION:Salen\, Norge
CATEGORIES:Manuelle bookinger
END:VEVENT
BEGIN:VEVENT
DTSTART;TZID=UTC:20300320T100000
DTEND;TZID=UTC:20300320T110000
DTSTAMP:20260419T155814
CREATED:20250618T074211Z
LAST-MODIFIED:20250618T074211Z
UID:10014782-1900231200-1900234800@www.vil.no
SUMMARY:Fullkroppsøkt
DESCRIPTION:
URL:https://www.vil.no/aktivitet/fullkroppsokt/2030-03-20/
LOCATION:Salen\, Norge
CATEGORIES:Manuelle bookinger
END:VEVENT
BEGIN:VEVENT
DTSTART;TZID=UTC:20300320T153000
DTEND;TZID=UTC:20300320T163000
DTSTAMP:20260419T155814
CREATED:20250618T074424Z
LAST-MODIFIED:20250618T074424Z
UID:10015043-1900251000-1900254600@www.vil.no
SUMMARY:Styrke & Puls
DESCRIPTION:
URL:https://www.vil.no/aktivitet/styrke-puls/2030-03-20/
LOCATION:Salen\, Norge
CATEGORIES:Manuelle bookinger
END:VEVENT
BEGIN:VEVENT
DTSTART;TZID=UTC:20300320T180000
DTEND;TZID=UTC:20300320T183000
DTSTAMP:20260419T155814
CREATED:20260319T075532Z
LAST-MODIFIED:20260319T075532Z
UID:10020498-1900260000-1900261800@www.vil.no
SUMMARY:E-sport
DESCRIPTION:
URL:https://www.vil.no/aktivitet/e-sport-2/2030-03-20/
LOCATION:Salen\, Norge
CATEGORIES:Manuelle bookinger
END:VEVENT
BEGIN:VEVENT
DTSTART;TZID=UTC:20300320T183000
DTEND;TZID=UTC:20300320T194500
DTSTAMP:20260419T155814
CREATED:20250618T074520Z
LAST-MODIFIED:20250618T074520Z
UID:10015304-1900261800-1900266300@www.vil.no
SUMMARY:Kettlebells
DESCRIPTION:
URL:https://www.vil.no/aktivitet/kettlebells/2030-03-20/
LOCATION:Salen\, Norge
CATEGORIES:Manuelle bookinger
END:VEVENT
BEGIN:VEVENT
DTSTART;TZID=UTC:20300321T100000
DTEND;TZID=UTC:20300321T104500
DTSTAMP:20260419T155814
CREATED:20250618T074617Z
LAST-MODIFIED:20250618T074617Z
UID:10015565-1900317600-1900320300@www.vil.no
SUMMARY:Basisball
DESCRIPTION:
URL:https://www.vil.no/aktivitet/basisball/2030-03-21/
LOCATION:Salen\, Norge
CATEGORIES:Manuelle bookinger
END:VEVENT
BEGIN:VEVENT
DTSTART;TZID=UTC:20300321T173000
DTEND;TZID=UTC:20300321T190000
DTSTAMP:20260419T155814
CREATED:20260303T102557Z
LAST-MODIFIED:20260303T102557Z
UID:10020141-1900344600-1900350000@www.vil.no
SUMMARY:Bordtennis
DESCRIPTION:
URL:https://www.vil.no/aktivitet/bordtennis/2030-03-21/
LOCATION:Salen\, Norge
CATEGORIES:Manuelle bookinger
END:VEVENT
END:VCALENDAR