BEGIN:VCALENDAR
VERSION:2.0
PRODID:-//Varhaug IL - ECPv6.15.20//NONSGML v1.0//EN
CALSCALE:GREGORIAN
METHOD:PUBLISH
X-WR-CALNAME:Varhaug IL
X-ORIGINAL-URL:https://www.vil.no
X-WR-CALDESC:Arrangement for Varhaug IL
REFRESH-INTERVAL;VALUE=DURATION:PT1H
X-Robots-Tag:noindex
X-PUBLISHED-TTL:PT1H
BEGIN:VTIMEZONE
TZID:UTC
BEGIN:STANDARD
TZOFFSETFROM:+0000
TZOFFSETTO:+0000
TZNAME:UTC
DTSTART:20250101T000000
END:STANDARD
END:VTIMEZONE
BEGIN:VEVENT
DTSTART;TZID=UTC:20260216T193000
DTEND;TZID=UTC:20260216T204500
DTSTAMP:20260425T155852
CREATED:20260425T000004Z
LAST-MODIFIED:20260425T000004Z
UID:10018891-1771270200-1771274700@www.vil.no
SUMMARY:Håndballkamp Varhaug - Ålgård 2
DESCRIPTION:
URL:https://www.vil.no/aktivitet/handballkamp-varhaug-algard-2-2/
LOCATION:Jæren Sparebank Arena\, Norge
CATEGORIES:Håndballkamper
END:VEVENT
BEGIN:VEVENT
DTSTART;TZID=UTC:20260218T173000
DTEND;TZID=UTC:20260218T182000
DTSTAMP:20260425T155852
CREATED:20260425T000004Z
LAST-MODIFIED:20260425T000004Z
UID:10019553-1771435800-1771438800@www.vil.no
SUMMARY:Håndballkamp Varhaug - Sandnes 3
DESCRIPTION:
URL:https://www.vil.no/aktivitet/handballkamp-varhaug-sandnes-3/
LOCATION:Jæren Sparebank Arena\, Norge
CATEGORIES:Håndballkamper
END:VEVENT
END:VCALENDAR