BEGIN:VCALENDAR
VERSION:2.0
PRODID:-//Varhaug IL - ECPv6.15.20//NONSGML v1.0//EN
CALSCALE:GREGORIAN
METHOD:PUBLISH
X-ORIGINAL-URL:https://www.vil.no
X-WR-CALDESC:Arrangement for Varhaug IL
REFRESH-INTERVAL;VALUE=DURATION:PT1H
X-Robots-Tag:noindex
X-PUBLISHED-TTL:PT1H
BEGIN:VTIMEZONE
TZID:UTC
BEGIN:STANDARD
TZOFFSETFROM:+0000
TZOFFSETTO:+0000
TZNAME:UTC
DTSTART:20250101T000000
END:STANDARD
END:VTIMEZONE
BEGIN:VEVENT
DTSTART;TZID=UTC:20260203T171000
DTEND;TZID=UTC:20260203T180000
DTSTAMP:20260425T124329
CREATED:20260203T000004Z
LAST-MODIFIED:20260203T000004Z
UID:10019495-1770138600-1770141600@www.vil.no
SUMMARY:Håndballkamp Varhaug - Stavanger IF 2
DESCRIPTION:
URL:https://www.vil.no/aktivitet/handballkamp-varhaug-stavanger-if-2/
LOCATION:Varhaughallen\, Opstadvegen 583\, Varhaug\, 4360\, Norge
CATEGORIES:Håndballkamper
END:VEVENT
BEGIN:VEVENT
DTSTART;TZID=UTC:20260203T200000
DTEND;TZID=UTC:20260203T210000
DTSTAMP:20260425T124329
CREATED:20260203T000004Z
LAST-MODIFIED:20260203T000004Z
UID:10018783-1770148800-1770152400@www.vil.no
SUMMARY:Håndballkamp Varhaug - Vigrestad IK
DESCRIPTION:
URL:https://www.vil.no/aktivitet/handballkamp-varhaug-vigrestad-ik-2/
LOCATION:Varhaughallen\, Opstadvegen 583\, Varhaug\, 4360\, Norge
CATEGORIES:Håndballkamper
END:VEVENT
BEGIN:VEVENT
DTSTART;TZID=UTC:20260204T185000
DTEND;TZID=UTC:20260204T200000
DTSTAMP:20260425T124329
CREATED:20260204T000003Z
LAST-MODIFIED:20260204T000003Z
UID:10015933-1770231000-1770235200@www.vil.no
SUMMARY:Håndballkamp Varhaug 2 - Rival
DESCRIPTION:
URL:https://www.vil.no/aktivitet/handballkamp-varhaug-2-rival/
LOCATION:Varhaughallen\, Opstadvegen 583\, Varhaug\, 4360\, Norge
CATEGORIES:Håndballkamper
END:VEVENT
BEGIN:VEVENT
DTSTART;TZID=UTC:20260204T200000
DTEND;TZID=UTC:20260204T211000
DTSTAMP:20260425T124329
CREATED:20260204T000003Z
LAST-MODIFIED:20260204T000003Z
UID:10015936-1770235200-1770239400@www.vil.no
SUMMARY:Håndballkamp Varhaug 2 - Randaberg
DESCRIPTION:
URL:https://www.vil.no/aktivitet/handballkamp-varhaug-2-randaberg/
LOCATION:Jæren Sparebank Arena\, Norge
CATEGORIES:Håndballkamper
END:VEVENT
BEGIN:VEVENT
DTSTART;TZID=UTC:20260207T103000
DTEND;TZID=UTC:20260207T112000
DTSTAMP:20260425T124329
CREATED:20260206T000006Z
LAST-MODIFIED:20260206T000006Z
UID:10019025-1770460200-1770463200@www.vil.no
SUMMARY:Håndballkamp Varhaug - Sola 2
DESCRIPTION:
URL:https://www.vil.no/aktivitet/handballkamp-varhaug-sola-2-3/
LOCATION:Varhaughallen\, Opstadvegen 583\, Varhaug\, 4360\, Norge
CATEGORIES:Håndballkamper
END:VEVENT
BEGIN:VEVENT
DTSTART;TZID=UTC:20260207T120000
DTEND;TZID=UTC:20260207T130000
DTSTAMP:20260425T124329
CREATED:20260425T000002Z
LAST-MODIFIED:20260425T000002Z
UID:10019512-1770465600-1770469200@www.vil.no
SUMMARY:Håndballkamp Varhaug - Kopervik
DESCRIPTION:
URL:https://www.vil.no/aktivitet/handballkamp-varhaug-kopervik-2/
LOCATION:Jæren Sparebank Arena\, Norge
CATEGORIES:Håndballkamper
END:VEVENT
BEGIN:VEVENT
DTSTART;TZID=UTC:20260207T130000
DTEND;TZID=UTC:20260207T135000
DTSTAMP:20260425T124329
CREATED:20260425T000003Z
LAST-MODIFIED:20260425T000003Z
UID:10015923-1770469200-1770472200@www.vil.no
SUMMARY:Håndballkamp Varhaug  - Egersund
DESCRIPTION:
URL:https://www.vil.no/aktivitet/handballkamp-varhaug-egersund/
LOCATION:Jæren Sparebank Arena\, Norge
CATEGORIES:Håndballkamper
END:VEVENT
BEGIN:VEVENT
DTSTART;TZID=UTC:20260207T143000
DTEND;TZID=UTC:20260207T153000
DTSTAMP:20260425T124329
CREATED:20260425T000003Z
LAST-MODIFIED:20260425T000003Z
UID:10018890-1770474600-1770478200@www.vil.no
SUMMARY:Håndballkamp Varhaug - Kopervik
DESCRIPTION:
URL:https://www.vil.no/aktivitet/handballkamp-varhaug-kopervik/
LOCATION:Jæren Sparebank Arena\, Norge
CATEGORIES:Håndballkamper
END:VEVENT
BEGIN:VEVENT
DTSTART;TZID=UTC:20260207T144000
DTEND;TZID=UTC:20260207T153000
DTSTAMP:20260425T124329
CREATED:20260425T000003Z
LAST-MODIFIED:20260425T000003Z
UID:10019513-1770475200-1770478200@www.vil.no
SUMMARY:Håndballkamp Varhaug 2 - Rival
DESCRIPTION:
URL:https://www.vil.no/aktivitet/handballkamp-varhaug-2-rival-2/
LOCATION:Varhaughallen\, Opstadvegen 583\, Varhaug\, 4360\, Norge
CATEGORIES:Håndballkamper
END:VEVENT
BEGIN:VEVENT
DTSTART;TZID=UTC:20260207T163000
DTEND;TZID=UTC:20260207T174500
DTSTAMP:20260425T124329
CREATED:20260425T000003Z
LAST-MODIFIED:20260425T000003Z
UID:10019514-1770481800-1770486300@www.vil.no
SUMMARY:Håndballkamp Varhaug - Randesund 2
DESCRIPTION:
URL:https://www.vil.no/aktivitet/handballkamp-varhaug-randesund-2/
LOCATION:Varhaughallen\, Opstadvegen 583\, Varhaug\, 4360\, Norge
CATEGORIES:Håndballkamper
END:VEVENT
BEGIN:VEVENT
DTSTART;TZID=UTC:20260207T170000
DTEND;TZID=UTC:20260207T181500
DTSTAMP:20260425T124329
CREATED:20260425T000003Z
LAST-MODIFIED:20260425T000003Z
UID:10015912-1770483600-1770488100@www.vil.no
SUMMARY:Håndballkamp Varhaug - Åsane 2
DESCRIPTION:
URL:https://www.vil.no/aktivitet/handballkamp-varhaug-asane-2/
LOCATION:Jæren Sparebank Arena\, Norge
CATEGORIES:Håndballkamper
END:VEVENT
BEGIN:VEVENT
DTSTART;TZID=UTC:20260208T100000
DTEND;TZID=UTC:20260208T102000
DTSTAMP:20260425T124329
CREATED:20260425T000003Z
LAST-MODIFIED:20260425T000003Z
UID:10019519-1770544800-1770546000@www.vil.no
SUMMARY:Håndballkamp Varhaug  - Brodd 2
DESCRIPTION:
URL:https://www.vil.no/aktivitet/handballkamp-varhaug-brodd-2-2/
LOCATION:Jæren Sparebank Arena\, Norge
CATEGORIES:Håndballkamper
END:VEVENT
BEGIN:VEVENT
DTSTART;TZID=UTC:20260208T110000
DTEND;TZID=UTC:20260208T112000
DTSTAMP:20260425T124329
CREATED:20260425T000003Z
LAST-MODIFIED:20260425T000003Z
UID:10019533-1770548400-1770549600@www.vil.no
SUMMARY:Håndballkamp Ålgård  - Varhaug
DESCRIPTION:
URL:https://www.vil.no/aktivitet/handballkamp-algard-varhaug/
LOCATION:Jæren Sparebank Arena\, Norge
CATEGORIES:Håndballkamper
END:VEVENT
BEGIN:VEVENT
DTSTART;TZID=UTC:20260208T120000
DTEND;TZID=UTC:20260208T122000
DTSTAMP:20260425T124329
CREATED:20260425T000003Z
LAST-MODIFIED:20260425T000003Z
UID:10019546-1770552000-1770553200@www.vil.no
SUMMARY:Håndballkamp Egersund - Varhaug
DESCRIPTION:
URL:https://www.vil.no/aktivitet/handballkamp-egersund-varhaug/
LOCATION:Jæren Sparebank Arena\, Norge
CATEGORIES:Håndballkamper
END:VEVENT
BEGIN:VEVENT
DTSTART;TZID=UTC:20260208T130000
DTEND;TZID=UTC:20260208T132000
DTSTAMP:20260425T124329
CREATED:20260425T000003Z
LAST-MODIFIED:20260425T000003Z
UID:10019547-1770555600-1770556800@www.vil.no
SUMMARY:Håndballkamp Varhaug  - Ganddal 1
DESCRIPTION:
URL:https://www.vil.no/aktivitet/handballkamp-varhaug-ganddal-1-2/
LOCATION:Jæren Sparebank Arena\, Norge
CATEGORIES:Håndballkamper
END:VEVENT
END:VCALENDAR