BEGIN:VCALENDAR
VERSION:2.0
PRODID:-//Varhaug IL - ECPv6.15.20//NONSGML v1.0//EN
CALSCALE:GREGORIAN
METHOD:PUBLISH
X-WR-CALNAME:Varhaug IL
X-ORIGINAL-URL:https://www.vil.no
X-WR-CALDESC:Arrangement for Varhaug IL
REFRESH-INTERVAL;VALUE=DURATION:PT1H
X-Robots-Tag:noindex
X-PUBLISHED-TTL:PT1H
BEGIN:VTIMEZONE
TZID:UTC
BEGIN:STANDARD
TZOFFSETFROM:+0000
TZOFFSETTO:+0000
TZNAME:UTC
DTSTART:20250101T000000
END:STANDARD
END:VTIMEZONE
BEGIN:VEVENT
DTSTART;TZID=UTC:20260128T190000
DTEND;TZID=UTC:20260128T195000
DTSTAMP:20260425T141538
CREATED:20260114T000003Z
LAST-MODIFIED:20260114T000003Z
UID:10019481-1769626800-1769629800@www.vil.no
SUMMARY:Håndballkamp Varhaug  - Sokndal
DESCRIPTION:
URL:https://www.vil.no/aktivitet/handballkamp-varhaug-sokndal/
LOCATION:Jæren Sparebank Arena\, Norge
CATEGORIES:Håndballkamper
END:VEVENT
BEGIN:VEVENT
DTSTART;TZID=UTC:20260129T193000
DTEND;TZID=UTC:20260129T204500
DTSTAMP:20260425T141538
CREATED:20260129T000003Z
LAST-MODIFIED:20260129T000003Z
UID:10015911-1769715000-1769719500@www.vil.no
SUMMARY:Håndballkamp Varhaug - Nærbø 2
DESCRIPTION:
URL:https://www.vil.no/aktivitet/handballkamp-varhaug-naerbo-2-2/
LOCATION:Jæren Sparebank Arena\, Norge
CATEGORIES:Håndballkamper
END:VEVENT
BEGIN:VEVENT
DTSTART;TZID=UTC:20260131T104000
DTEND;TZID=UTC:20260131T111500
DTSTAMP:20260425T141538
CREATED:20260131T000003Z
LAST-MODIFIED:20260131T000003Z
UID:10019489-1769856000-1769858100@www.vil.no
SUMMARY:Håndballkamp Nærbø 2 - Varhaug 2
DESCRIPTION:
URL:https://www.vil.no/aktivitet/handballkamp-naerbo-2-varhaug-2/
LOCATION:Jæren Sparebank Arena\, Norge
CATEGORIES:Håndballkamper
END:VEVENT
BEGIN:VEVENT
DTSTART;TZID=UTC:20260131T124000
DTEND;TZID=UTC:20260131T131500
DTSTAMP:20260425T141538
CREATED:20260131T000003Z
LAST-MODIFIED:20260131T000003Z
UID:10019491-1769863200-1769865300@www.vil.no
SUMMARY:Håndballkamp Varhaug 2 - Egersund 2
DESCRIPTION:
URL:https://www.vil.no/aktivitet/handballkamp-varhaug-2-egersund-2-2/
LOCATION:Jæren Sparebank Arena\, Norge
CATEGORIES:Håndballkamper
END:VEVENT
BEGIN:VEVENT
DTSTART;TZID=UTC:20260131T132000
DTEND;TZID=UTC:20260131T135500
DTSTAMP:20260425T141538
CREATED:20260131T000003Z
LAST-MODIFIED:20260131T000003Z
UID:10019492-1769865600-1769867700@www.vil.no
SUMMARY:Håndballkamp Klepp 2 - Varhaug
DESCRIPTION:
URL:https://www.vil.no/aktivitet/handballkamp-klepp-2-varhaug/
LOCATION:Jæren Sparebank Arena\, Norge
CATEGORIES:Håndballkamper
END:VEVENT
BEGIN:VEVENT
DTSTART;TZID=UTC:20260131T140000
DTEND;TZID=UTC:20260131T150000
DTSTAMP:20260425T141538
CREATED:20260129T000003Z
LAST-MODIFIED:20260129T000003Z
UID:10019490-1769868000-1769871600@www.vil.no
SUMMARY:Håndballkamp Varhaug - Sauda
DESCRIPTION:
URL:https://www.vil.no/aktivitet/handballkamp-varhaug-sauda-2/
LOCATION:Varhaughallen\, Opstadvegen 583\, Varhaug\, 4360\, Norge
CATEGORIES:Håndballkamper
END:VEVENT
BEGIN:VEVENT
DTSTART;TZID=UTC:20260131T152000
DTEND;TZID=UTC:20260131T155500
DTSTAMP:20260425T141538
CREATED:20260131T000003Z
LAST-MODIFIED:20260131T000003Z
UID:10019493-1769872800-1769874900@www.vil.no
SUMMARY:Håndballkamp Varhaug  - Klepp 3
DESCRIPTION:
URL:https://www.vil.no/aktivitet/handballkamp-varhaug-klepp-3/
LOCATION:Jæren Sparebank Arena\, Norge
CATEGORIES:Håndballkamper
END:VEVENT
BEGIN:VEVENT
DTSTART;TZID=UTC:20260131T160000
DTEND;TZID=UTC:20260131T165000
DTSTAMP:20260425T141538
CREATED:20260131T000003Z
LAST-MODIFIED:20260131T000003Z
UID:10019494-1769875200-1769878200@www.vil.no
SUMMARY:Håndballkamp Varhaug  - Ganddal 2
DESCRIPTION:
URL:https://www.vil.no/aktivitet/handballkamp-varhaug-ganddal-2/
LOCATION:Varhaughallen\, Opstadvegen 583\, Varhaug\, 4360\, Norge
CATEGORIES:Håndballkamper
END:VEVENT
BEGIN:VEVENT
DTSTART;TZID=UTC:20260201T170000
DTEND;TZID=UTC:20260201T175000
DTSTAMP:20260425T141538
CREATED:20260120T000004Z
LAST-MODIFIED:20260120T000004Z
UID:10019507-1769965200-1769968200@www.vil.no
SUMMARY:Håndballkamp Varhaug  - Åkra
DESCRIPTION:
URL:https://www.vil.no/aktivitet/handballkamp-varhaug-akra/
LOCATION:Jæren Sparebank Arena\, Norge
CATEGORIES:Håndballkamper
END:VEVENT
END:VCALENDAR