BEGIN:VCALENDAR
VERSION:2.0
PRODID:-//Varhaug IL - ECPv6.15.20//NONSGML v1.0//EN
CALSCALE:GREGORIAN
METHOD:PUBLISH
X-ORIGINAL-URL:https://www.vil.no
X-WR-CALDESC:Arrangement for Varhaug IL
REFRESH-INTERVAL;VALUE=DURATION:PT1H
X-Robots-Tag:noindex
X-PUBLISHED-TTL:PT1H
BEGIN:VTIMEZONE
TZID:UTC
BEGIN:STANDARD
TZOFFSETFROM:+0000
TZOFFSETTO:+0000
TZNAME:UTC
DTSTART:20240101T000000
END:STANDARD
END:VTIMEZONE
BEGIN:VEVENT
DTSTART;TZID=UTC:20250915T193000
DTEND;TZID=UTC:20250915T204500
DTSTAMP:20260426T022946
CREATED:20250915T000004Z
LAST-MODIFIED:20250915T000004Z
UID:10015921-1757964600-1757969100@www.vil.no
SUMMARY:Håndballkamp Varhaug - Sola
DESCRIPTION:
URL:https://www.vil.no/aktivitet/handballkamp-varhaug-sola/
LOCATION:Jæren Sparebank Arena\, Norge
CATEGORIES:Håndballkamper
END:VEVENT
BEGIN:VEVENT
DTSTART;TZID=UTC:20250921T100000
DTEND;TZID=UTC:20250921T105000
DTSTAMP:20260426T022946
CREATED:20250921T000004Z
LAST-MODIFIED:20250921T000004Z
UID:10015922-1758448800-1758451800@www.vil.no
SUMMARY:Håndballkamp Varhaug  - Voll 1
DESCRIPTION:
URL:https://www.vil.no/aktivitet/handballkamp-varhaug-voll-1/
LOCATION:Jæren Sparebank Arena\, Norge
CATEGORIES:Håndballkamper
END:VEVENT
BEGIN:VEVENT
DTSTART;TZID=UTC:20250921T120000
DTEND;TZID=UTC:20250921T125000
DTSTAMP:20260426T022946
CREATED:20250921T000004Z
LAST-MODIFIED:20250921T000004Z
UID:10016144-1758456000-1758459000@www.vil.no
SUMMARY:Håndballkamp Varhaug 2 - Sola 2
DESCRIPTION:
URL:https://www.vil.no/aktivitet/handballkamp-varhaug-2-sola-2-2/
LOCATION:Jæren Sparebank Arena\, Norge
CATEGORIES:Håndballkamper
END:VEVENT
BEGIN:VEVENT
DTSTART;TZID=UTC:20250921T151500
DTEND;TZID=UTC:20250921T160500
DTSTAMP:20260426T022946
CREATED:20250819T000005Z
LAST-MODIFIED:20250819T000005Z
UID:10015925-1758467700-1758470700@www.vil.no
SUMMARY:Håndballkamp Varhaug 1 - Rival
DESCRIPTION:
URL:https://www.vil.no/aktivitet/handballkamp-varhaug-1-rival/
LOCATION:Jæren Sparebank Arena\, Norge
CATEGORIES:Håndballkamper
END:VEVENT
BEGIN:VEVENT
DTSTART;TZID=UTC:20250921T170000
DTEND;TZID=UTC:20250921T175000
DTSTAMP:20260426T022946
CREATED:20250827T000003Z
LAST-MODIFIED:20250827T000003Z
UID:10015926-1758474000-1758477000@www.vil.no
SUMMARY:Håndballkamp Varhaug - Rival
DESCRIPTION:
URL:https://www.vil.no/aktivitet/handballkamp-varhaug-rival-2/
LOCATION:Jæren Sparebank Arena\, Norge
CATEGORIES:Håndballkamper
END:VEVENT
BEGIN:VEVENT
DTSTART;TZID=UTC:20250921T180000
DTEND;TZID=UTC:20250921T185000
DTSTAMP:20260426T022946
CREATED:20250821T000004Z
LAST-MODIFIED:20250821T000004Z
UID:10015928-1758477600-1758480600@www.vil.no
SUMMARY:Håndballkamp Varhaug - Hundvåg
DESCRIPTION:
URL:https://www.vil.no/aktivitet/handballkamp-varhaug-hundvag/
LOCATION:Jæren Sparebank Arena\, Norge
CATEGORIES:Håndballkamper
END:VEVENT
END:VCALENDAR