BEGIN:VCALENDAR
VERSION:2.0
PRODID:-//Varhaug IL - ECPv6.15.20//NONSGML v1.0//EN
CALSCALE:GREGORIAN
METHOD:PUBLISH
X-ORIGINAL-URL:https://www.vil.no
X-WR-CALDESC:Arrangement for Varhaug IL
REFRESH-INTERVAL;VALUE=DURATION:PT1H
X-Robots-Tag:noindex
X-PUBLISHED-TTL:PT1H
BEGIN:VTIMEZONE
TZID:UTC
BEGIN:STANDARD
TZOFFSETFROM:+0000
TZOFFSETTO:+0000
TZNAME:UTC
DTSTART:20250101T000000
END:STANDARD
END:VTIMEZONE
BEGIN:VEVENT
DTSTART;TZID=UTC:20260207T103000
DTEND;TZID=UTC:20260207T112000
DTSTAMP:20260425T105550
CREATED:20260206T000006Z
LAST-MODIFIED:20260206T000006Z
UID:10019025-1770460200-1770463200@www.vil.no
SUMMARY:Håndballkamp Varhaug - Sola 2
DESCRIPTION:
URL:https://www.vil.no/aktivitet/handballkamp-varhaug-sola-2-3/
LOCATION:Varhaughallen\, Opstadvegen 583\, Varhaug\, 4360\, Norge
CATEGORIES:Håndballkamper
END:VEVENT
BEGIN:VEVENT
DTSTART;TZID=UTC:20260207T120000
DTEND;TZID=UTC:20260207T130000
DTSTAMP:20260425T105550
CREATED:20260425T000002Z
LAST-MODIFIED:20260425T000002Z
UID:10019512-1770465600-1770469200@www.vil.no
SUMMARY:Håndballkamp Varhaug - Kopervik
DESCRIPTION:
URL:https://www.vil.no/aktivitet/handballkamp-varhaug-kopervik-2/
LOCATION:Jæren Sparebank Arena\, Norge
CATEGORIES:Håndballkamper
END:VEVENT
BEGIN:VEVENT
DTSTART;TZID=UTC:20260207T130000
DTEND;TZID=UTC:20260207T135000
DTSTAMP:20260425T105550
CREATED:20260425T000003Z
LAST-MODIFIED:20260425T000003Z
UID:10015923-1770469200-1770472200@www.vil.no
SUMMARY:Håndballkamp Varhaug  - Egersund
DESCRIPTION:
URL:https://www.vil.no/aktivitet/handballkamp-varhaug-egersund/
LOCATION:Jæren Sparebank Arena\, Norge
CATEGORIES:Håndballkamper
END:VEVENT
BEGIN:VEVENT
DTSTART;TZID=UTC:20260207T143000
DTEND;TZID=UTC:20260207T153000
DTSTAMP:20260425T105550
CREATED:20260425T000003Z
LAST-MODIFIED:20260425T000003Z
UID:10018890-1770474600-1770478200@www.vil.no
SUMMARY:Håndballkamp Varhaug - Kopervik
DESCRIPTION:
URL:https://www.vil.no/aktivitet/handballkamp-varhaug-kopervik/
LOCATION:Jæren Sparebank Arena\, Norge
CATEGORIES:Håndballkamper
END:VEVENT
BEGIN:VEVENT
DTSTART;TZID=UTC:20260207T144000
DTEND;TZID=UTC:20260207T153000
DTSTAMP:20260425T105550
CREATED:20260425T000003Z
LAST-MODIFIED:20260425T000003Z
UID:10019513-1770475200-1770478200@www.vil.no
SUMMARY:Håndballkamp Varhaug 2 - Rival
DESCRIPTION:
URL:https://www.vil.no/aktivitet/handballkamp-varhaug-2-rival-2/
LOCATION:Varhaughallen\, Opstadvegen 583\, Varhaug\, 4360\, Norge
CATEGORIES:Håndballkamper
END:VEVENT
BEGIN:VEVENT
DTSTART;TZID=UTC:20260207T163000
DTEND;TZID=UTC:20260207T174500
DTSTAMP:20260425T105550
CREATED:20260425T000003Z
LAST-MODIFIED:20260425T000003Z
UID:10019514-1770481800-1770486300@www.vil.no
SUMMARY:Håndballkamp Varhaug - Randesund 2
DESCRIPTION:
URL:https://www.vil.no/aktivitet/handballkamp-varhaug-randesund-2/
LOCATION:Varhaughallen\, Opstadvegen 583\, Varhaug\, 4360\, Norge
CATEGORIES:Håndballkamper
END:VEVENT
BEGIN:VEVENT
DTSTART;TZID=UTC:20260207T170000
DTEND;TZID=UTC:20260207T181500
DTSTAMP:20260425T105550
CREATED:20260425T000003Z
LAST-MODIFIED:20260425T000003Z
UID:10015912-1770483600-1770488100@www.vil.no
SUMMARY:Håndballkamp Varhaug - Åsane 2
DESCRIPTION:
URL:https://www.vil.no/aktivitet/handballkamp-varhaug-asane-2/
LOCATION:Jæren Sparebank Arena\, Norge
CATEGORIES:Håndballkamper
END:VEVENT
END:VCALENDAR