BEGIN:VCALENDAR
VERSION:2.0
PRODID:-//Varhaug IL - ECPv6.15.20//NONSGML v1.0//EN
CALSCALE:GREGORIAN
METHOD:PUBLISH
X-ORIGINAL-URL:https://www.vil.no
X-WR-CALDESC:Arrangement for Varhaug IL
REFRESH-INTERVAL;VALUE=DURATION:PT1H
X-Robots-Tag:noindex
X-PUBLISHED-TTL:PT1H
BEGIN:VTIMEZONE
TZID:UTC
BEGIN:STANDARD
TZOFFSETFROM:+0000
TZOFFSETTO:+0000
TZNAME:UTC
DTSTART:20250101T000000
END:STANDARD
END:VTIMEZONE
BEGIN:VEVENT
DTSTART;TZID=UTC:20260110T100000
DTEND;TZID=UTC:20260110T103000
DTSTAMP:20260425T124410
CREATED:20260110T000003Z
LAST-MODIFIED:20260110T000003Z
UID:10019001-1768039200-1768041000@www.vil.no
SUMMARY:Håndballkamp Varhaug 2 - Bryne
DESCRIPTION:
URL:https://www.vil.no/aktivitet/handballkamp-varhaug-2-bryne/
LOCATION:Jæren Sparebank Arena Mini 1
CATEGORIES:Håndballkamper
END:VEVENT
BEGIN:VEVENT
DTSTART;TZID=UTC:20260110T103000
DTEND;TZID=UTC:20260110T110000
DTSTAMP:20260425T124410
CREATED:20260110T000003Z
LAST-MODIFIED:20260110T000003Z
UID:10019002-1768041000-1768042800@www.vil.no
SUMMARY:Håndballkamp Varhaug 2 - Nærbø 3
DESCRIPTION:
URL:https://www.vil.no/aktivitet/handballkamp-varhaug-2-naerbo-3/
LOCATION:Jæren Sparebank Arena Mini 1
CATEGORIES:Håndballkamper
END:VEVENT
BEGIN:VEVENT
DTSTART;TZID=UTC:20260110T113000
DTEND;TZID=UTC:20260110T120000
DTSTAMP:20260425T124410
CREATED:20260110T000003Z
LAST-MODIFIED:20260110T000003Z
UID:10019004-1768044600-1768046400@www.vil.no
SUMMARY:Håndballkamp Varhaug 2 - Havdur
DESCRIPTION:
URL:https://www.vil.no/aktivitet/handballkamp-varhaug-2-havdur/
LOCATION:Jæren Sparebank Arena Mini 2
CATEGORIES:Håndballkamper
END:VEVENT
BEGIN:VEVENT
DTSTART;TZID=UTC:20260110T120000
DTEND;TZID=UTC:20260110T123000
DTSTAMP:20260425T124410
CREATED:20260110T000003Z
LAST-MODIFIED:20260110T000003Z
UID:10019005-1768046400-1768048200@www.vil.no
SUMMARY:Håndballkamp Nærbø 3 - Varhaug
DESCRIPTION:
URL:https://www.vil.no/aktivitet/handballkamp-naerbo-3-varhaug/
LOCATION:Jæren Sparebank Arena Mini 2
CATEGORIES:Håndballkamper
END:VEVENT
BEGIN:VEVENT
DTSTART;TZID=UTC:20260110T130000
DTEND;TZID=UTC:20260110T133000
DTSTAMP:20260425T124410
CREATED:20260110T000003Z
LAST-MODIFIED:20260110T000003Z
UID:10019006-1768050000-1768051800@www.vil.no
SUMMARY:Håndballkamp Bryne 2 - Varhaug
DESCRIPTION:
URL:https://www.vil.no/aktivitet/handballkamp-bryne-2-varhaug/
LOCATION:Jæren Sparebank Arena Mini 2
CATEGORIES:Håndballkamper
END:VEVENT
BEGIN:VEVENT
DTSTART;TZID=UTC:20260110T133000
DTEND;TZID=UTC:20260110T140000
DTSTAMP:20260425T124410
CREATED:20260110T000003Z
LAST-MODIFIED:20260110T000003Z
UID:10019007-1768051800-1768053600@www.vil.no
SUMMARY:Håndballkamp Varhaug  - Nærbø 4
DESCRIPTION:
URL:https://www.vil.no/aktivitet/handballkamp-varhaug-naerbo-4/
LOCATION:Jæren Sparebank Arena Mini 1
CATEGORIES:Håndballkamper
END:VEVENT
BEGIN:VEVENT
DTSTART;TZID=UTC:20260110T143000
DTEND;TZID=UTC:20260110T152000
DTSTAMP:20260425T124410
CREATED:20260110T000003Z
LAST-MODIFIED:20260110T000003Z
UID:10019011-1768055400-1768058400@www.vil.no
SUMMARY:Håndballkamp Varhaug  - Bryne
DESCRIPTION:
URL:https://www.vil.no/aktivitet/handballkamp-varhaug-bryne/
LOCATION:Jæren Sparebank Arena\, Norge
CATEGORIES:Håndballkamper
END:VEVENT
BEGIN:VEVENT
DTSTART;TZID=UTC:20260110T160000
DTEND;TZID=UTC:20260110T165000
DTSTAMP:20260425T124410
CREATED:20260110T000003Z
LAST-MODIFIED:20260110T000003Z
UID:10019012-1768060800-1768063800@www.vil.no
SUMMARY:Håndballkamp Varhaug 2 - Nærbø 3
DESCRIPTION:
URL:https://www.vil.no/aktivitet/handballkamp-varhaug-2-naerbo-3-2/
LOCATION:Varhaughallen\, Opstadvegen 583\, Varhaug\, 4360\, Norge
CATEGORIES:Håndballkamper
END:VEVENT
END:VCALENDAR