BEGIN:VCALENDAR
VERSION:2.0
PRODID:-//Varhaug IL - ECPv6.15.20//NONSGML v1.0//EN
CALSCALE:GREGORIAN
METHOD:PUBLISH
X-ORIGINAL-URL:https://www.vil.no
X-WR-CALDESC:Arrangement for Varhaug IL
REFRESH-INTERVAL;VALUE=DURATION:PT1H
X-Robots-Tag:noindex
X-PUBLISHED-TTL:PT1H
BEGIN:VTIMEZONE
TZID:UTC
BEGIN:STANDARD
TZOFFSETFROM:+0000
TZOFFSETTO:+0000
TZNAME:UTC
DTSTART:20240101T000000
END:STANDARD
END:VTIMEZONE
BEGIN:VEVENT
DTSTART;TZID=UTC:20251129T123000
DTEND;TZID=UTC:20251129T132000
DTSTAMP:20260425T160319
CREATED:20251129T000003Z
LAST-MODIFIED:20251129T000003Z
UID:10018782-1764419400-1764422400@www.vil.no
SUMMARY:Håndballkamp Varhaug - Sola 2
DESCRIPTION:
URL:https://www.vil.no/aktivitet/handballkamp-varhaug-sola-2-2/
LOCATION:Jæren Sparebank Arena\, Norge
CATEGORIES:Håndballkamper
END:VEVENT
BEGIN:VEVENT
DTSTART;TZID=UTC:20251129T143000
DTEND;TZID=UTC:20251129T153000
DTSTAMP:20260425T160319
CREATED:20251129T000003Z
LAST-MODIFIED:20251129T000003Z
UID:10018784-1764426600-1764430200@www.vil.no
SUMMARY:Håndballkamp Varhaug - Hana 2
DESCRIPTION:
URL:https://www.vil.no/aktivitet/handballkamp-varhaug-hana-2/
LOCATION:Jæren Sparebank Arena\, Norge
CATEGORIES:Håndballkamper
END:VEVENT
END:VCALENDAR