BEGIN:VCALENDAR
VERSION:2.0
PRODID:-//Varhaug IL - ECPv6.15.20//NONSGML v1.0//EN
CALSCALE:GREGORIAN
METHOD:PUBLISH
X-ORIGINAL-URL:https://www.vil.no
X-WR-CALDESC:Arrangement for Varhaug IL
REFRESH-INTERVAL;VALUE=DURATION:PT1H
X-Robots-Tag:noindex
X-PUBLISHED-TTL:PT1H
BEGIN:VTIMEZONE
TZID:UTC
BEGIN:STANDARD
TZOFFSETFROM:+0000
TZOFFSETTO:+0000
TZNAME:UTC
DTSTART:20240101T000000
END:STANDARD
END:VTIMEZONE
BEGIN:VEVENT
DTSTART;TZID=UTC:20251122T100000
DTEND;TZID=UTC:20251122T105000
DTSTAMP:20260425T160332
CREATED:20251122T000005Z
LAST-MODIFIED:20251122T000005Z
UID:10018716-1763805600-1763808600@www.vil.no
SUMMARY:Håndballkamp Varhaug  - Stavanger 2
DESCRIPTION:
URL:https://www.vil.no/aktivitet/handballkamp-varhaug-stavanger-2/
LOCATION:Jæren Sparebank Arena\, Norge
CATEGORIES:Håndballkamper
END:VEVENT
BEGIN:VEVENT
DTSTART;TZID=UTC:20251122T113000
DTEND;TZID=UTC:20251122T122000
DTSTAMP:20260425T160332
CREATED:20251122T000006Z
LAST-MODIFIED:20251122T000006Z
UID:10018720-1763811000-1763814000@www.vil.no
SUMMARY:Håndballkamp Varhaug  - Ålgård 3
DESCRIPTION:
URL:https://www.vil.no/aktivitet/handballkamp-varhaug-algard-3-2/
LOCATION:Jæren Sparebank Arena\, Norge
CATEGORIES:Håndballkamper
END:VEVENT
BEGIN:VEVENT
DTSTART;TZID=UTC:20251122T123000
DTEND;TZID=UTC:20251122T132000
DTSTAMP:20260425T160332
CREATED:20251122T000006Z
LAST-MODIFIED:20251122T000006Z
UID:10015924-1763814600-1763817600@www.vil.no
SUMMARY:Håndballkamp Varhaug  - Sola
DESCRIPTION:
URL:https://www.vil.no/aktivitet/handballkamp-varhaug-sola-3/
LOCATION:Jæren Sparebank Arena\, Norge
CATEGORIES:Håndballkamper
END:VEVENT
BEGIN:VEVENT
DTSTART;TZID=UTC:20251122T134000
DTEND;TZID=UTC:20251122T144000
DTSTAMP:20260425T160332
CREATED:20251122T000006Z
LAST-MODIFIED:20251122T000006Z
UID:10018721-1763818800-1763822400@www.vil.no
SUMMARY:Håndballkamp Varhaug - Stavanger
DESCRIPTION:
URL:https://www.vil.no/aktivitet/handballkamp-varhaug-stavanger-3/
LOCATION:Jæren Sparebank Arena\, Norge
CATEGORIES:Håndballkamper
END:VEVENT
BEGIN:VEVENT
DTSTART;TZID=UTC:20251122T150000
DTEND;TZID=UTC:20251122T161000
DTSTAMP:20260425T160332
CREATED:20251122T000006Z
LAST-MODIFIED:20251122T000006Z
UID:10018722-1763823600-1763827800@www.vil.no
SUMMARY:Håndballkamp Varhaug 2 - Kopervik
DESCRIPTION:
URL:https://www.vil.no/aktivitet/handballkamp-varhaug-2-kopervik/
LOCATION:Jæren Sparebank Arena\, Norge
CATEGORIES:Håndballkamper
END:VEVENT
BEGIN:VEVENT
DTSTART;TZID=UTC:20251122T163000
DTEND;TZID=UTC:20251122T174500
DTSTAMP:20260425T160332
CREATED:20251122T000006Z
LAST-MODIFIED:20251122T000006Z
UID:10018737-1763829000-1763833500@www.vil.no
SUMMARY:Håndballkamp Varhaug - Nord
DESCRIPTION:
URL:https://www.vil.no/aktivitet/handballkamp-varhaug-nord/
LOCATION:Jæren Sparebank Arena\, Norge
CATEGORIES:Håndballkamper
END:VEVENT
BEGIN:VEVENT
DTSTART;TZID=UTC:20251122T181500
DTEND;TZID=UTC:20251122T191500
DTSTAMP:20260425T160332
CREATED:20251122T000006Z
LAST-MODIFIED:20251122T000006Z
UID:10018748-1763835300-1763838900@www.vil.no
SUMMARY:Håndballkamp Varhaug - Nord
DESCRIPTION:
URL:https://www.vil.no/aktivitet/handballkamp-varhaug-nord-2/
LOCATION:Jæren Sparebank Arena\, Norge
CATEGORIES:Håndballkamper
END:VEVENT
END:VCALENDAR