BEGIN:VCALENDAR
VERSION:2.0
PRODID:-//Varhaug IL - ECPv6.15.20//NONSGML v1.0//EN
CALSCALE:GREGORIAN
METHOD:PUBLISH
X-WR-CALNAME:Varhaug IL
X-ORIGINAL-URL:https://www.vil.no
X-WR-CALDESC:Arrangement for Varhaug IL
REFRESH-INTERVAL;VALUE=DURATION:PT1H
X-Robots-Tag:noindex
X-PUBLISHED-TTL:PT1H
BEGIN:VTIMEZONE
TZID:UTC
BEGIN:STANDARD
TZOFFSETFROM:+0000
TZOFFSETTO:+0000
TZNAME:UTC
DTSTART:20240101T000000
END:STANDARD
END:VTIMEZONE
BEGIN:VEVENT
DTSTART;TZID=UTC:20251109T100000
DTEND;TZID=UTC:20251109T105000
DTSTAMP:20260425T160046
CREATED:20251109T000005Z
LAST-MODIFIED:20251109T000005Z
UID:10018674-1762682400-1762685400@www.vil.no
SUMMARY:Håndballkamp Varhaug  - Havørn
DESCRIPTION:
URL:https://www.vil.no/aktivitet/handballkamp-varhaug-havorn/
LOCATION:Jæren Sparebank Arena\, Norge
CATEGORIES:Håndballkamper
END:VEVENT
BEGIN:VEVENT
DTSTART;TZID=UTC:20251109T100000
DTEND;TZID=UTC:20251109T105000
DTSTAMP:20260425T160046
CREATED:20251109T000005Z
LAST-MODIFIED:20251109T000005Z
UID:10018675-1762682400-1762685400@www.vil.no
SUMMARY:Håndballkamp Varhaug  - Sola 2
DESCRIPTION:
URL:https://www.vil.no/aktivitet/handballkamp-varhaug-sola-2/
LOCATION:Varhaughallen\, Opstadvegen 583\, Varhaug\, 4360\, Norge
CATEGORIES:Håndballkamper
END:VEVENT
BEGIN:VEVENT
DTSTART;TZID=UTC:20251109T113000
DTEND;TZID=UTC:20251109T122000
DTSTAMP:20260425T160046
CREATED:20251109T000005Z
LAST-MODIFIED:20251109T000005Z
UID:10018676-1762687800-1762690800@www.vil.no
SUMMARY:Håndballkamp Varhaug  - Lura
DESCRIPTION:
URL:https://www.vil.no/aktivitet/handballkamp-varhaug-lura/
LOCATION:Varhaughallen\, Opstadvegen 583\, Varhaug\, 4360\, Norge
CATEGORIES:Håndballkamper
END:VEVENT
BEGIN:VEVENT
DTSTART;TZID=UTC:20251109T120000
DTEND;TZID=UTC:20251109T125000
DTSTAMP:20260425T160046
CREATED:20251109T000005Z
LAST-MODIFIED:20251109T000005Z
UID:10018677-1762689600-1762692600@www.vil.no
SUMMARY:Håndballkamp Varhaug 2 - Tastavarden
DESCRIPTION:
URL:https://www.vil.no/aktivitet/handballkamp-varhaug-2-tastavarden/
LOCATION:Jæren Sparebank Arena\, Norge
CATEGORIES:Håndballkamper
END:VEVENT
BEGIN:VEVENT
DTSTART;TZID=UTC:20251109T123000
DTEND;TZID=UTC:20251109T133000
DTSTAMP:20260425T160046
CREATED:20251109T000005Z
LAST-MODIFIED:20251109T000005Z
UID:10018684-1762691400-1762695000@www.vil.no
SUMMARY:Håndballkamp Varhaug - Stavanger
DESCRIPTION:
URL:https://www.vil.no/aktivitet/handballkamp-varhaug-stavanger/
LOCATION:Varhaughallen\, Opstadvegen 583\, Varhaug\, 4360\, Norge
CATEGORIES:Håndballkamper
END:VEVENT
BEGIN:VEVENT
DTSTART;TZID=UTC:20251109T140000
DTEND;TZID=UTC:20251109T151500
DTSTAMP:20260425T160046
CREATED:20251109T000005Z
LAST-MODIFIED:20251109T000005Z
UID:10018678-1762696800-1762701300@www.vil.no
SUMMARY:Håndballkamp Varhaug - Kristiansand
DESCRIPTION:
URL:https://www.vil.no/aktivitet/handballkamp-varhaug-kristiansand/
LOCATION:Jæren Sparebank Arena\, Norge
CATEGORIES:Håndballkamper
END:VEVENT
BEGIN:VEVENT
DTSTART;TZID=UTC:20251109T145000
DTEND;TZID=UTC:20251109T154000
DTSTAMP:20260425T160046
CREATED:20251109T000005Z
LAST-MODIFIED:20251109T000005Z
UID:10018679-1762699800-1762702800@www.vil.no
SUMMARY:Håndballkamp Varhaug - Vigrestad
DESCRIPTION:
URL:https://www.vil.no/aktivitet/handballkamp-varhaug-vigrestad/
LOCATION:Varhaughallen\, Opstadvegen 583\, Varhaug\, 4360\, Norge
CATEGORIES:Håndballkamper
END:VEVENT
BEGIN:VEVENT
DTSTART;TZID=UTC:20251109T155000
DTEND;TZID=UTC:20251109T164000
DTSTAMP:20260425T160046
CREATED:20251109T000005Z
LAST-MODIFIED:20251109T000005Z
UID:10018680-1762703400-1762706400@www.vil.no
SUMMARY:Håndballkamp Varhaug - Åkra IL
DESCRIPTION:
URL:https://www.vil.no/aktivitet/handballkamp-varhaug-akra-il/
LOCATION:Varhaughallen\, Opstadvegen 583\, Varhaug\, 4360\, Norge
CATEGORIES:Håndballkamper
END:VEVENT
BEGIN:VEVENT
DTSTART;TZID=UTC:20251109T160000
DTEND;TZID=UTC:20251109T171500
DTSTAMP:20260425T160046
CREATED:20251109T000005Z
LAST-MODIFIED:20251109T000005Z
UID:10015908-1762704000-1762708500@www.vil.no
SUMMARY:Håndballkamp Varhaug - Viking TIF 2
DESCRIPTION:
URL:https://www.vil.no/aktivitet/handballkamp-varhaug-viking-tif-2-2/
LOCATION:Jæren Sparebank Arena\, Norge
CATEGORIES:Håndballkamper
END:VEVENT
END:VCALENDAR