BEGIN:VCALENDAR
VERSION:2.0
PRODID:-//Varhaug IL - ECPv6.15.20//NONSGML v1.0//EN
CALSCALE:GREGORIAN
METHOD:PUBLISH
X-ORIGINAL-URL:https://www.vil.no
X-WR-CALDESC:Arrangement for Varhaug IL
REFRESH-INTERVAL;VALUE=DURATION:PT1H
X-Robots-Tag:noindex
X-PUBLISHED-TTL:PT1H
BEGIN:VTIMEZONE
TZID:UTC
BEGIN:STANDARD
TZOFFSETFROM:+0000
TZOFFSETTO:+0000
TZNAME:UTC
DTSTART:20240101T000000
END:STANDARD
END:VTIMEZONE
BEGIN:VEVENT
DTSTART;TZID=UTC:20251101T140000
DTEND;TZID=UTC:20251101T145000
DTSTAMP:20260425T160335
CREATED:20251101T000004Z
LAST-MODIFIED:20251101T000004Z
UID:10018757-1762005600-1762008600@www.vil.no
SUMMARY:Håndballkamp Havdur 1 - Varhaug
DESCRIPTION:
URL:https://www.vil.no/aktivitet/handballkamp-havdur-1-varhaug/
LOCATION:Jæren Sparebank Arena\, Norge
CATEGORIES:Håndballkamper
END:VEVENT
BEGIN:VEVENT
DTSTART;TZID=UTC:20251101T170000
DTEND;TZID=UTC:20251101T175000
DTSTAMP:20260425T160335
CREATED:20251101T000004Z
LAST-MODIFIED:20251101T000004Z
UID:10018673-1762016400-1762019400@www.vil.no
SUMMARY:Håndballkamp Varhaug  - Åkra 3
DESCRIPTION:
URL:https://www.vil.no/aktivitet/handballkamp-varhaug-akra-3/
LOCATION:Jæren Sparebank Arena\, Norge
CATEGORIES:Håndballkamper
END:VEVENT
END:VCALENDAR